BEGIN:VCALENDAR
VERSION:2.0
PRODID:-//ChamberMaster//Event Calendar 2.0//EN
METHOD:PUBLISH
X-PUBLISHED-TTL:P3D
REFRESH-INTERVAL:P3D
CALSCALE:GREGORIAN
BEGIN:VEVENT
DTSTART:20201008T220000Z
DTEND:20201009T000000Z
X-MICROSOFT-CDO-ALLDAYEVENT:FALSE
SUMMARY:Niles Teen Center Grand Re-Opening & Ribbon Cutting
DESCRIPTION:Join us for a Ribbon Cutting and Grand Re-Opening of\n\nThe Niles Teen Center located at 373 Golf Mill Center (inside the mall)\n\nMayor Przybylo and Village Elected Officials will join in the festivities!\n\n\n\nCome see the renovations and learn about all of the good things the\n\nNiles Teen Center is doing in our Community! \n\n\n\nAll are welcome to join us in this celebratory moment!\n\nNot able to join us in person? \n\nGo to the Niles Chamber of Commerce & Industry Facebook Page to view the livestream of the Ribbon Cutting! \n\n\n\nWe will follow all CDC safety and social distancing guidelines. Registration is encouraged as we will need to follow capacity guidelines for this venue.
X-ALT-DESC;FMTTYPE=text/html:<div style="text-align: center\;"><span style="font-size:16px\;"><span style="font-family:tahoma\;">Join us for a Ribbon Cutting and Grand Re-Opening of<br />\n<a href="https://www.vniles.com/1280/ALL-THINGS-TEEN">The Niles Teen Center</a>&nbsp\;located at 373 Golf Mill Center (inside the mall)<br />\nMayor Przybylo and Village Elected Officials will join in the festivities!<br />\n<br />\nCome see the renovations and&nbsp\;learn about all of the good things the<br />\nNiles Teen Center is doing in our Community!&nbsp\;<br />\n<br />\n<span style="text-align: center\; white-space: pre-wrap\; color: rgb(29\, 33\, 41)\;">All are welcome to join us in this celebratory moment!</span><br />\n<span style="text-align: center\; white-space: pre-wrap\; color: rgb(29\, 33\, 41)\; font-style: italic\; font-weight: bold\;">Not able to join us in person? </span><br />\n<span style="text-align: center\; white-space: pre-wrap\; color: rgb(29\, 33\, 41)\;">Go to the </span><a href="http://r20.rs6.net/tn.jsp?f=001Sexpgdf5hhmuG4QeDg5JlPmVv8JGde8hKMw0D4FFTH2Vv0iGAnWFISMQp9d9c1jVZ8aVITqoTCTGndbgspe_jdqb40JQFogFf3vpFpZdUZRKiK0Gwts8VSUXhvu2sYOtFJkpwChYQr08dRtkz6vFUij6qp84NWIY4E9qWJOaCz1v3BLg95Bb5R06Bxvc33rDy1vI56T5iLhwVNQhPnXiUMyxhqJwYaGn&amp\;c=diaQQ71wnGC9D_rS9V59aJPRUL4bKe6n7jzdqC0xlCpKGGdATuXhnQ==&amp\;ch=AeiI2UVx5hsuUWd77BN9hLDVminN0cf_DTKq2Bxyx96GUiH6ICzENw==" rel="noopener noreferrer" style="color: rgb(54\, 97\, 189)\; font-size: 14px\; text-align: center\; white-space: pre-wrap\; font-family: Arial\, Verdana\, Helvetica\, sans-serif\;" target="_blank">Niles Chamber of Commerce &amp\; Industry Facebook Page</a><span style="text-align: center\; white-space: pre-wrap\; color: rgb(29\, 33\, 41)\;"> to view the livestream of the Ribbon Cutting!</span><span style="color: rgb(54\, 73\, 95)\; text-align: center\; white-space: pre-wrap\;">&nbsp\;</span><br />\n<br />\n<span style="color: rgb(28\, 30\, 33)\; font-style: italic\; white-space: pre-wrap\;">We will follow all CDC safety and social distancing guidelines. Registration is encouraged as we will need to follow capacity guidelines for this venue.</span></span></span></div>\n
LOCATION:Niles Teen Center 373 Golf Mill Center
UID:e.151.4946
SEQUENCE:3
DTSTAMP:20260420T061647Z
URL:https://business.nileschamber.com/events/details/niles-teen-center-grand-re-opening-ribbon-cutting-4946
END:VEVENT

END:VCALENDAR
