BEGIN:VCALENDAR
VERSION:2.0
PRODID:-//ChamberMaster//Event Calendar 2.0//EN
METHOD:PUBLISH
X-PUBLISHED-TTL:P3D
REFRESH-INTERVAL:P3D
CALSCALE:GREGORIAN
BEGIN:VEVENT
DTSTART:20211019T123000Z
DTEND:20211019T140000Z
X-MICROSOFT-CDO-ALLDAYEVENT:FALSE
SUMMARY:Niles Morning Network - Chicago Area Retail Sales Trends
DESCRIPTION:Niles Morning Network in Person\n\nat the\n\nNiles-Maine District Library!\n\nMasks are required to enter and are to be worn when not actively eating or drinking \n\n\n\nChicago Area Retail Sales Trends\n\n\n\nJoin us as John C. Melaniphy III\, Director of Economic Development for the Village of Niles provides an update on Chicago Area retail sales trends and what they could mean for your business. \n\n\n\nAfter this short educational presentation we will welcome our newest Chamber Partners and then everyone will give a 30 second intro.  This is a great way to connect with your Chamber Network before the day begins! Please feel free to invite a friend to join you!\n\n\n\nIf you or your organization would like to sponsor breakfast for this session of the Niles Morning Network\, please contact Kim Biederman at kim@nileschamber.com or 847-268-8180.  Breakfast sponsors receive signage at the event and will be given five minutes to speak to all in attendance about their products and/or services.
X-ALT-DESC;FMTTYPE=text/html:<p style="text-align: center\;"><span style="font-size:16px\;"><span style="font-family:tahoma\;"><strong><span style="font-size:18px\;"><span style="font-size:20px\;">Niles Morning Network in Person<br />\nat the<br />\nNiles-Maine District&nbsp\;Library!</span></span><br />\n<span style="font-size:14px\;"><span style="color:#ff0000\;">Masks are required to enter and are to be worn when not actively eating or drinking&nbsp\;</span></span></strong></span></span><br />\n<br />\n<span style="font-size: 18px\;"><b>Chicago Area Retail Sales Trends</b></span><br />\n<br />\n<span style="font-size:18px\;"><span style="font-family:tahoma\;">Join us as John C. Melaniphy III\, Director of Economic Development for the Village of Niles&nbsp\;provides an update on Chicago Area retail sales trends and what they&nbsp\;could mean for your business.&nbsp\;</span></span><br />\n<br />\n<span style="font-size:16px\;"><span style="font-family:tahoma\;">After this short educational presentation we will welcome our newest Chamber Partners and then everyone will give a 30 second intro.&nbsp\; This is a great way to connect with your Chamber Network before the day begins! Please feel free to invite a friend to join you!<br />\n<br />\nIf you or your organization would like to sponsor breakfast for this session of the Niles Morning Network\, please contact Kim Biederman at <a href="mailto:kim@nileschamber.com">kim@nileschamber.com</a> or 847-268-8180.&nbsp\; Breakfast sponsors receive signage at the event and will be given five minutes to speak to all in attendance about their products and/or services.&nbsp\;&nbsp\;</span></span></p>\n
LOCATION:Niles-Maine District Library 6960 W Oakton Street Niles\, IL 60714
UID:e.151.5141
SEQUENCE:3
DTSTAMP:20260419T143637Z
URL:https://business.nileschamber.com/events/details/niles-morning-network-chicago-area-retail-sales-trends-5141
END:VEVENT

END:VCALENDAR
