BEGIN:VCALENDAR
VERSION:2.0
PRODID:-//ChamberMaster//Event Calendar 2.0//EN
METHOD:PUBLISH
X-PUBLISHED-TTL:P3D
REFRESH-INTERVAL:P3D
CALSCALE:GREGORIAN
BEGIN:VEVENT
DTSTART:20120531T130000Z
DTEND:20120531T140000Z
X-MICROSOFT-CDO-ALLDAYEVENT:FALSE
SUMMARY:NetConnect Leads Group
DESCRIPTION:NetConnect Leads Group
X-ALT-DESC;FMTTYPE=text/html:NetConnect&nbsp\;Leads Group
LOCATION:BMO Harris Bank 7077 W. Dempster Street Niles\, IL 60714
UID:e.151.743
SEQUENCE:3
DTSTAMP:20260419T175457Z
URL:https://business.nileschamber.com/events/details/netconnect-leads-group-05-31-2012-743
END:VEVENT

END:VCALENDAR
