BEGIN:VCALENDAR
VERSION:2.0
PRODID:-//ChamberMaster//Event Calendar 2.0//EN
METHOD:PUBLISH
X-PUBLISHED-TTL:P3D
REFRESH-INTERVAL:P3D
CALSCALE:GREGORIAN
BEGIN:VEVENT
DTSTART:20211014T170000Z
DTEND:20211014T183000Z
X-MICROSOFT-CDO-ALLDAYEVENT:FALSE
SUMMARY:Multi-Chamber Mega Connect Virtual Networking Luncheon - October
DESCRIPTION:Multiply your networking potential! Members looking for a productive networking experience will enjoy the structured format of this program\, which gives each participant an opportunity to speak to a receptive audience about his/her company's products and services.\n\n\n\nWe will gather with the Arlington Heights\, Buffalo Grove/Lincolnshire\, Deerfield/Bannockburn/Riverwoods\, Des Plaines\, Edgebrook / Sauganash\, Evanston\, Gladstone Park\, Glenview\, Highland Park\, Lake Forest/Lake Bluff \, LGBTCC\, Lincolnwood\, Morton Grove\, Niles\, Northbrook\, Portage Park\, Rosemont\, Skokie\, Uptown\, Greater Wheeling Area\, Wilmette/Kenilworth\, and Winnetka/Northfield/Glencoe Chambers of Commerce!\n\n\n\nThe event will begin with informal networking in your first small group while you enjoy lunch from your favorite local restaurant\, we are encouraging this to help support our local businesses! \n\n\n\nAttendees will then be divided into rotations where everyone will give 2-minute presentations on their companies. There will be three\, random rotations through Breakout Rooms to get you maximum exposure for your business. In addition\, everyone will receive a contact list of participants via email after the event. Don't miss this unique opportunity to expand your reach and resources while maintaining your social distance!\n\n\n\nThe deadline to register and pay is October 11 at 5:00pm\n\n \n\nLogging in on time will be important as we assign the random groups.\n\n\n\nLooking forward to seeing everyone!!
X-ALT-DESC;FMTTYPE=text/html:<div style="text-align: center\;"><span style="font-size:16px\;"><span style="font-family:tahoma\;"><span style="color:#000000\;"><em>Multiply your networking potential! </em>Members looking for a productive networking experience will enjoy the structured format of&nbsp\;this program\, which gives each participant an opportunity to speak to a receptive audience about his/her company&rsquo\;s products and services.<br />\n<br />\nWe will gather with&nbsp\;the Arlington Heights\, Buffalo Grove/Lincolnshire\, Deerfield/Bannockburn/Riverwoods\, Des Plaines\, Edgebrook / Sauganash\, Evanston\, Gladstone Park\, Glenview\, Highland Park\, Lake Forest/Lake Bluff \, LGBTCC\, Lincolnwood\, Morton Grove\, Niles\, Northbrook\, Portage Park\, Rosemont\, Skokie\, Uptown\, Greater Wheeling Area\, Wilmette/Kenilworth\, and Winnetka/Northfield/</span></span></span><span style="color: rgb(0\, 0\, 0)\; font-family: tahoma\; font-size: 16px\; text-align: center\;">Glencoe</span><span style="font-size:16px\;"><span style="font-family:tahoma\;"><span style="color:#000000\;"> Chambers of Commerce!<br />\n<br />\nThe event will begin with informal networking in your first small group while you enjoy lunch from your favorite local restaurant\, we are encouraging this to help support our local businesses!&nbsp\;<br />\n<br />\nAttendees will then be divided into rotations where everyone will give 2-minute presentations on their companies. There will be three\, random rotations through Breakout Rooms to get you maximum exposure for your business. In addition\, everyone will receive a contact list of participants via email after the event. Don&rsquo\;t miss this unique opportunity to expand your reach and resources while maintaining your social distance!<br />\n<br />\n<strong>The deadline to register and pay is October 11 at 5:00pm</strong><br />\n&nbsp\;<br />\nLogging in on time will be important as we assign the random groups.<br />\n<br />\nLooking forward to seeing everyone!!</span></span></span></div>\n
LOCATION:Virtual - Via Zoom
UID:e.151.5140
SEQUENCE:3
DTSTAMP:20260419T143058Z
URL:https://business.nileschamber.com/events/details/multi-chamber-mega-connect-virtual-networking-luncheon-october-5140
END:VEVENT

END:VCALENDAR
