BEGIN:VCALENDAR
VERSION:2.0
PRODID:-//ChamberMaster//Event Calendar 2.0//EN
METHOD:PUBLISH
X-PUBLISHED-TTL:P3D
REFRESH-INTERVAL:P3D
CALSCALE:GREGORIAN
BEGIN:VEVENT
DTSTART:20211013T123000Z
DTEND:20211013T143000Z
X-MICROSOFT-CDO-ALLDAYEVENT:FALSE
SUMMARY:Multi-Chamber Breakfast with Your Legislators
DESCRIPTION:Multi-Chamber\n\nBreakfast with Your Legislators\n\n\n\nWe are partnering with the Edgebrook-Sauganash\, Edison Park\, Gladstone Park\, Norwood Park Chambers of Commerce\, and Pulaski Elston Business Association to bring you Breakfast with Your Legislators.\n\n\n\nAt this event you will have an opportunity to meet and network with your elected officials.  The legislators that you can expect to meet include: \n\n10th District Cook County Commissioner Bridget Gainer\n\n39th Ward Alderman Samantha Nugent\n\n41st Ward Alderman Anthony Napolitano\n\n45th Ward Alderman Jim Gardiner\n\n9th District Cook County Commissioner Peter Silvestri\n\nCongresswoman Jan Schakowsky\n\nState Representative Brad Stephens\n\nState Representative Lindsey LaPointe\n\nState Senator Robert Martwick
X-ALT-DESC;FMTTYPE=text/html:<div style="text-align: center\;"><span style="font-size:16px\;"><span style="font-family:tahoma\;"><span style="color:#000000\;"><span style="font-size:20px\;"><strong>Multi-Chamber<br />\nBreakfast with Your Legislators</strong></span><br />\n<br />\n<span style="font-size:14px\;"><span style="font-size:16px\;">We are partnering with the Edgebrook-Sauganash\, Edison Park\, Gladstone Park\, Norwood Park Chambers of Commerce\, and Pulaski Elston Business Association to bring you Breakfast with Your Legislators.</span><br />\n<br />\nAt this event you will have an opportunity to meet and network with your elected officials.&nbsp\; The legislators that you can expect to meet include:&nbsp\;<br />\n<strong>10th District Cook County Commissioner Bridget Gainer<br />\n39th Ward Alderman Samantha Nugent<br />\n41st Ward Alderman Anthony Napolitano<br />\n45th Ward Alderman Jim Gardiner<br />\n9th District Cook County Commissioner Peter Silvestri<br />\nCongresswoman Jan Schakowsky<br />\nState Representative Brad Stephens<br />\nState Representative Lindsey LaPointe<br />\nState Senator Robert Martwick</strong></span></span></span></span></div>\n
LOCATION:Caf Touche 6731 N. Northwest Highway Chicago\, IL 60631
UID:e.151.5148
SEQUENCE:3
DTSTAMP:20260419T143058Z
URL:https://business.nileschamber.com/events/details/multi-chamber-breakfast-with-your-legislators-5148
END:VEVENT

END:VCALENDAR
