BEGIN:VCALENDAR
VERSION:2.0
PRODID:-//ChamberMaster//Event Calendar 2.0//EN
METHOD:PUBLISH
X-PUBLISHED-TTL:P3D
REFRESH-INTERVAL:P3D
CALSCALE:GREGORIAN
BEGIN:VEVENT
DTSTART:20211012T140000Z
DTEND:20211012T153000Z
X-MICROSOFT-CDO-ALLDAYEVENT:FALSE
SUMMARY:Chick-fil-A Golf Mill Ribbon Cutting
DESCRIPTION:Join the Chamber and the Niles Community for a\n\nRibbon Cutting at \n\nChick-fil-A Golf Mill located at 8575 W. Golf Road\, Niles\, Illinois.\n\n \n\nAll are welcome to join us in this celebratory moment! Not able to join us in person? \n\nGo to the Niles Chamber of Commerce & Industry Facebook Page to view the livestream of the Ribbon Cutting!\n\nMayor Alpogianis\, Village Trustees\, and members of the Niles Chamber Board of Directors will be on hand for the celebration!\n\nRibbon Cutting at 9:30am!\n\n \n\nWe will follow all CDC safety and social distancing guidelines.
X-ALT-DESC;FMTTYPE=text/html:<div style="color: rgb(96\, 109\, 120)\; font-family: Helvetica\, Arial\, sans-serif\; font-size: 14px\; white-space: pre-wrap\; text-align: center\;"><span style="font-size:16px\;"><span style="font-family:tahoma\;"><span style="color: rgb(0\, 0\, 0)\;">Join the Chamber and the Niles Community for a<br />\nRibbon Cutting at&nbsp\;<br />\n<a href="https://business.nileschamber.com/list/member/chick-fil-a-golf-mill-4954">Chick-fil-A Golf Mill</a> located at 8575 W. Golf Road\, Niles\, Illinois.</span></span></span></div>\n\n<div style="color: rgb(96\, 109\, 120)\; font-family: Helvetica\, Arial\, sans-serif\; font-size: 14px\; white-space: pre-wrap\; text-align: center\;">&nbsp\;</div>\n\n<div style="color: rgb(96\, 109\, 120)\; font-family: Helvetica\, Arial\, sans-serif\; font-size: 14px\; white-space: pre-wrap\; text-align: center\;"><span style="font-size:16px\;"><span style="font-family:tahoma\;"><span style="color: rgb(0\, 0\, 0)\; font-weight: bold\; font-style: italic\;">All are welcome to join us in this celebratory moment!&nbsp\;Not able to join us in person?&nbsp\;</span><br />\n<span style="color: rgb(0\, 0\, 0)\;">Go to the&nbsp\;</span><a href="http://www.facebook.com/Niles-Chamber-of-Commerce-and-Industry-261725676177/">Niles Chamber of Commerce &amp\; Industry Facebook Page</a><span style="color: rgb(0\, 0\, 0)\;">&nbsp\;to view the livestream of the Ribbon Cutting!<br />\nMayor Alpogianis\, Village Trustees\, and members of the Niles Chamber Board of Directors will be on hand for the celebration!<br />\nRibbon Cutting at 9:30am!</span></span></span></div>\n\n<div style="color: rgb(96\, 109\, 120)\; font-family: Helvetica\, Arial\, sans-serif\; font-size: 14px\; white-space: pre-wrap\; text-align: center\;">&nbsp\;</div>\n\n<div style="color: rgb(96\, 109\, 120)\; font-family: Helvetica\, Arial\, sans-serif\; font-size: 14px\; white-space: pre-wrap\; text-align: center\;"><span style="font-size:16px\;"><span style="font-family:tahoma\;"><span style="color: rgb(0\, 0\, 0)\; font-style: italic\;">We will follow all CDC safety and social distancing guidelines.</span></span></span></div>\n
LOCATION:8575 W. Golf Road Niles\, Illinois 60714
UID:e.151.5149
SEQUENCE:3
DTSTAMP:20260419T143434Z
URL:https://business.nileschamber.com/events/details/chick-fil-a-golf-mill-ribbon-cutting-5149
END:VEVENT

END:VCALENDAR
