BEGIN:VCALENDAR
VERSION:2.0
PRODID:-//ChamberMaster//Event Calendar 2.0//EN
METHOD:PUBLISH
X-PUBLISHED-TTL:P3D
REFRESH-INTERVAL:P3D
CALSCALE:GREGORIAN
BEGIN:VEVENT
DTSTART:20211007T220000Z
DTEND:20211008T000000Z
X-MICROSOFT-CDO-ALLDAYEVENT:FALSE
SUMMARY:Business After Hours @ Notre Dame College Prep
DESCRIPTION:Join us at the Home of the Dons!\n\nGather with fellow Chamber partners at a true pillar of the community for a fun night of networking and wonderful food catered by D'Agostinos.  If you have never been inside Notre Dame College Prep\, this is a great opportunity to get a look at the largest all-male school in the STATE\, and learn why NDCP students\, faculty\, staff\, parents\, and alumni are such a tight knit and loyal community.  \n\n\n\nThis event will take place in the school's library and (weather permitting) the adjacent outdoor courtyard.  Please enter through the main entrance (doors on the north facing portion of the building).
X-ALT-DESC;FMTTYPE=text/html:<div style="text-align: center\;"><span style="font-size:16px\;"><span style="font-family:tahoma\;"><span style="font-size:20px\;">Join us at the Home of the Dons!</span></span></span><br />\n<span style="font-size:16px\;"><span style="font-family:tahoma\;">Gather with fellow Chamber partners at a true pillar of the community for a fun night of networking and wonderful food catered by <strong><a href="https://business.nileschamber.com/list/member/d-agostinos-pizza-pub-4907">D&#39\;Agostinos</a></strong>.&nbsp\; If you have never been inside <strong><a href="https://business.nileschamber.com/list/member/notre-dame-college-prep-196">Notre Dame College Prep</a></strong>\, this is a great opportunity to get a look at the largest all-male school in the STATE\, and learn why NDCP students\, faculty\, staff\, </span></span><span style="font-family: tahoma\; font-size: 16px\; text-align: center\;">parents\, and&nbsp\;</span><span style="font-size:16px\;"><span style="font-family:tahoma\;">alumni are such a tight knit and loyal community.&nbsp\;&nbsp\;<br />\n<br />\nThis event will take place in the school&#39\;s library and (weather permitting) the adjacent outdoor courtyard.&nbsp\; Please enter through the main entrance (doors on the north facing portion of the building).&nbsp\;</span></span></div>\n
LOCATION:Notre Dame College Prep 7655 W Dempster Street Niles\, IL 60714
UID:e.151.5142
SEQUENCE:3
DTSTAMP:20260419T143619Z
URL:https://business.nileschamber.com/events/details/business-after-hours-notre-dame-college-prep-5142
END:VEVENT

END:VCALENDAR
