BEGIN:VCALENDAR
VERSION:2.0
PRODID:-//ChamberMaster//Event Calendar 2.0//EN
METHOD:PUBLISH
X-PUBLISHED-TTL:P3D
REFRESH-INTERVAL:P3D
CALSCALE:GREGORIAN
BEGIN:VEVENT
DTSTART:20120119T133000Z
DTEND:20120119T153000Z
X-MICROSOFT-CDO-ALLDAYEVENT:FALSE
SUMMARY:BMO Harris Bank NetConnect Networking Breakfast
DESCRIPTION:Harris Bank NetConnect Networking Breakfast
X-ALT-DESC;FMTTYPE=text/html:Harris Bank NetConnect Networking Breakfast
LOCATION:Harris Bank 7077 W. Dempster Street Niles\, IL 60714
UID:e.151.724
SEQUENCE:3
DTSTAMP:20260420T014353Z
URL:https://business.nileschamber.com/events/details/bmo-harris-bank-netconnect-networking-breakfast-01-19-2012-724
END:VEVENT

END:VCALENDAR
