BEGIN:VCALENDAR
VERSION:2.0
PRODID:-//ChamberMaster//Event Calendar 2.0//EN
METHOD:PUBLISH
X-PUBLISHED-TTL:P3D
REFRESH-INTERVAL:P3D
CALSCALE:GREGORIAN
BEGIN:VEVENT
DTSTART:20211022T223000Z
DTEND:20211023T030000Z
X-MICROSOFT-CDO-ALLDAYEVENT:FALSE
SUMMARY:2021 Niles Night of Roses - 50th Anniversary Celebration
DESCRIPTION:NILES NIGHT OF ROSES\n\nA Tribute to Home Grown Success\n\nBack Together again! \n\n\n\n\n\nThank you to our sponsors!!\n\nSponsorship Opportunities are Available!\n\n\n\nSignature Sponsor - $3000 - Shure Inc.--Sold Out\n\n	Signage with logo on stage area\n	Full page ad in the evening program\n	10 complimentary tickets to the event\n	Logo Placement on our Website\n	Company Logo featured on Step & Repeat Banner (Banner with Company logo and NOR logo that will serve as a background for all photos taken)\n	Night of Roses Sponsored by YOUR NAME HERE on invitations and advertising\n	Your name and logo on all Chamber pictures taken that evening which will be posted and promoted on social media   \n\nSupporting Sponsor - $1000 --Sold Out\n\n\n	  Page in the evening program\n	Logo placement on our Website\n	Signage with logo at stage area\n	4 complimentary tickets to the event\n	Signage at the welcome table\n\nWine Sponsor- $750 --Sold Out\n\n\n	Signage / Label on the bottles of complimentary wine being served at the tables\n	2 Complimentary tickets to the event  \n\nCocktail Sponsor - $500  --Sold Out\n\n\n	Signage at one of 2 bars during the event\n	2 Complimentary tickets to the event\n\n Centerpiece Sponsor - $250 --Sold Out\n\n\n	Signage at a table of 10 during the event\n	1 Complimentary ticket to the event\n\n MUSIC SPONSOR- $350  --Sold Out\n\n\n	Signage near musicians\n	Recognition from the stage for sponsorship of music entertainment
X-ALT-DESC;FMTTYPE=text/html:<span style="font-size:14px\;"><span style="font-family:arial\;"><span style="font-size:18px\;"><span style="font-size:20px\;"><strong><em><span style="color:#C00000\;">NILES NIGHT OF ROSES</span></em></strong></span><br />\n<em><strong><span style="font-weight:bold\;text-transform:uppercase\;language:en-US\;">A Tribute to Home Grown Success<br />\nBack Together again!&nbsp\;<br />\n<br />\n<br />\n<span style="font-size:20px\;">Thank you to our sponsors!!</span></span></strong></em></span></span></span><br />\n<span style="color:#0000CD\;"><strong style="color: rgb(51\, 51\, 51)\; font-family: arial\; font-size: 18px\; background-color: rgb(255\, 255\, 255)\;"><em>Sponsorship Opportunities are Available!</em></strong></span><br />\n<br />\n<span style="font-size: 16px\;"><strong>Signature Sponsor - $3000</strong>&nbsp\;-<span style="font-size:20px\;"><em><strong>&nbsp\;Shure Inc.--<span style="color:#FF0000\;">Sold Out</span></strong></em></span></span>\n<ul style="padding: 0px 40px\; list-style-type: circle\;">\n	<li><span style="font-size: 14px\;">Signage with logo on stage area</span></li>\n	<li><span style="font-size: 14px\;">Full page ad in the evening program</span></li>\n	<li><span style="font-size: 14px\;">10 complimentary tickets to the event</span></li>\n	<li><span style="font-size: 14px\;">Logo Placement on our Website</span></li>\n	<li><span style="font-size: 14px\;">Company Logo featured on Step &amp\; Repeat Banner (Banner with Company logo and NOR logo that will serve as a background for all photos taken)</span></li>\n	<li><span style="font-size: 14px\;">Night of Roses Sponsored by YOUR NAME HERE on invitations and advertising</span></li>\n	<li><span style="font-size: 14px\;">Your name and logo on all Chamber pictures taken that evening which will be posted and promoted on social media</span>&#8203\;<span style="font-size: 14px\;">&nbsp\;&nbsp\;</span></li>\n</ul>\n<span style="font-size: 16px\;"><strong>Supporting Sponsor - $1000&nbsp\;</strong></span><em style="font-size: 20px\;"><strong>--<span style="color: rgb(255\, 0\, 0)\;">Sold Out</span></strong></em>\n\n<ul style="padding: 0px 40px\; list-style-type: circle\;">\n	<li><span style="font-size: 14px\;">&frac12\; Page in the evening program</span></li>\n	<li><span style="font-size: 14px\;">Logo placement on our Website</span></li>\n	<li><span style="font-size: 14px\;">Signage with logo at stage area</span></li>\n	<li><span style="font-size: 14px\;">4 complimentary tickets to the event</span></li>\n	<li><span style="font-size: 14px\;">Signage at the welcome table</span></li>\n</ul>\n<strong><span style="font-size: 16px\;">Wine Sponsor- $750&nbsp\;</span></strong><em style="font-size: 20px\;"><strong>--<span style="color: rgb(255\, 0\, 0)\;">Sold Out</span></strong></em>\n\n<ul style="padding: 0px 40px\; list-style-type: circle\;">\n	<li><span style="font-size: 14px\;">Signage / Label on the bottles of complimentary wine being served at the tables</span></li>\n	<li><span style="font-size: 14px\;">2 Complimentary tickets to the event &nbsp\;</span></li>\n</ul>\n<span style="font-size: 16px\;"><strong>Cocktail Sponsor - $500&nbsp\;</strong></span><strong><span style="font-size: 16px\;">&nbsp\;</span></strong><em style="font-size: 20px\;"><strong>--<span style="color: rgb(255\, 0\, 0)\;">Sold Out</span></strong></em>\n\n<ul style="padding: 0px 40px\; list-style-type: circle\;">\n	<li><span style="font-size: 14px\;">Signage at one of 2 bars during the event</span></li>\n	<li><span style="font-size: 14px\;">2 Complimentary tickets to the event</span></li>\n</ul>\n<strong><span style="font-size: 16px\;">&nbsp\;Centerpiece Sponsor - $250&nbsp\;</span></strong><em style="font-size: 20px\;"><strong>--<span style="color: rgb(255\, 0\, 0)\;">Sold Out</span></strong></em>\n\n<ul style="padding: 0px 40px\; list-style-type: circle\;">\n	<li><span style="font-size: 14px\;">Signage at a table of 10 during the event</span></li>\n	<li><span style="font-size: 14px\;">1 Complimentary ticket to the event</span></li>\n</ul>\n<span style="font-size:16px\;"><strong>&nbsp\;MUSIC SPONSOR- $350</strong></span>&nbsp\;&#8203\;<em style="font-size: 20px\;"><strong>--<span style="color: rgb(255\, 0\, 0)\;">Sold Out</span></strong></em>\n\n<ul>\n	<li>Signage near musicians</li>\n	<li>Recognition from the stage for sponsorship of music entertainment<br />\n	&nbsp\;</li>\n</ul>\n\n<p>&nbsp\;</p>\n\n<p>&nbsp\;</p>\n
LOCATION:White Eagle Events & Convention Center by Victoria 6839 N. Milwaukee\, Niles
UID:e.151.4991
SEQUENCE:3
DTSTAMP:20260419T143723Z
URL:https://business.nileschamber.com/events/details/2021-niles-night-of-roses-50th-anniversary-celebration-4991
END:VEVENT

END:VCALENDAR
