BEGIN:VCALENDAR
VERSION:2.0
PRODID:-//ChamberMaster//Event Calendar 2.0//EN
METHOD:PUBLISH
X-PUBLISHED-TTL:P3D
REFRESH-INTERVAL:P3D
CALSCALE:GREGORIAN
BEGIN:VEVENT
DTSTART:20140124T230000Z
DTEND:20140125T010000Z
X-MICROSOFT-CDO-ALLDAYEVENT:FALSE
SUMMARY:2014 Women In Business\, January - Coop Calif
DESCRIPTION:Multi-Chamber Women in Business Event w/Edison Park Chamber of Commerce\n\nhosted by:\n\n\n\nCo-Op California Boutique\n\n6674 N. Northwest Highway\, Edison Park\n\n  \n\n\nThis is one of our most popular and fastest growing networking groups. Find out why more and more women have been attending the Women In Business Networking Events.  Register for this event and make sure to bring business cards and promotional materials (company brochures\, special promotions\, etc.) to introduce your company to other area businesses.\n\n \n\nThis is a great forum to exchange leads\, build your customer base\, PLUS find new marketing ideas\, business partnerships\, and valuable resources for business growth and professional development - all during your lunch hour!
X-ALT-DESC;FMTTYPE=text/html:<div align="left" style="margin: 0in 0in 0pt\;"><br />\n<span style="font-size: 20px\;"><span style="color: black\;"><font color="#333399" face="Verdana"><strong><font color="#800000">Multi-Chamber Women in Business&nbsp\;Event w/Edison Park Chamber of Commerce</font></strong></font></span><br />\n<span style="color: black\;"><font color="#333399" face="Verdana"><strong><font color="#800000">hosted by:</font></strong></font></span></span></div>\n\n<div align="left" style="margin: 0in 0in 0pt\;"><br />\n<strong><span style="font-size: 14px\;"><font face="Verdana"><font face="Verdana">Co-Op California Boutique<br />\n6674&nbsp\;N.&nbsp\;Northwest Highway\, Edison Park</font></font></span></strong><br />\n&nbsp\;&nbsp\;</div>\n\n<div align="left" style="margin: 0in 0in 0pt\;">\n<div style="margin: 0in 0in 0pt\; text-align: justify\;"><span style="font-family: verdana\;"><span style="font-size: 12px\;">This is one of our most popular and fastest growing networking groups. Find out why more and more women have been attending the Women In Business Networking Events.&nbsp\;&nbsp\;Register for this event and make sure to bring business cards and promotional materials (company brochures\, special promotions\, etc.) to introduce your company to other area businesses.</span></span></div>\n\n<div style="margin: 0in 0in 0pt\; text-align: justify\;"><span style="font-family: verdana\;"><span style="font-size: 12px\;">&nbsp\;</span></span></div>\n\n<div style="margin: 0in 0in 0pt\; text-align: justify\;"><span style="font-family: verdana\;"><span style="font-size: 12px\;">This is a great forum to exchange leads\, build your customer base\, PLUS find new marketing ideas\, business partnerships\, and valuable resources for business growth and professional development&nbsp\;- all during your lunch hour!</span></span></div>\n\n<div style="margin: 0in 0in 0pt\;"><span style="font-family: verdana\;"><span style="font-size: 12px\;">&nbsp\;</span></span></div>\n\n<div style="margin: 0in 0in 0pt\;">\n<p style="text-align: justify\;">&nbsp\;</p>\n</div>\n\n<div style="margin: 0in 0in 0pt\;">\n<div dir="ltr">\n<div dir="ltr"><font face="Verdana" size="2">&nbsp\;</font></div>\n</div>\n</div>\n</div>\n
LOCATION:Co-Op California Boutique 6674 N. Northwest Highway Edison Park
UID:e.151.2039
SEQUENCE:3
DTSTAMP:20260420T084503Z
URL:https://business.nileschamber.com/events/details/2014-women-in-business-january-coop-calif-01-24-2014-2039
END:VEVENT

END:VCALENDAR
