BEGIN:VCALENDAR
VERSION:2.0
PRODID:-//ChamberMaster//Event Calendar 2.0//EN
METHOD:PUBLISH
X-PUBLISHED-TTL:P3D
REFRESH-INTERVAL:P3D
CALSCALE:GREGORIAN
BEGIN:VEVENT
DTSTART:20140430T163000Z
DTEND:20140430T183000Z
X-MICROSOFT-CDO-ALLDAYEVENT:FALSE
SUMMARY:2014 Multi-Chamber Mega Connect Networking Luncheon\, April 30
DESCRIPTION:Multi-Chamber Networking Breakfast\n\nWith the Buffalo Grove\, Lincolnshire\, DBR\, Des Plaines\, Evanston\, Glenview\, Lincolnwood\, \n\nMorton Grove\, Mt. Prospect\, Niles\, Park Ridge\, Skokie\, Wheeling/Prospect Heights\, Wilmette and Winnetka/Northfield Chambers of Commerce\n\n \n\nWednesday\, April 30\, 2014\n\n11:30 a.m. - 1:30 p.m.\n\n \n\nRSVP & Payment Due by 5:00 p.m.\, Tuesday\, April 22\, 2014\n\nEarly Bird Member Pre-Registration Fee: $25 - Includes Lunch\n\nMember Pre-Registration is $35 after 5:00 p.m. on April 22nd\n\nNon-Member & Walk-In Registration: $35\n\nWalk-Ins strongly discouraged and may not be accommodated!\n\n\n\nForm\n\n \n\n Chateau Ritz\, 9100 N. Milwaukee Avenue\, Niles   \n\n\n\n\n\n    Members looking for a productive networking experience will enjoy the structured format of this program\, which gives each participant an opportunity to speak to a receptive audience about his/her company's products and services. \n\n    The event will begin with informal networking over lunch. After that\, the group will be divided into small groups at assigned tables where everyone will give 2 minute presentations on their companies. Following will be an additional presentation to a second group of participants. In addition\, everyone will receive a contact list of pre-registered participants. Don't miss this unique opportunity to expand your reach and resources! \n\nPlease note that table assignments will begin promptly at 11:45 a.m. If you are not there by 11:45 a.m.\, your space will be given away to another participant and you will need to check-in at the "Late Registration Table".  Please arrive on time to get the most out of your networking experience!
X-ALT-DESC;FMTTYPE=text/html:<div align="center"><span style="font-size: 14px\;"><font face="Verdana"><strong>Multi-Chamber Networking&nbsp\;Breakfast</strong></font></span></div>\n\n<div align="center" style="margin: 0in 0in 0pt\;"><span style="font-size: 12px\;"><font face="Verdana"><em>With the Buffalo Grove\, Lincolnshire</em><em>\, DBR\, Des Plaines\, Evanston\,&nbsp\;Glenview\, Lincolnwood\, </em></font></span><br />\n<em><font face="Verdana">Morton Grove\,</font></em><span style="font-size: 12px\;"><font face="Verdana"><em> Mt. Prospect\,&nbsp\;Niles\,&nbsp\;Park Ridge\,&nbsp\;Skokie\, Wheeling/Prospect Heights\, Wilmette and Winnetka/Northfield </em></font><font face="Verdana"><em>Chambers of Commerce</em></font></span></div>\n\n<div align="center" style="margin: 0in 0in 0pt\;"><font face="Verdana">&nbsp\;</font></div>\n\n<div align="center" style="margin: 0in 0in 0pt\;"><span style="font-size: 14px\;"><span style="color: black\;"><font face="Verdana"><strong>Wednesday\, April 30\, 2014<br />\n11:30 a.m. - 1:30 p.m.</strong></font></span></span></div>\n\n<div align="center" style="margin: 0in 0in 0pt\;">&nbsp\;</div>\n\n<div align="center" style="margin: 0in 0in 0pt\;"><span style="font-size: 12px\;"><span style="color: black\;"><font face="Verdana">RSVP &amp\; Payment Due by 5:00 p.m.\, Tuesday\, April 22\, 2014<br />\nEarly Bird Member Pre-Registration Fee: $25 - Includes Lunch</font></span><br />\n<span style="color: black\;"><font face="Verdana">Member Pre-Registration is $35 after 5:00 p.m. on April 22nd</font></span></span></div>\n\n<div align="center" style="margin: 0in 0in 0pt\;"><span style="font-size: 12px\;"><span style="color: black\;"><font face="Verdana">Non-Member &amp\; Walk-In Registration: $35<br />\nWalk-Ins strongly discouraged and may not be accommodated!</font></span></span></div>\n\n<div align="center" style="margin: 0in 0in 0pt\;"><br />\n<a href="http://cloud.chambermaster.com/userfiles/UserFiles/chambers/151/File/MegaConnectApril2014.pdf"><strong><em>Form</em></strong></a><br />\n&nbsp\;</div>\n\n<div style="margin: 0in 0in 0pt\; text-align: center\;"><font face="Verdana"><span style="font-size: 10pt\;">&nbsp\;Chateau Ritz\, 9100 N. Milwaukee Avenue\, Niles&nbsp\;&nbsp\;&nbsp\;</span></font><br />\n<br />\n<br />\n<font face="Verdana"><span style="font-size: 10pt\;">&nbsp\;&nbsp\;&nbsp\;&nbsp\;Members looking for a productive networking experience will enjoy the structured format of this program\, which gives each participant an opportunity to speak to a receptive audience about his/her company&rsquo\;s products and services.&nbsp\;</span></font></div>\n\n<p style="margin: 0in 0in 0pt\; text-align: center\;"><font face="Verdana"><span style="font-size: 10pt\;">&nbsp\;&nbsp\;&nbsp\;&nbsp\;The event will begin with informal networking over lunch.&nbsp\;</span><span style="font-size: 10pt\;">After that\, the group will be divided into small groups at assigned tables where everyone will give 2 minute presentations on their companies.&nbsp\;Following will be an additional presentation to a second group of participants.&nbsp\;</span><span style="font-size: 10pt\;">In addition\, everyone will receive a contact list of pre-registered participants.&nbsp\;Don&rsquo\;t miss this unique opportunity to expand your reach and resources!&nbsp\;</span></font></p>\n\n<p style="margin: 0in 0in 0pt\; text-align: center\; text-indent: 0.5in\;"><span style="font-size: 10pt\;"><font face="Verdana">Please note that table assignments will begin <u>promptly at 11:45 a.m</u>.&nbsp\;If you are not there by 11:45 a.m.\, your space will be given away to another participant and you will need to check-in at the &quot\;Late Registration Table&quot\;.&nbsp\;&nbsp\;<u>Please</u> arrive on time to get the most out of your networking experience!</font></span></p>\n
LOCATION:Chateau Ritz 9100 N. Milwaukee Avenue Niles\, IL 60714
UID:e.151.2180
SEQUENCE:3
DTSTAMP:20260420T083822Z
URL:https://business.nileschamber.com/events/details/2014-multi-chamber-mega-connect-networking-luncheon-april-30-04-30-2014-2180
END:VEVENT

END:VCALENDAR
