BEGIN:VCALENDAR
VERSION:2.0
PRODID:-//ChamberMaster//Event Calendar 2.0//EN
METHOD:PUBLISH
X-PUBLISHED-TTL:P3D
REFRESH-INTERVAL:P3D
CALSCALE:GREGORIAN
BEGIN:VEVENT
DTSTART:20131105T140000Z
DTEND:20131105T153000Z
X-MICROSOFT-CDO-ALLDAYEVENT:FALSE
SUMMARY:2013 Sam's Club Re-Grand Opening and Multi Chamber Networking Event
DESCRIPTION:Re-Grand Opening & Multi Chamber\n\nNetworking Event @ Sam's Club\n\n \n\nOn behalf of the Des Plaines Sam's Club\n\nand in partnership with the Des Plaines\, Rosemont\,\n\nMount Prospect and Niles Chambers of Commerce.\n\n \n\nWe cordially invite you to a Roundtable Networking event on Tuesday\, November 5\, 2013 from 8:00 a.m. to 9:30 a.m. This is a free event for all Business Owners and Chamber members. We would be honored to have you in attendance to celebrate our event.\n\n \n\nBreakfast will be served at 8:00 a.m.\n\n\n\nPlease RSVP by October 29\, 2013 to 847-296-1883 or email: jponce.s06464.us@samsclub.com\n\n\n\nClick here to download flyer
X-ALT-DESC;FMTTYPE=text/html:<div style="text-align: center\;"><span style="font-family: arial\;"><strong><span style="font-size: large\;">Re-Grand Opening &amp\; Multi Chamber<br />\nNetworking Event @ Sam&#39\;s Club</span></strong></span></div>\n\n<div><span style="font-family: arial\;">&nbsp\;</span></div>\n\n<div style="text-align: center\;"><span style="font-size: 14px\;"><span style="font-family: arial\;"><em>On behalf of the Des Plaines Sam&rsquo\;s Club<br />\nand in partnership with&nbsp\;the Des Plaines\, Rosemont\,<br />\nMount Prospect&nbsp\;and Niles Chambers of Commerce.</em></span></span></div>\n\n<div><span style="font-size: 14px\;"><span style="font-family: arial\;">&nbsp\;</span></span></div>\n\n<div style="text-align: justify\;"><span style="font-size: 14px\;"><span style="font-family: arial\;">We cordially invite you to a Roundtable Networking event on Tuesday\, November 5\, 2013 from 8:00 a.m. to 9:30 a.m. This is a free event for all Business Owners and Chamber members. We&nbsp\;would be honored to have you in attendance to celebrate our event.</span></span></div>\n\n<div><span style="font-size: 14px\;"><span style="font-family: arial\;">&nbsp\;</span></span></div>\n\n<div style="text-align: center\;"><span style="font-size: 14px\;"><span style="font-family: arial\;">Breakfast will be served at 8:00 a.m.</span></span><br />\n<br />\n<span style="font-size: 14px\;"><span style="font-family: arial\;">Please RSVP by October 29\, 2013 to 847-296-1883 or email: jponce.s06464.us@samsclub.com</span></span><br />\n<br />\n<span style="font-family: arial\;"><a href="http://cloud.chambermaster.com/userfiles/UserFiles/chambers/151/File/sams.pdf">Click here to download&nbsp\;flyer</a></span><br />\n&nbsp\;</div>\n
LOCATION:Sam's Club 101 W. Oakton Street Des Plaines\, IL 60018
UID:e.151.2034
SEQUENCE:3
DTSTAMP:20260420T101428Z
URL:https://business.nileschamber.com/events/details/2013-sam-s-club-re-grand-opening-and-multi-chamber-networking-event-11-05-2013-2034
END:VEVENT

END:VCALENDAR
