BEGIN:VCALENDAR
VERSION:2.0
PRODID:-//ChamberMaster//Event Calendar 2.0//EN
METHOD:PUBLISH
X-PUBLISHED-TTL:P3D
REFRESH-INTERVAL:P3D
CALSCALE:GREGORIAN
BEGIN:VEVENT
DTSTART:20131024T220000Z
DTEND:20131025T000000Z
X-MICROSOFT-CDO-ALLDAYEVENT:FALSE
SUMMARY:2013 Business After Hours\, October - Callero & Callero
DESCRIPTION:October Business After Hours hosted by:\n\nCallero & Callero\, LLP\n\n \n\n\nBusiness After Hours are a great way to network and meet area business owners and company representatives. Remember that networking is not only a resource to gain customers and generate leads\, but also a chance to find new vendors\, share new ideas\, or find new ways to offer benefits to your employees. \n\n \n\nEvent Registration posted online*\n\nCheck out who is attending this event. *Registrations are posted from the Chamber office and NOT automatic. \n\n \n\nName (Company):\n\nChristopher Murschell - Callero & Callero LLP\n\nSherwin Weisman - North Suburban Hearing Service\n\nDr. Bruce Hertz - Aiken-Hertz Family Medical Center\n\nJoe Walsh - Access Benefit Solutions\n\nRandy Greco - CHoLAB\, Inc.\n\nBret Fahnstrom - Golf Maine Park District\n\nJeff Kovit - Jeff Kovit Video Productions\n\nJeffrey Butler - Kessler\, Orlean\, Silver & Company\, P.C.\n\nDr. Teri Collins - Maine Community Youth Assistance Foundation\n\nJoe Penze - Niles Police Department\n\nSue Wilsey - Niles Public Library\n\nBarb Kruser - Niles Public Library\n\nMarie Cordon - Parkway Bank & Trust Company\n\nHelen Tsilora - Pinstripes\, Inc.\n\nVoytek Strojny - Plaza Bank\, A Branch of North Community Bank\n\nCarol Harczak - Re/Max AllStars\n\nCandace Reed-Ryan - Tribune Products Company
X-ALT-DESC;FMTTYPE=text/html:<div>&nbsp\;</div>\n\n<div>\n<div align="center"><span style="font-family: arial\;"><span style="font-size: large\;"><strong><span style="color: black\; font-style: normal\;"><em>October&nbsp\;Business After Hours hosted by:</em></span></strong></span></span></div>\n\n<div align="center"><span style="font-family: arial\;"><span style="font-size: 20px\;"><span style="font-style: normal\;"><strong>Callero &amp\; Callero\,&nbsp\;LLP</strong></span></span></span><br />\n&nbsp\;</div>\n</div>\n\n<div><span style="font-family: arial\;"><span style="color: black\; font-size: 10pt\; font-style: normal\;">Business After Hours are a great way to network and meet area business owners and company representatives. Remember that networking is not only a resource to gain customers and generate leads\, but also a chance to find new vendors\, share new ideas\, or find new ways to offer benefits to your employees. </span></span></div>\n\n<div><span style="font-family: arial\;"><font size="2">&nbsp\;</font></span></div>\n\n<div><span style="font-family: arial\;"><span style="font-size: 10pt\; font-style: normal\;"><strong>Event Registration posted online*</strong></span></span></div>\n\n<div><span style="font-family: arial\;"><span style="color: black\; font-size: 10pt\; font-style: normal\;">Check out&nbsp\;who is attending this event. <em>*Registrations are posted from the Chamber office and NOT automatic.</em>&nbsp\;</span></span></div>\n\n<div><span style="font-family: arial\;"><font size="2">&nbsp\;</font></span></div>\n\n<div><span style="font-family: arial\;"><span style="color: black\; font-size: 10pt\; font-style: normal\;"><u><strong>Name&nbsp\;(Company):</strong></u><br />\nChristopher Murschell - Callero &amp\; Callero LLP</span></span><br />\n<font color="#000000" size="2">Sherwin Weisman - North Suburban Hearing Service<br />\nDr. Bruce Hertz - Aiken-Hertz Family Medical Center<br />\nJoe Walsh - Access Benefit Solutions<br />\nRandy Greco - CHoLAB\, Inc.<br />\nBret Fahnstrom - Golf Maine Park District<br />\nJeff Kovit - Jeff Kovit Video Productions<br />\nJeffrey Butler - Kessler\, Orlean\, Silver &amp\; Company\, P.C.<br />\nDr. Teri Collins - Maine Community Youth Assistance Foundation<br />\nJoe Penze - Niles Police Department<br />\nSue Wilsey - Niles Public Library<br />\nBarb Kruser - Niles Public Library<br />\nMarie Cordon - Parkway Bank &amp\; Trust Company<br />\nHelen Tsilora - Pinstripes\, Inc.<br />\nVoytek Strojny - Plaza Bank\, A Branch of North Community Bank<br />\nCarol Harczak - Re/Max AllStars<br />\nCandace Reed-Ryan - Tribune Products Company</font><br />\n<br />\n<br />\n<br />\n&nbsp\;</div>\n
LOCATION:Callero & Callero LLP 7800 N. Milwaukee Avenue Niles\, IL 60714
UID:e.151.2027
SEQUENCE:3
DTSTAMP:20260420T131623Z
URL:https://business.nileschamber.com/events/details/2013-business-after-hours-october-callero-callero-10-24-2013-2027
END:VEVENT

END:VCALENDAR
