BEGIN:VCALENDAR
VERSION:2.0
PRODID:-//ChamberMaster//Event Calendar 2.0//EN
METHOD:PUBLISH
X-PUBLISHED-TTL:P3D
REFRESH-INTERVAL:P3D
CALSCALE:GREGORIAN
BEGIN:VEVENT
DTSTART:20121018T170000Z
DTEND:20121018T180000Z
X-MICROSOFT-CDO-ALLDAYEVENT:FALSE
SUMMARY:2012 Women In Business\, October 18\, Edward Jones @ Riggio's
DESCRIPTION:October Women In Business Luncheon\n\nhosted by:\n\n \n\nEdward Jones @ Riggio's Restaurant\n\n7530 W. Oakton Street\, Niles\n\n\n  \n\nThis is one of our most popular and fastest growing networking groups. Find out why more and more women have been attending the Women In Business Networking Luncheons.  Register for this event and make sure to bring business cards and promotional materials (company brochures\, special promotions\, etc.) to introduce your company to other area businesses.\n\n \n\nThis is a great forum to exchange leads\, build your customer base\, PLUS find new marketing ideas\, business partnerships\, and valuable resources for business growth and professional development - all during your lunch hour!
X-ALT-DESC;FMTTYPE=text/html:<div align="left" style="margin: 0in 0in 0pt\;"><span style="font-size: 20px\;"><span style="color: black\;"><font color="#333399" face="Verdana"><strong><font color="#800000">October&nbsp\;Women In Business Luncheon</font></strong></font></span><br />\n<span style="color: black\;"><font color="#333399" face="Verdana"><strong><font color="#800000">hosted by:</font></strong></font></span></span></div>\n\n<div align="left" style="margin: 0in 0in 0pt\;">&nbsp\;</div>\n\n<p align="left" style="margin: 0in 0in 0pt\;"><span style="font-size: 20px\;"><font face="Verdana"><strong>Edward Jones @ Riggio&#39\;s Restaurant</strong></font></span><br />\n<span style="font-size: 16px\;"><font face="Verdana">7530&nbsp\;W. Oakton Street\, Niles</font></span></p>\n\n<div align="left" style="margin: 0in 0in 0pt\;">\n<div>&nbsp\;&nbsp\;</div>\n\n<div style="margin: 0in 0in 0pt\;"><span style="font-family: verdana\;"><span style="font-size: 12px\;">This is one of our most popular and fastest growing networking groups. Find out why more and more women have been attending the Women In Business Networking Luncheons.&nbsp\;&nbsp\;Register for this event and make sure to bring business cards and promotional materials (company brochures\, special promotions\, etc.) to introduce your company to other area businesses.</span></span></div>\n\n<div style="margin: 0in 0in 0pt\;"><span style="font-family: verdana\;"><span style="font-size: 12px\;">&nbsp\;</span></span></div>\n\n<div style="margin: 0in 0in 0pt\;"><span style="font-family: verdana\;"><span style="font-size: 12px\;">This is a great forum to exchange leads\, build your customer base\, PLUS find new marketing ideas\, business partnerships\, and valuable resources for business growth and professional development&nbsp\;- all during your lunch hour!</span></span></div>\n\n<div style="margin: 0in 0in 0pt\;"><span style="font-family: verdana\;"><span style="font-size: 12px\;">&nbsp\;</span></span></div>\n\n<div style="margin: 0in 0in 0pt\;">\n<div>&nbsp\;</div>\n</div>\n\n<div style="margin: 0in 0in 0pt\;">\n<div dir="ltr">\n<div dir="ltr"><font face="Verdana" size="2">&nbsp\;</font></div>\n</div>\n</div>\n</div>\n
LOCATION:Hosted by Edward Jones @ Riggio's Restaurant 7530 W. Oakton Street Niles\, IL 60714
UID:e.151.1200
SEQUENCE:3
DTSTAMP:20260421T082233Z
URL:https://business.nileschamber.com/events/details/2012-women-in-business-october-18-edward-jones-riggio-s-10-18-2012-1200
END:VEVENT

END:VCALENDAR
