BEGIN:VCALENDAR
VERSION:2.0
PRODID:-//ChamberMaster//Event Calendar 2.0//EN
METHOD:PUBLISH
X-PUBLISHED-TTL:P3D
REFRESH-INTERVAL:P3D
CALSCALE:GREGORIAN
BEGIN:VEVENT
DTSTART:20120621T170000Z
DTEND:20120621T180000Z
X-MICROSOFT-CDO-ALLDAYEVENT:FALSE
SUMMARY:2012 Women In Business\, June 21\, Rhythm School of Dance and Music
DESCRIPTION:June Women In Business Luncheon\n\nhosted by:\n\n \n\nRhythm School of Dance and Music\n\n8746 N. Shermer Road\, Niles\n\n\n  \n\nThis is one of our most popular and fastest growing networking groups. Find out why more and more women have been attending the Women In Business Networking Luncheons.  Register for this event and make sure to bring business cards and promotional materials (company brochures\, special promotions\, etc.) to introduce your company to other area businesses.\n\n \n\nThis is a great forum to exchange leads\, build your customer base\, PLUS find new marketing ideas\, business partnerships\, and valuable resources for business growth and professional development - all during your lunch hour!
X-ALT-DESC;FMTTYPE=text/html:<div align="left" style="margin: 0in 0in 0pt\;"><br />\n<span style="font-size: 20px\;"><span style="color: black\;"><font color="#333399" face="Verdana"><strong><font color="#800000">June&nbsp\;Women In Business Luncheon</font></strong></font></span><br />\n<span style="color: black\;"><font color="#333399" face="Verdana"><strong><font color="#800000">hosted by:</font></strong></font></span></span></div>\n\n<div align="left" style="margin: 0in 0in 0pt\;">&nbsp\;</div>\n\n<p align="left" style="margin: 0in 0in 0pt\;"><span style="font-size: 20px\;"><font face="Verdana"><strong>Rhythm School of Dance and Music</strong></font></span><br />\n<span style="font-size: 16px\;"><font face="Verdana">8746&nbsp\;N. Shermer Road\, Niles</font></span></p>\n\n<div align="left" style="margin: 0in 0in 0pt\;">\n<div>&nbsp\;&nbsp\;</div>\n\n<div style="margin: 0in 0in 0pt\;"><span style="font-family: verdana\;"><span style="font-size: 12px\;">This is one of our most popular and fastest growing networking groups. Find out why more and more women have been attending the Women In Business Networking Luncheons.&nbsp\;&nbsp\;Register for this event and make sure to bring business cards and promotional materials (company brochures\, special promotions\, etc.) to introduce your company to other area businesses.</span></span></div>\n\n<div style="margin: 0in 0in 0pt\;"><span style="font-family: verdana\;"><span style="font-size: 12px\;">&nbsp\;</span></span></div>\n\n<div style="margin: 0in 0in 0pt\;"><span style="font-family: verdana\;"><span style="font-size: 12px\;">This is a great forum to exchange leads\, build your customer base\, PLUS find new marketing ideas\, business partnerships\, and valuable resources for business growth and professional development&nbsp\;- all during your lunch hour!</span></span></div>\n\n<div style="margin: 0in 0in 0pt\;"><span style="font-family: verdana\;"><span style="font-size: 12px\;">&nbsp\;</span></span></div>\n\n<div style="margin: 0in 0in 0pt\;">\n<div>&nbsp\;</div>\n</div>\n\n<div style="margin: 0in 0in 0pt\;">\n<div dir="ltr">\n<div dir="ltr"><font face="Verdana" size="2">&nbsp\;</font></div>\n</div>\n</div>\n</div>\n
LOCATION:Rhythm School of Dance 8746 N. Shermer Road Niles\, IL 60714
UID:e.151.788
SEQUENCE:3
DTSTAMP:20260419T161624Z
URL:https://business.nileschamber.com/events/details/2012-women-in-business-june-21-rhythm-school-of-dance-and-music-06-21-2012-788
END:VEVENT

END:VCALENDAR
