BEGIN:VCALENDAR
VERSION:2.0
PRODID:-//ChamberMaster//Event Calendar 2.0//EN
METHOD:PUBLISH
X-PUBLISHED-TTL:P3D
REFRESH-INTERVAL:P3D
CALSCALE:GREGORIAN
BEGIN:VEVENT
DTSTART:20120511T150000Z
DTEND:20120511T200000Z
X-MICROSOFT-CDO-ALLDAYEVENT:FALSE
SUMMARY:2012 NorthShore Women's Conference - Marriott
DESCRIPTION:5th Annual NorthShore Women's Conference\n\nA Great Opportunity for Your Business!\n\n\n\nFeaturing the North Shore's Largest Networking Luncheon\n\n \n\n\nWomen control the vast majority of all consumer purchases. What better way to reach these key decision makers than to participate in the North Shore Women's Conference. Now in its 5th year\, this popular event will be on Friday\, May 11th from 10:00 AM to 3:30 PM at the Marriott Lincolnshire. This unique event brings together over twenty Chambers of Commerce for an expo\, workshops\, networking and lunch with a keynote speaker.\n\n\n\nExtensive marketing and promotion of the conference gives participants broad visibility and recognition throughout the North Shore and greater Chicagoland. The event will be widely promoted through local newspapers\, websites\, media releases\, posters\, and publications as well as through all of the participating Chambers. \n\n\n\nThere are numerous ways to take advantage. Consider being a presenting sponsor (only 8 spots are available)\, exhibiting at the Expo\, distributing a promotional item to attendees in the gift bags and attending the conference. You and your business are sure to benefit. See the registration form for details and act soon. The North Shore Women's Conference has sold out every year!\n\n \n\nCall the Niles Chamber (847) 268-8180 for more information.\n\n \n\nParticipation Opportunities\n\n \nNetworking Luncheon & Keynote Speaker: $32 Per Person
X-ALT-DESC;FMTTYPE=text/html:<div>&nbsp\;</div>\n\n<div><font face="Verdana" size="5"><strong>5th Annual NorthShore Women&rsquo\;s Conference</strong></font><br />\n<font face="Verdana" size="4"><strong>A Great Opportunity for Your Business!<br />\n<br />\nFeaturing the North Shore&rsquo\;s Largest Networking Luncheon</strong></font></div>\n\n<div>&nbsp\;</div>\n\n<div>\n<div><span style="font-family: verdana\;"><font size="2"><span style="font-size: 10pt\;">Women control the vast majority of all consumer purchases. What better way to reach these key decision makers than to participate in the North Shore Women&rsquo\;s Conference. Now in its 5<sup>th</sup> year\, this popular event will be on Friday\, May 11<sup>th</sup> from 10:00 AM to 3:30 PM at the Marriott Lincolnshire. This unique event brings together over twenty Chambers of Commerce for an expo\, workshops\, networking and lunch with a keynote speaker.</span><br />\n<br />\n<span style="font-size: 10pt\;">Extensive marketing and promotion of the conference gives participants broad visibility and recognition throughout the North Shore and greater Chicagoland. The event will be widely promoted through local newspapers\, websites\, media releases\, posters\, and publications as well as through all of the participating Chambers. </span><br />\n<br />\n<span style="font-size: 10pt\;">There are numerous ways to take advantage. Consider being a presenting sponsor (only 8 spots are available)\, exhibiting at the Expo\, distributing a promotional item to attendees in the gift bags and attending the conference. You and your business are sure to benefit. See the registration form for details and act soon. The North Shore Women&rsquo\;s Conference has sold out every year!</span><br />\n&nbsp\;</font></span><br />\n<font face="Verdana" size="2"><font face="Verdana" size="2"><strong><em>Call the&nbsp\;Niles Chamber (847)&nbsp\;268-8180 for more information.</em></strong></font></font></div>\n\n<div><font face="Verdana" size="2">&nbsp\;</font></div>\n\n<div><font face="Verdana" size="2"><font face="Verdana" size="4"><strong>Participation Opportunities</strong></font></font></div>\n\n<div>&nbsp\;\n<div><font face="Verdana" size="2"><font face="Verdana" size="4"><strong><font face="Verdana"><font size="2"><strong>Networking Luncheon &amp\; Keynote Speaker:</strong> $32 Per Person</font></font></strong></font></font></div>\n</div>\n</div>\n
LOCATION:Marriott Lincolnshire 10 Marriott Drive Milwaukee Avenue at Route 22 Lincolnshire\, IL 60069
UID:e.151.712
SEQUENCE:3
DTSTAMP:20260419T161304Z
URL:https://business.nileschamber.com/events/details/2012-northshore-women-s-conference-marriott-05-11-2012-712
END:VEVENT

END:VCALENDAR
