BEGIN:VCALENDAR
VERSION:2.0
PRODID:-//ChamberMaster//Event Calendar 2.0//EN
METHOD:PUBLISH
X-PUBLISHED-TTL:P3D
REFRESH-INTERVAL:P3D
CALSCALE:GREGORIAN
BEGIN:VEVENT
DTSTART:20120421T230000Z
DTEND:20120422T033000Z
X-MICROSOFT-CDO-ALLDAYEVENT:FALSE
SUMMARY:2012 Niles Night of Roses - A Tribute to Home Grown Success
DESCRIPTION:Niles Night of Roses 2012\n\n \n\nCongratulations to our 2012 Award Recipients:\n\n \n\n \n\nBob Wordel Living Legend Award\n\nRalph Frese\n\n\n\nBusiness of the Year Award\n\nCoca-Cola Refreshments USA\, Inc.\n\n\n\nCoach of the Year Award\n\nMike Tarjan\n\n\n\nDynamic Parent Volunteer Award\n\nChristine Aragon\n\n\n\nFire Fighter "Hot Spot" Award \n\nBob Greiner\n\n\n\nKen Scheel Chamber Member of the Year Award\n\nChuck Hartogh\n\n\n\nNiles Citizen of the Year Award\n\nHelen Sparkes\n\n\n\nNiles Golden Senior Award\n\nJoan Kamys\n\n\n\nNiles Good Neighbor Award\n\nEdwin Gwozdz\n\n\n\nPolice Officer "Special Agent" Award\n\nDanielle Helma\n\n\n\nService Organization of the Year Award \n\nThe Optimist Club\n\n \n\nTeacher of the Year Award\n\nAdam Taylor\n\n\n\nUnsung Worker "Not Enough Hours in the Day" Award \n\nJoe LoVerde\n\n\n\nYouth of the Year Award\n\nRyan McEnerney\n\n \n\n \n\n\nJoin us on Saturday\, April 21\, 6:00 p.m.\n\nWhite Eagle Banquets\, Niles\n\n \n\nPlease call (847) 268-8180 to make reservations or\n\nTo download the invitation: Click Here
X-ALT-DESC;FMTTYPE=text/html:<div style="text-align: center\;"><span style="font-family: verdana\;"><span style="color: rgb(153\, 0\, 51)\;"><strong><span style="font-size: x-large\;">Niles Nig</span></strong></span><span style="color: rgb(153\, 0\, 51)\;"><strong><span style="font-size: x-large\;">ht of&nbsp\;Roses 2012</span></strong></span></span></div>\n\n<div style="text-align: center\;"><span style="color: rgb(153\, 0\, 51)\;">&nbsp\;</span></div>\n\n<div style="text-align: center\;"><span style="font-family: verdana\;"><span style="font-size: large\;"><strong>Congratulations to our 2012 Award&nbsp\;Recipients:</strong></span></span></div>\n\n<div>&nbsp\;</div>\n\n<div style="text-align: center\;">&nbsp\;</div>\n\n<div style="text-align: center\;"><span style="font-size: 12px\;"><span style="font-family: verdana\;"><strong>Bob Wordel Living Legend Award</strong><br />\nRalph Frese</span></span></div>\n\n<div style="text-align: center\;"><br />\n<span style="font-size: 12px\;"><span style="font-family: verdana\;"><strong>Business of the Year Award</strong></span></span></div>\n\n<div style="text-align: center\;"><span style="font-size: 12px\;"><span style="font-family: verdana\;">Coca-Cola Refreshments USA\, Inc.<br />\n<br />\n<strong>Coach of the Year Award</strong><br />\nMike Tarjan<br />\n<br />\n<strong>Dynamic Parent Volunteer Award</strong></span></span><br />\n<font face="Verdana">Christine Aragon</font><br />\n<br />\n<span style="font-size: 12px\;"><span style="font-family: verdana\;"><strong>Fire Fighter &quot\;Hot Spot&quot\; Award </strong></span></span></div>\n\n<div style="text-align: center\;"><span style="font-size: 12px\;"><span style="font-family: verdana\;">Bob Greiner<br />\n<br />\n<strong>Ken Scheel Chamber Member of the Year Award</strong><br />\nChuck Hartogh</span></span></div>\n\n<div style="text-align: center\;"><br />\n<span style="font-size: 12px\;"><span style="font-family: verdana\;"><strong>Niles Citizen of the Year Award</strong></span></span></div>\n\n<div style="text-align: center\;"><span style="font-size: 12px\;"><span style="font-family: verdana\;">Helen Sparkes<br />\n<br />\n<strong>Niles Golden Senior Award</strong></span></span></div>\n\n<div style="text-align: center\;"><span style="font-size: 12px\;"><span style="font-family: verdana\;">Joan Kamys<br />\n<br />\n<strong>Niles Good Neighbor Award</strong></span></span></div>\n\n<div style="text-align: center\;"><span style="font-size: 12px\;"><span style="font-family: verdana\;">Edwin Gwozdz<br />\n<br />\n<strong>Police Officer &quot\;Special Agent&quot\; Award</strong></span></span></div>\n\n<div style="text-align: center\;"><span style="font-size: 12px\;"><span style="font-family: verdana\;">Danielle Helma<br />\n<br />\n<strong><font face="Verdana">Service Organization of the Year Award</font></strong> </span></span><br />\n<span style="font-size: 12px\;"><span style="font-family: verdana\;"><span style="font-size: 12px\;"><span style="font-family: verdana\;">The Optimist&nbsp\;Club</span></span><br />\n&nbsp\;</span></span><br />\n<span style="font-size: 12px\;"><span style="font-family: verdana\;"><strong>Teacher of the Year Award</strong></span></span></div>\n\n<div style="text-align: center\;"><span style="font-size: 12px\;"><span style="font-family: verdana\;">Adam Taylor<br />\n<br />\n<strong>Unsung Worker &quot\;Not Enough Hours in the Day&quot\; Award </strong></span></span></div>\n\n<div style="text-align: center\;"><span style="font-size: 12px\;"><span style="font-family: verdana\;">Joe LoVerde<br />\n<br />\n<strong>Youth of the Year Award</strong></span></span></div>\n\n<div style="text-align: center\;"><span style="font-size: 12px\;"><span style="font-family: verdana\;">Ryan McEnerney</span></span><br />\n&nbsp\;</div>\n\n<div>&nbsp\;</div>\n\n<div>\n<div style="text-align: center\;"><strong><em><span style="font-size: medium\;"><span style="color: rgb(153\, 0\, 51)\;"><span style="font-family: verdana\;">Join us on Saturday\,&nbsp\;April 21\, 6:00 p.m.</span></span></span></em></strong></div>\n\n<div style="text-align: center\;"><strong><em><span style="font-size: medium\;"><span style="color: rgb(153\, 0\, 51)\;"><span style="font-family: verdana\;">White Eagle Banquets\, Niles</span></span></span></em></strong></div>\n\n<div style="text-align: center\;"><strong><span style="font-size: 14px\;"><span style="font-family: verdana\;"><em>&nbsp\;<br />\nPlease call (847)</em> 268-8180 to make reservations or</span></span></strong></div>\n\n<div style="text-align: center\;"><strong><span style="font-size: 14px\;"><span style="font-family: verdana\;"><em>To download the invitation: <a href="http://cloud.chambermaster.com/userfiles/UserFiles/chambers/151/File/NightRosesInvite2012.pdf">Click Here</a></em></span></span></strong></div>\n</div>\n
LOCATION:White Eagle Banquets 6839 N. Milwaukee Avenue\, Niles
UID:e.151.785
SEQUENCE:3
DTSTAMP:20260419T191548Z
URL:https://business.nileschamber.com/events/details/2012-niles-night-of-roses-a-tribute-to-home-grown-success-04-21-2012-785
END:VEVENT

END:VCALENDAR
