BEGIN:VCALENDAR
VERSION:2.0
PRODID:-//ChamberMaster//Event Calendar 2.0//EN
METHOD:PUBLISH
X-PUBLISHED-TTL:P3D
REFRESH-INTERVAL:P3D
CALSCALE:GREGORIAN
BEGIN:VEVENT
DTSTART:20120322T133000Z
DTEND:20120322T143000Z
X-MICROSOFT-CDO-ALLDAYEVENT:FALSE
SUMMARY:2012 Next Step Orientation Breakfast
DESCRIPTION:Next Step Orientation Breakfast\n\n\nThe Niles Chamber Membership TEAM is hosting a Next Step Orientation Breakfast.  New members are welcome to come and learn how to take the "next step" in their Chamber membership. This informative orientation is also great for current members who want to "refresh" their understanding of membership benefits. Learn more about getting involved\, chamber resources to build your business\, and how to make networking opportunities most effective.\n\n \n\n\nRegister online or call Debbie Juris\, Membership Service Coordinator (847) 268-8180. Open to all members.
X-ALT-DESC;FMTTYPE=text/html:<div><br />\n<span style="font-size: 18px\;"><font face="Verdana"><strong>Next Step Orientation Breakfast</strong></font></span></div>\n\n<div style="margin: 0in 0in 0pt\;">\n<div style="margin: 0in 0in 0pt\;"><font face="Verdana" size="2">The Niles Chamber Membership TEAM is hosting a Next Step Orientation Breakfast.&nbsp\;</font> <font face="Verdana" size="2">New members are welcome to come and learn how to take the &quot\;next step&quot\; in their Chamber membership. This informative&nbsp\;orientation is also great for current members who want to &quot\;refresh&quot\; their understanding of membership benefits. Learn more about getting involved\, chamber resources to build your business\,&nbsp\;and how to make&nbsp\;networking opportunities&nbsp\;most effective.</font></div>\n\n<div style="margin: 0in 0in 0pt\;"><font face="Verdana" size="2">&nbsp\;</font></div>\n</div>\n\n<div style="margin: 0in 0in 0pt\;"><font face="Verdana" size="2">Register online or call Debbie Juris\,&nbsp\;Membership Service Coordinator (847) 268-8180. Open to all members.</font></div>\n
LOCATION:Niles Chamber Conference Room 8060 W. Oakton\, Niles Inside the NorthSide Community Bank building
UID:e.151.784
SEQUENCE:3
DTSTAMP:20260419T221255Z
URL:https://business.nileschamber.com/events/details/2012-next-step-orientation-breakfast-03-22-2012-784
END:VEVENT

END:VCALENDAR
