BEGIN:VCALENDAR
VERSION:2.0
PRODID:-//ChamberMaster//Event Calendar 2.0//EN
METHOD:PUBLISH
X-PUBLISHED-TTL:P3D
REFRESH-INTERVAL:P3D
CALSCALE:GREGORIAN
BEGIN:VEVENT
DTSTART:20120807T163000Z
DTEND:20120807T183000Z
X-MICROSOFT-CDO-ALLDAYEVENT:FALSE
SUMMARY:2012 Multi-Chamber Mega Connect Networking Lunch\, Holiday Inn NorthShore
DESCRIPTION:Multi-Chamber Networking Breakfast\n\nWith the Buffalo Grove Area\, Chicago Area Gay & Lesbian\, DBR\, Des Plaines\, Evanston\, Glenview\, Glencoe\, Highland Park\, Mount Prospect\, Niles\, Northbrook\, Park Ridge\, Skokie\, Wheeling/Prospect Heights Area and Wilmette Chambers of Commerce\n\n \n\nTuesday\, August 7\, 2012\, 11:30 a.m. - 1:30 p.m.\n\nat Holiday Inn - Mount Prospect\, 200 E. Rand Road\, Mt. Prospect\, IL\n\n \n\nRSVP and Payment Due by 5:00 p.m.\, Friday\, July 27\, 2012\n\nMember Pre-Registration Fee: $20 ($35 after 5:00 p.m.\, August 1)\n\nNon-Member Fee: $35\n\nWalk-ins strongly discouraged and may not be accommodated!\n\n\n\nTo Download Registration: Click Here\n\n\n\n \n    Multiply your networking potential! The Buffalo Grove\, Chicago Area Gay & Lesbian\, DBR\, Des Plaines\, Evanston\, Glenview\, Glencoe\, Highland Park\, Mount Prospect\, Niles\, Northbrook\, Park Ridge\, Skokie\, Wheeling/prospect Heights and Wilmette Chamber members will have the chance to promote their businesses to an expanded audience at the Mega Connect Multi-Chamber Networking Breakfast on Thursday\, March 24 at 11:30 a.m. at Crown Plaza Chicago Northbrook.\n\n     Members looking for a productive networking experience will enjoy the structured format of this program\, which gives each participant an opportunity to speak to a receptive audience about his/her company's products and services. \n\n    The event will begin with informal networking over a box lunch. After that\, the group will be divided into small groups at assigned tables where everyone will give 2 minute presentations on their companies. Following will be an additional presentation to a second group of participants. In addition\, everyone will receive a contact list of pre-registered participants. Don't miss this unique opportunity to expand your reach and resources! \n\nPlease note that table assignments will begin promptly at 11:45 a.m. If you are not there by 11:45 a.m.\, your space will be given away to another participant and you will need to check-in at the "Late Registration Table".  Please arrive on time to get the most out of your networking experience!
X-ALT-DESC;FMTTYPE=text/html:<div align="center"><span style="font-size: 14px\;"><font face="Verdana"><strong>Multi-Chamber Networking&nbsp\;Breakfast</strong></font></span></div>\n\n<div align="center" style="margin: 0in 0in 0pt\;"><span style="font-size: 12px\;"><em><font face="Verdana">With the Buffalo Grove Area\, Chicago Area Gay &amp\; Lesbian\, DBR\, Des Plaines\, Evanston\, Glenview\, Glencoe\, Highland Park\, Mount Prospect\, Niles\, Northbrook\, Park Ridge\,&nbsp\;Skokie\, Wheeling/Prospect Heights Area and&nbsp\;Wilmette </font></em><em><font face="Verdana">Chambers of Commerce</font></em></span></div>\n\n<div align="center" style="margin: 0in 0in 0pt\;"><span style="font-size: 14px\;"><font face="Verdana">&nbsp\;</font></span></div>\n\n<div align="center" style="margin: 0in 0in 0pt\;"><span style="font-size: 14px\;"><span style="color: black\;"><font face="Verdana"><strong>Tuesday\,&nbsp\;August 7\, 2012\, 11:30 a.m. - 1:30 p.m.</strong></font></span></span></div>\n\n<div align="center" style="margin: 0in 0in 0pt\;"><span style="font-size: 14px\;"><span style="color: black\;"><font face="Verdana">at&nbsp\;Holiday Inn - Mount Prospect\,&nbsp\;200 E. Rand Road\, Mt.&nbsp\;Prospect\, IL</font></span></span></div>\n\n<div align="center" style="margin: 0in 0in 0pt\;">&nbsp\;</div>\n\n<div align="center" style="margin: 0in 0in 0pt\;"><span style="font-size: 12px\;"><span style="color: black\;"><font face="Verdana">RSVP and Payment Due by 5:00 p.m.\, Friday\, July 27\, 2012</font></span></span></div>\n\n<div align="center" style="margin: 0in 0in 0pt\;"><span style="font-size: 12px\;"><span style="color: black\;"><font face="Verdana">Member Pre-Registration Fee: $20 ($35 after 5:00 p.m.\,&nbsp\;August&nbsp\;1)</font></span></span></div>\n\n<div align="center" style="margin: 0in 0in 0pt\;"><span style="font-size: 12px\;"><span style="color: black\;"><font face="Verdana">Non-Member Fee: $35</font></span></span></div>\n\n<div align="center" style="margin: 0in 0in 0pt\;"><span style="font-size: 12px\;"><u><em><span style="color: black\;"><font face="Verdana"><strong>Walk-ins strongly </strong></font></span></em></u><em><span style="color: black\;"><font face="Verdana"><u><strong>discouraged and may not be accommodated!</strong></u></font></span></em><br />\n<br />\n<strong><span style="color: black\;"><font face="Verdana">To Download Registration: </font></span><a href="http://cloud.chambermaster.com/userfiles/UserFiles/chambers/151/File/AugustConnect2012.pdf"><span style="color: rgb(0\, 0\, 255)\;"><u><em><span style="font-family: verdana\;">Click Here</span></em></u></span></a></strong></span><br />\n<br />\n&nbsp\;</div>\n<span style="font-size: 12px\;"><font face="Verdana">&nbsp\;&nbsp\;&nbsp\; Multiply your networking potential! The Buffalo Grove\, Chicago Area Gay &amp\; Lesbian\, DBR\, Des Plaines\, Evanston\, Glenview\, Glencoe\, Highland Park\, Mount Prospect\, Niles\, Northbrook\, Park Ridge\, Skokie\, Wheeling/prospect Heights and Wilmette&nbsp\;Chamber members will have the chance to promote their businesses to an <u>expanded</u> audience at the Mega Connect Multi-Chamber Networking Breakfast on Thursday\, March&nbsp\;24 at 11:30 a.m. at Crown Plaza Chicago Northbrook.<br />\n&nbsp\;</font><font face="Verdana">&nbsp\;&nbsp\;&nbsp\;&nbsp\;Members looking for a productive networking experience will enjoy the structured format of this program\, which gives each participant an opportunity to speak to a receptive audience about his/her company&rsquo\;s products and services.&nbsp\;</font></span>\n\n<p align="left" style="margin: 0in 0in 0pt\;"><span style="font-size: 12px\;"><font face="Verdana">&nbsp\;&nbsp\;&nbsp\;&nbsp\;The event will begin with informal networking over a box lunch.&nbsp\;After that\, the group will be divided into small groups at assigned tables where everyone will give 2 minute presentations on their companies.&nbsp\;Following will be an additional presentation to a second group of participants.&nbsp\;In addition\, everyone will receive a contact list of pre-registered participants.&nbsp\;Don&rsquo\;t miss this unique opportunity to expand your reach and resources!&nbsp\;</font></span></p>\n\n<p align="left" style="margin: 0in 0in 0pt\; text-indent: 0.5in\;"><span style="font-size: 12px\;"><font face="Verdana">Please note that table assignments will begin <u>promptly at 11:45 a.m</u>.&nbsp\;If you are not there by 11:45 a.m.\, your space will be given away to another participant and you will need to check-in at the &quot\;Late Registration Table&quot\;.&nbsp\;&nbsp\;<u>Please</u> arrive on time to get the most out of your networking experience!</font></span></p>\n
LOCATION:Holiday Inn - Mount Prospect 200 E. Rand Road\, Mount Prospect\, IL
UID:e.151.1194
SEQUENCE:3
DTSTAMP:20260419T143607Z
URL:https://business.nileschamber.com/events/details/2012-multi-chamber-mega-connect-networking-lunch-holiday-inn-northshore-08-07-2012-1194
END:VEVENT

END:VCALENDAR
