BEGIN:VCALENDAR
VERSION:2.0
PRODID:-//ChamberMaster//Event Calendar 2.0//EN
METHOD:PUBLISH
X-PUBLISHED-TTL:P3D
REFRESH-INTERVAL:P3D
CALSCALE:GREGORIAN
BEGIN:VEVENT
DTSTART:20121029T200000Z
DTEND:20121029T230000Z
X-MICROSOFT-CDO-ALLDAYEVENT:FALSE
SUMMARY:2012 Multi-Chamber Business to Business Expo & Taste - Hilton
DESCRIPTION:Multi-Chamber Business-to-Business\n\nExpo & Taste\n\n \n\nPresented by:\n\nBuffalo Grove\, Des Plaines\, Edison Park\, Mount Prospect\, Niles\, Park Ridge\,\n\nSkokie\, and Wheeling/Prospect Heights\n\n\n\nMonday\, October 29\n\n3:00 - p.m. - 6:00 p.m.\n\n\n\nFree Admission and Free Parking\n\n\n\nLooking for ways to improve your bottom line? Need better marketing tools? How about vendors that can save you money? For these answers and more\, visit our Annual Business to Business Expo and Taste. Business owners\, managers\, employees and home based businesses from the area are invited to attend at no charge\, with a business card the only requirement for entry.\n\n\n\nPlus enjoy samples from these great\n\narea restaurants/caterers and more:\n\n\n\nBlack Finn American Grille\n\nBuca di Beppo\n\nFather and Son Italian Kitchen\n\nGFS Marketplace\n\nHilton Chicago / Northbrook\n\nLynfred Winery-Wheeling\n\nSaranello's\n\nWa-Pa-Ghetti's Pizza\n\nWhole Foods Market\n\nand more!
X-ALT-DESC;FMTTYPE=text/html:<div>\n<div style="margin: 0in 0in 0pt\;">\n<div style="margin: 0in 0in 0pt\; text-align: center\;"><span style="font-size: medium\;"><span style="font-size: large\;"><font face="Verdana">&nbsp\;<strong>Multi-Chamber Business-to-Business</strong></font></span></span></div>\n\n<div style="margin: 0in 0in 0pt\; text-align: center\;"><span style="font-size: medium\;"><span style="font-size: x-large\;"><font face="Verdana"><strong>Expo &amp\;&nbsp\;Taste</strong></font></span></span></div>\n\n<div style="margin: 0in 0in 0pt\; text-align: center\;"><span style="font-size: medium\;"><span style="font-size: small\;"><span style="font-family: verdana\;"><font face="Verdana">&nbsp\;</font></span></span></span></div>\n\n<div style="margin: 0in 0in 0pt\; text-align: center\;"><span style="font-family: verdana\;"><span style="font-size: 14px\;">Presented by:</span></span></div>\n\n<div style="margin: 0in 0in 0pt\; text-align: center\;"><span style="font-family: verdana\;"><span style="font-size: 14px\;">Buffalo Grove\, Des Plaines\, Edison&nbsp\;Park\, Mount Prospect\, Niles\, Park Ridge\,<br />\nSkokie\, and Wheeling/Prospect Heights</span><br />\n<br />\n<strong><span style="font-size: 16px\;">Monday\, October 29<br />\n3:00 - p.m. - 6:00 p.m.</span></strong><br />\n<br />\n<span style="font-size: 14px\;">Free Admission and Free Parking<br />\n<br />\nLooking for ways to improve your bottom line? Need better marketing tools? How about vendors that can save you money? For these answers and more\, visit our Annual Business to Business Expo and Taste. Business owners\, <span style="font-size: 12px\;">ma</span>nagers\, employees and home based businesses from the area are invited to attend at no charge\, with a business card the only requirement for entry.<br />\n<br />\n<strong>Plus enjoy samples from these great<br />\narea restaurants/caterers and more:</strong></span></span><br />\n<br />\n<span style="font-size: 14px\;"><span style="font-family: verdana\;">Black Finn American Grille<br />\nBuca di Beppo<br />\nFather and Son Italian Kitchen<br />\nGFS Marketplace<br />\nHilton Chicago / Northbrook<br />\nLynfred Winery-Wheeling<br />\nSaranello&#39\;s<br />\nWa-Pa-Ghetti&#39\;s Pizza<br />\nWhole Foods Market<br />\nand more!</span></span></div>\n\n<div style="margin: 0in 0in 0pt\;"><span style="font-size: 14px\;"><span style="font-family: verdana\;">&nbsp\;</span></span></div>\n</div>\n</div>\n
LOCATION:Hilton Chicago/Northbrook 2855 N. Milwaukee Avenue\, Northbrook 60062
UID:e.151.1197
SEQUENCE:3
DTSTAMP:20260421T082054Z
URL:https://business.nileschamber.com/events/details/2012-multi-chamber-business-to-business-expo-taste-hilton-10-29-2012-1197
END:VEVENT

END:VCALENDAR
