BEGIN:VCALENDAR
VERSION:2.0
PRODID:-//ChamberMaster//Event Calendar 2.0//EN
METHOD:PUBLISH
X-PUBLISHED-TTL:P3D
REFRESH-INTERVAL:P3D
CALSCALE:GREGORIAN
BEGIN:VEVENT
DTSTART:20120516T220000Z
DTEND:20120517T000000Z
X-MICROSOFT-CDO-ALLDAYEVENT:FALSE
SUMMARY:2012 Business After Hours\, May - Lin-Mar Motors
DESCRIPTION:Multi-Chamber Business After Hours on \n\nMay 16th\, Morton Grove\, Niles\, Skokie\, Park Ridge\, Wilmette\, Edgebrook and Sauganash Chambers hosted by:\n\nLin-Mar Motors\, Inc.\n\n \n\nBusiness After Hours are a great way to network and meet area business owners and company representatives. Remember that networking is not only a resource to gain customers and generate leads\, but also a chance to find new vendors\, share new ideas\, or find new ways to offer benefits to your employees. \n\n \n\n\nEvent Registration posted online*. \n\nCheck out who is attending the event. Any Chamber member that registers will be listed below. *Registrations are posted from the Chamber office and NOT automatic. \n \n\nName (Company):\n\nDavid Cormany - Batteries Plus\n\nBenjamin Hedge - Batteries Plus\n\nGeorge Lowe - Sparkfactor\n\nKate Alpert - Sparkfactor\n\nTess Mitchell - Chicago Sky\n\nKim Schaefer - Grosse Point Manor\n\nJeff Day - Tribune Products Co.\n\nCandace Melinger - Tribune Products Co.\n\nJeff Butler - Kessler\, Orlean\, Silver & Company\, P.C.\n\nPam DeFiglio - Patch.com\n\nRoberta Koch - Amway Independent Business Owner\n\nLou Jose - International Career Institute\n\nPeter Huynh - State Farm Agency\n\nTony Toledo - Fifth Third Bank\n\nDr. Bruce Hertz - Akiens-Hertz Medical Center\n\nSteven Bonica - Romanian-American Network\n\nChuck Hartogh - C&M Auto Service\, Inc.\n\nRachael LeMieux - Star Nissan\n\nAl Katz - Independent Sales Associate - Pre-Paid Legal\n\nGabriella Voicu - Romanian-American Network
X-ALT-DESC;FMTTYPE=text/html:<div>&nbsp\;</div>\n\n<div align="center"><span style="font-family: verdana\;"><span style="font-size: large\;"><strong><span style="color: black\; font-style: normal\;"><em><strong><em><font color="#000000" face="Verdana" size="4">Multi-Chamber&nbsp\;</font></em></strong>Business&nbsp\;After Hours on&nbsp\;<br />\nMay 16th\,&nbsp\;Morton Grove\, Niles\,&nbsp\;Skokie\, Park Ridge\,&nbsp\;Wilmette\, Edgebrook and&nbsp\;Sauganash&nbsp\;Chambers hosted by:</em></span></strong></span></span></div>\n\n<div align="center"><span style="font-family: verdana\;"><span style="font-size: x-large\;"><span style="color: black\; font-style: normal\;"><font color="#ff0000"><strong>Lin-Mar Motors\, Inc.</strong></font></span></span><br />\n&nbsp\;</span></div>\n\n<div><span style="font-family: verdana\;"><span style="color: black\; font-size: 10pt\; font-style: normal\;">Business After Hours are a great way to network and meet area business owners and company representatives. Remember that networking is not only a resource to gain customers and generate leads\, but also a chance to find new vendors\, share new ideas\, or find new ways to offer benefits to your employees. </span></span></div>\n\n<div><span style="font-family: verdana\;"><font size="2">&nbsp\;</font></span></div>\n\n<div>\n<div><span style="font-family: verdana\;"><span style="color: black\; font-size: 10pt\; font-style: normal\;"><strong><font color="#000080"><span style="color: black\; font-size: 10pt\; font-style: normal\;"><strong><font color="#000080">Event Registration posted online*.</font></strong>&nbsp\;</span></font></strong></span></span></div>\n\n<div><span style="font-family: verdana\;"><span style="color: black\; font-size: 10pt\; font-style: normal\;"><strong><font color="#000080"><span style="font-size: small\;"><span style="color: black\; font-style: normal\;">Check out&nbsp\;who is attending the event. Any Chamber member that registers will be listed below. <em>*Registrations are posted from the Chamber office and NOT automatic.</em>&nbsp\;</span></span></font></strong></span></span></div>\n<span style="font-family: verdana\;"><font size="2">&nbsp\;</font></span></div>\n\n<div><span style="font-family: verdana\;"><span style="color: black\; font-size: 10pt\; font-style: normal\;"><u><strong>Name&nbsp\;(Company):</strong></u><br />\nDavid Cormany&nbsp\;- Batteries Plus<br />\nBenjamin Hedge -&nbsp\;Batteries Plus<br />\nGeorge Lowe - Sparkfactor<br />\nKate Alpert -&nbsp\;Sparkfactor<br />\nTess&nbsp\;Mitchell&nbsp\;- Chicago Sky<br />\nKim Schaefer - Grosse Point Manor<br />\nJeff Day - Tribune Products Co.<br />\nCandace Melinger&nbsp\;- Tribune Products Co.<br />\nJeff Butler - Kessler\,&nbsp\;Orlean\, Silver &amp\; Company\, P.C.<br />\nPam&nbsp\;DeFiglio - Patch.com<br />\nRoberta Koch -&nbsp\;Amway Independent Business Owner<br />\nLou Jose -&nbsp\;International Career Institute<br />\nPeter Huynh&nbsp\;-&nbsp\;State Farm Agency</span></span><br />\n<span style="font-family: verdana\;">Tony Toledo&nbsp\;-&nbsp\;Fifth Third Bank<br />\nDr.&nbsp\;Bruce Hertz - Akiens-Hertz&nbsp\;Medical Center<br />\nSteven Bonica&nbsp\;- Romanian-American Network<br />\nChuck Hartogh&nbsp\;- C&amp\;M Auto Service\, Inc.</span><br />\nRachael LeMieux&nbsp\;- Star Nissan<br />\nAl Katz&nbsp\;-&nbsp\;Independent&nbsp\;Sales&nbsp\;Associate -&nbsp\;Pre-Paid Legal<br />\nGabriella Voicu&nbsp\;- Romanian-American Network<br />\n&nbsp\;</div>\n
LOCATION:Lin-Mar Motors\, Inc. 5940 W. Oakton Street Morton Grove\, IL 60053
UID:e.151.773
SEQUENCE:3
DTSTAMP:20260419T161423Z
URL:https://business.nileschamber.com/events/details/2012-business-after-hours-may-lin-mar-motors-05-16-2012-773
END:VEVENT

END:VCALENDAR
