BEGIN:VCALENDAR
VERSION:2.0
PRODID:-//ChamberMaster//Event Calendar 2.0//EN
METHOD:PUBLISH
X-PUBLISHED-TTL:P3D
REFRESH-INTERVAL:P3D
CALSCALE:GREGORIAN
BEGIN:VEVENT
DTSTART:20120314T223000Z
DTEND:20120315T003000Z
X-MICROSOFT-CDO-ALLDAYEVENT:FALSE
SUMMARY:2012 Business After Hours\, March - Citibank
DESCRIPTION:March Business After Hours hosted by:\n\nCitibank\n\n \n\n\nBusiness After Hours are a great way to network and meet area business owners and company representatives. Remember that networking is not only a resource to gain customers and generate leads\, but also a chance to find new vendors\, share new ideas\, or find new ways to offer benefits to your employees. \n\n \n\nEvent Registration posted online*. \n\nCheck out who is attending this event. *Registrations are posted from the Chamber office and NOT automatic. \n\n \n\nName (Company):\n\nDr. Bruce Hertz - Akiens-Hertz Medical Center\n\nJeff Kovit - Jeff Kovit Video Productions\n\nDean Strzelecki - Niles Police Department\n\nDick Barton - Barton Marketing Group\n\nBill Griffis - Wells Fargo Advisors\, Wealth Brokerage Services\n\nJohn J. Lee - Principal Financial Group\n\nDennis Vaccaro - RV Enterprises\, Ltd.\n\nScott Tucker - InSphere Insurance Solutions \n\nJoe Walsh - Access Benefit Solutions\n\nRoberta Koch - Amway Independent Business Owner \n\nBruce Glickson - GFS Marketplace\n\nMary Lee Quaid - Lee Accupuncture & Healing Center\, Inc.\n\nPaul Johnson - GOBIZPROMO.COM\n\nDavid Lehman - GOBIZPROMO.COM\n\nKathy Conny - Skokie Valley Symphony Orchestra\n\nTina Senska - John Senska & Sons\, Inc.\n\nJohn Senska - John Senska & Sons\, Inc.\n\nJohn Koelig - Koelig & Associates\n\nIwona Filipiak - Keonig and Strey Real Living\n\nRandy Greco - Cholab\n\nMike Looby - Diversified Graphics\n\nJacob Ehrensaft - Attorney\n\nJim Capparelli - Journal & Topics Newspaper\n\nJoe Penze - Niles Police Department\n\nAl Katz - Independent Sales Associate\, Prepaid Legal\n\nIrma Katz -Independent Sales Associate\, Prepaid Legal\n\nCandace Meilinger - Tribune Products\n\nJeff Day - Tribune Products\n\nJack Stachnik - TV Facts\n\nVince Scaletta - Aflac\n\nPattie Spiegelman - C&M Auto Service\, Inc.\n\nChuck Hartogh - C&M Auto Service\, Inc.\n\nMichael Molitor - Allstate Insurance
X-ALT-DESC;FMTTYPE=text/html:<div>&nbsp\;</div>\n\n<div>\n<div align="center"><span style="font-family: verdana\;"><span style="font-size: large\;"><strong><span style="color: black\; font-style: normal\;"><em>March&nbsp\;Business After Hours hosted by:</em></span></strong></span></span></div>\n\n<div align="center"><span style="color: rgb(255\, 0\, 0)\;"><span style="font-size: 36px\;"><span style="font-family: verdana\;"><span style="font-style: normal\;"><strong>Citibank</strong></span></span></span></span><br />\n&nbsp\;</div>\n</div>\n\n<div><span style="font-family: verdana\;"><span style="color: black\; font-size: 10pt\; font-style: normal\;">Business After Hours are a great way to network and meet area business owners and company representatives. Remember that networking is not only a resource to gain customers and generate leads\, but also a chance to find new vendors\, share new ideas\, or find new ways to offer benefits to your employees. </span></span></div>\n\n<div><span style="font-family: verdana\;"><font size="2">&nbsp\;</font></span></div>\n\n<div><span style="font-family: verdana\;"><span style="color: black\; font-size: 10pt\; font-style: normal\;"><strong><font color="#000080">Event Registration posted online*.</font></strong>&nbsp\;</span></span><br />\n<span style="font-family: verdana\;"><span style="color: black\; font-size: 10pt\; font-style: normal\;">Check out&nbsp\;who is attending this event. <em>*Registrations are posted from the Chamber office and NOT automatic.</em></span><span style="color: black\; font-size: 10pt\; font-style: normal\;">&nbsp\;</span></span></div>\n\n<div><span style="font-family: verdana\;"><font size="2">&nbsp\;</font></span></div>\n\n<div><span style="font-family: verdana\;"><span style="color: black\; font-size: 10pt\; font-style: normal\;"><u><strong>Name&nbsp\;(Company):</strong></u><br />\nDr. Bruce Hertz - Akiens-Hertz Medical Center<br />\nJeff Kovit - Jeff Kovit Video&nbsp\;Productions<br />\nDean Strzelecki&nbsp\;- Niles Police Department<br />\nDick Barton - Barton Marketing Group<br />\nBill Griffis&nbsp\;- Wells Fargo Advisors\, Wealth Brokerage Services<br />\nJohn J. Lee - Principal Financial Group</span></span><br />\n<font color="#000000" face="Verdana" size="2">Dennis Vaccaro - RV Enterprises\, Ltd.<br />\nScott&nbsp\;Tucker - InSphere Insurance Solutions<span _fck_bookmark="1" style="display: none\;">&nbsp\;</span><br />\nJoe Walsh - Access Benefit Solutions<br />\nRoberta Koch - Amway Independent Business Owner&nbsp\;<br />\nBruce Glickson - GFS&nbsp\;Marketplace<br />\nMary Lee Quaid - Lee Accupuncture &amp\; Healing Center\, Inc.<br />\nPaul Johnson - GOBIZPROMO.COM<br />\nDavid Lehman - GOBIZPROMO.COM<br />\nKathy Conny - Skokie Valley Symphony Orchestra<br />\nTina Senska - John Senska &amp\; Sons\,&nbsp\;Inc.</font><br />\n<font face="Verdana" size="2">John Senska - John Senska&nbsp\;&amp\; Sons\, Inc.<br />\nJohn Koelig - Koelig&nbsp\;&amp\; Associates</font></div>\n\n<div><span style="font-size: 12px\;"><span style="font-family: verdana\;">Iwona Filipiak - Keonig and Strey Real Living</span></span></div>\n\n<div><span style="font-size: 12px\;"><span style="font-family: verdana\;">Randy Greco - Cholab</span></span></div>\n\n<div><span style="font-size: 12px\;"><span style="font-family: verdana\;">Mike Looby - Diversified Graphics<br />\nJacob Ehrensaft - Attorney</span></span></div>\n\n<div><span style="font-size: 12px\;"><span style="font-family: verdana\;">Jim Capparelli - Journal &amp\; Topics Newspaper<br />\nJoe Penze - Niles Police Department</span></span></div>\n\n<div><span style="font-size: 12px\;"><span style="font-family: verdana\;">Al Katz - Independent Sales Associate\, Prepaid Legal<br />\nIrma Katz -Independent Sales Associate\, Prepaid Legal<br />\nCandace Meilinger - Tribune Products<br />\nJeff Day - Tribune Products<br />\nJack Stachnik - TV Facts<br />\nVince Scaletta - Aflac<br />\nPattie Spiegelman - C&amp\;M Auto Service\, Inc.<br />\nChuck Hartogh - C&amp\;M Auto Service\, Inc.<br />\nMichael Molitor - Allstate Insurance</span></span></div>\n\n<div><br />\n<br />\n&nbsp\;</div>\n
LOCATION:Citibank 8400 W. Dempster Street Niles\, IL 60714
UID:e.151.774
SEQUENCE:3
DTSTAMP:20260419T203502Z
URL:https://business.nileschamber.com/events/details/2012-business-after-hours-march-citibank-03-14-2012-774
END:VEVENT

END:VCALENDAR
