BEGIN:VCALENDAR
VERSION:2.0
PRODID:-//ChamberMaster//Event Calendar 2.0//EN
METHOD:PUBLISH
X-PUBLISHED-TTL:P3D
REFRESH-INTERVAL:P3D
CALSCALE:GREGORIAN
BEGIN:VEVENT
DTSTART:20120613T220000Z
DTEND:20120614T000000Z
X-MICROSOFT-CDO-ALLDAYEVENT:FALSE
SUMMARY:2012 Business After Hours\, June - Star Nissan
DESCRIPTION:June Business After Hours hosted by:\n\nStar Nissan Inc.\n\n\n\n\nBusiness After Hours are a great way to network and meet area business owners and company representatives. Remember that networking is not only a resource to gain customers and generate leads\, but also a chance to find new vendors\, share new ideas\, or find new ways to offer benefits to your employees. \n\n \n\nEvent Registration posted online*. \n\nCheck out who is attending this event. *Registrations are posted from the Chamber office and NOT automatic. \n\n \n\nName (Company):\n\nSteve Ludwinski - Edward Jones\n\nJeffrey Butler - Kessler\, Orlean\, Silver & Company\, P.C.\n\nJacob Ehrensaft\, Law Office of\n\nBill Griffis - Wells Fargo Financial Group\n\nKris Hansen - Regency Rehabilitation Center\n\nJeff Day - Tribune Products Co.\n\nCandace Mellinger - Tribune Products Co.\n\nMonika Kalicki - Golf Mill Shopping Center\n\nRoberta Koch - Amway Independent Owner\n\nTom Heskin - Brilliant Electric Heating & Cooling\, Inc.  \n\nJohn Lee - Principal Financial Group \n\nTina Senska - John Senska & Sons\n\nJohn Senska - John Senska & Sons\n\nSteve Ahn - Bee Sales\n\nKim Schafer - Grosse Pointe Manor\n\nJoe Walsh - Access Benefit Solutions \n\nDick Barton - Barton Marketing Group\n\nJoanne Cwynar - Ambassador\n\nAl Katz - Independent Sales Associate\, Pre-Paid Legal\n\nSherwin Weisman -  North Suburban Hearing Service\n\nLou Jose - International Career Institute \n\nWojciech Wojtyrowski - PNC Bank\n\nAnna Nawara - PNC Bank\n\nKathy Noga - Ashley Furniture \n\nBenjamin Hedge - Batteries Plus\n\nVince Scaletta - Aflac
X-ALT-DESC;FMTTYPE=text/html:<div>&nbsp\;</div>\n\n<div>\n<div align="center"><span style="font-family: verdana\;"><span style="font-size: large\;"><strong><span style="color: black\; font-style: normal\;"><em>June&nbsp\;Business After Hours hosted by:</em></span></strong></span></span></div>\n\n<div align="center"><span style="color: rgb(255\, 0\, 0)\;"><span style="font-size: 36px\;"><span style="font-family: verdana\;"><span style="font-style: normal\;"><strong>Star Nissan Inc.</strong></span></span></span></span></div>\n</div>\n\n<div><br />\n<span style="font-family: verdana\;"><span style="color: black\; font-size: 10pt\; font-style: normal\;">Business After Hours are a great way to network and meet area business owners and company representatives. Remember that networking is not only a resource to gain customers and generate leads\, but also a chance to find new vendors\, share new ideas\, or find new ways to offer benefits to your employees. </span></span></div>\n\n<div><span style="font-family: verdana\;"><font size="2">&nbsp\;</font></span></div>\n\n<div><span style="font-family: verdana\;"><span style="color: black\; font-size: 10pt\; font-style: normal\;"><strong><font color="#000080">Event Registration posted online*.</font></strong>&nbsp\;</span></span><br />\n<span style="font-family: verdana\;"><span style="color: black\; font-size: 10pt\; font-style: normal\;">Check out&nbsp\;who is attending this event. <em>*Registrations are posted from the Chamber office and NOT automatic.</em></span><span style="color: black\; font-size: 10pt\; font-style: normal\;">&nbsp\;</span></span></div>\n\n<div><span style="font-family: verdana\;"><font size="2">&nbsp\;</font></span></div>\n\n<div><span style="font-family: verdana\;"><span style="color: black\; font-size: 10pt\; font-style: normal\;"><u><strong>Name&nbsp\;(Company):</strong></u></span></span><br />\nSteve Ludwinski - Edward Jones<br />\nJeffrey Butler - Kessler\, Orlean\, Silver &amp\;&nbsp\;Company\, P.C.<br />\nJacob Ehrensaft\, Law&nbsp\;Office of<br />\nBill Griffis - Wells Fargo&nbsp\;Financial Group<br />\nKris Hansen - Regency Rehabilitation&nbsp\;Center<br />\nJeff&nbsp\;Day&nbsp\;- Tribune Products Co.<br />\nCandace Mellinger&nbsp\;- Tribune Products Co.<br />\nMonika Kalicki -&nbsp\;Golf Mill Shopping&nbsp\;Center<br />\nRoberta Koch -&nbsp\;Amway Independent Owner<br />\nTom Heskin -&nbsp\;Brilliant Electric Heating &amp\; Cooling\, Inc.&nbsp\;&nbsp\;<br />\nJohn&nbsp\;Lee -&nbsp\;Principal Financial Group&nbsp\;<br />\nTina Senska -&nbsp\;John Senska&nbsp\;&amp\; Sons<br />\nJohn Senska - John Senska&nbsp\;&amp\; Sons<br />\nSteve Ahn&nbsp\;- Bee Sales<br />\nKim Schafer - Grosse&nbsp\;Pointe Manor<br />\nJoe Walsh -&nbsp\;Access Benefit Solutions&nbsp\;<br />\nDick Barton -&nbsp\;Barton Marketing Group<br />\nJoanne Cwynar&nbsp\;- Ambassador<br />\nAl Katz -&nbsp\;Independent Sales Associate\, Pre-Paid Legal<br />\nSherwin&nbsp\;Weisman -&nbsp\; North Suburban&nbsp\;Hearing Service<br />\nLou Jose - International Career&nbsp\;Institute&nbsp\;<br />\nWojciech Wojtyrowski - PNC Bank<br />\nAnna Nawara - PNC Bank<br />\nKathy Noga&nbsp\;-&nbsp\;Ashley Furniture&nbsp\;<br />\nBenjamin&nbsp\;Hedge&nbsp\;- Batteries Plus<br />\nVince Scaletta -&nbsp\;Aflac</div>\n
LOCATION:Star Nissan Inc. 5757 W. Touhy Avenue Niles\, IL 60714
UID:e.151.790
SEQUENCE:3
DTSTAMP:20260419T161453Z
URL:https://business.nileschamber.com/events/details/2012-business-after-hours-june-star-nissan-06-13-2012-790
END:VEVENT

END:VCALENDAR
