BEGIN:VCALENDAR
VERSION:2.0
PRODID:-//ChamberMaster//Event Calendar 2.0//EN
METHOD:PUBLISH
X-PUBLISHED-TTL:P3D
REFRESH-INTERVAL:P3D
CALSCALE:GREGORIAN
BEGIN:VEVENT
DTSTART:20120124T230000Z
DTEND:20120125T010000Z
X-MICROSOFT-CDO-ALLDAYEVENT:FALSE
SUMMARY:2012 Business After Hours\, January - Kiddie Kingdom
DESCRIPTION:January Business After Hours hosted by:\n\nKiddie Kingdom\n\n \n\n\nBusiness After Hours are a great way to network and meet area business owners and company representatives. Remember that networking is not only a resource to gain customers and generate leads\, but also a chance to find new vendors\, share new ideas\, or find new ways to offer benefits to your employees. \n\n \n\nEvent Registration posted online*. \n\nCheck out who is attending this event. *Registrations are posted from the Chamber office and NOT automatic. \n\n \n\nName (Company):\n\nRoberta Koch - Amway Independent Business Owner\n\nDean Strzelecki - Niles Police Department\n\nJim Capparelli - Journal Newspapers\n\nDavid Levine - Illinois Nut & Candy\n\nAlbert Riehle - Amerimac\n\nSue Wilsey - Niles Public Library\n\nScott Tucker - InSphere Insurance Solutions\n\nAl Katz - Independent Sales Associate\, Pre-Paid Legal\n\nJerry Neiberg - Illinois Mutual Life Insurance Company\n\nPattie Spiegelman - C&M Auto Service\, Inc.\n\nMichael Ziccarelli - FirstMerit Bank\n\nMark Haave - FirstMerit Bank\n\nAndrea Hansen - CBeyond\n\nRandy Greco - CHoLAB\, Inc.\n\nJoanne Cwynar - Ambassador\n\nJoe Walsh - Access Benefit Solutions\n\nDr. Bob Richart - Richart Spinal & Sports Rehabilitation\, Ltd. \n\nBill Griffis - Wells Fargo Advisors\, Wealth Brokerage Services\n\nBenjamin Hedge - Batteries Plus\n\nCraig Butler - GFS Marketplace\n\nTodd Watkins - K & M Printing\n\nKrystyna Koda - Ridgewood Gardens\n\nDennis Vaccaro - RV Enterprises\, Ltd.\n\nBarb Kruser - Niles Public Library\n\nGoldie Nelson - First American Bank\n\nAmanda Yeast - Leaning Tower YMCA\n\nLarissa Kitaychik - Rhythm School of Dance & Music Co.\n\nRanier Krautwald - Paul Davis Emergency Services of Niles\n\nJohn Koelig - Koelig & Associates\n\nChuck Hartogh - C&M Auto Service\, Inc.\n\nChristine Dzierzak - Dent-Sure Dental\n\nJacob Ehrensaft - Law Office of\n\nDr. Bruce Hertz - Akiens-Hertz Medical Center\n\nRichard Block - Creative Promotional Products\n\nHenry Funkenbusch - Stitch Mine Custom Embroidery\n\nMichael Nigra - Kiddie Kingdom\n\nIsabell Nigra - Kiddie Kingdom
X-ALT-DESC;FMTTYPE=text/html:<div>&nbsp\;</div>\n\n<div>\n<div align="center"><span style="font-family: verdana\;"><span style="font-size: large\;"><strong><span style="color: black\; font-style: normal\;"><em>January&nbsp\;Business After Hours hosted by:</em></span></strong></span></span></div>\n\n<div align="center"><span style="color: rgb(0\, 128\, 0)\;"><span style="font-family: verdana\;"><span style="font-size: 20px\;"><span style="font-style: normal\;"><strong>Kiddie Kingdom</strong></span></span></span></span><br />\n&nbsp\;</div>\n</div>\n\n<div><span style="font-family: verdana\;"><span style="color: black\; font-size: 10pt\; font-style: normal\;">Business After Hours are a great way to network and meet area business owners and company representatives. Remember that networking is not only a resource to gain customers and generate leads\, but also a chance to find new vendors\, share new ideas\, or find new ways to offer benefits to your employees. </span></span></div>\n\n<div><span style="font-family: verdana\;"><font size="2">&nbsp\;</font></span></div>\n\n<div><span style="font-family: verdana\;"><span style="color: black\; font-size: 10pt\; font-style: normal\;"><strong><font color="#000080">Event Registration posted online*.</font></strong>&nbsp\;</span></span></div>\n\n<div><span style="font-family: verdana\;"><span style="color: black\; font-size: 10pt\; font-style: normal\;">Check out&nbsp\;who is attending this event. <em>*Registrations are posted from the Chamber office and NOT automatic.</em></span><span style="color: black\; font-size: 10pt\; font-style: normal\;">&nbsp\;</span></span></div>\n\n<div><span style="font-family: verdana\;"><font size="2">&nbsp\;</font></span></div>\n\n<div><span style="font-family: verdana\;"><span style="color: black\; font-size: 10pt\; font-style: normal\;"><u><strong>Name&nbsp\;(Company):</strong></u></span></span><br />\nRoberta Koch - Amway Independent Business Owner<br />\nDean Strzelecki - Niles Police Department<br />\nJim Capparelli - Journal Newspapers<br />\nDavid Levine - Illinois Nut &amp\; Candy<br />\nAlbert Riehle - Amerimac<br />\nSue Wilsey - Niles Public Library<br />\nScott Tucker - InSphere Insurance Solutions<br />\nAl Katz - <font size="2">Independent Sales Associate\, Pre-Paid Legal</font><br />\nJerry Neiberg - Illinois Mutual Life Insurance Company<br />\nPattie Spiegelman - C&amp\;M Auto Service\, Inc.<br />\nMichael Ziccarelli - FirstMerit Bank<br />\nMark Haave - FirstMerit Bank<br />\nAndrea Hansen - CBeyond<br />\nRandy Greco - CHoLAB\, Inc.<br />\nJoanne Cwynar - Ambassador<br />\nJoe Walsh - Access Benefit Solutions<br />\nDr. Bob Richart - Richart Spinal &amp\; Sports Rehabilitation\, Ltd.&nbsp\;<br />\nBill Griffis - Wells Fargo Advisors\, Wealth Brokerage Services<br />\nBenjamin Hedge - Batteries Plus<br />\nCraig Butler - GFS Marketplace<br />\nTodd Watkins - K &amp\; M Printing<br />\nKrystyna Koda - Ridgewood Gardens<br />\nDennis Vaccaro - RV Enterprises\, Ltd.<br />\nBarb Kruser - Niles Public Library<br />\nGoldie Nelson - First American Bank<br />\nAmanda Yeast - Leaning Tower YMCA<br />\nLarissa Kitaychik - Rhythm School of Dance &amp\; Music Co.<br />\nRanier Krautwald - Paul Davis Emergency Services of Niles<br />\nJohn Koelig - Koelig &amp\; Associates<br />\nChuck Hartogh - C&amp\;M Auto Service\, Inc.<br />\nChristine Dzierzak - Dent-Sure Dental<br />\nJacob Ehrensaft - Law Office of<br />\nDr. Bruce Hertz - Akiens-Hertz Medical Center<br />\nRichard Block - Creative Promotional Products<br />\nHenry Funkenbusch - Stitch Mine Custom Embroidery<br />\nMichael Nigra - Kiddie Kingdom<br />\nIsabell Nigra - Kiddie Kingdom<br />\n&nbsp\;</div>\n
LOCATION:Kiddie Kingdom 7411 N. Milwaukee Avenue Niles\, IL 60714
UID:e.151.716
SEQUENCE:3
DTSTAMP:20260420T014554Z
URL:https://business.nileschamber.com/events/details/2012-business-after-hours-january-kiddie-kingdom-01-24-2012-716
END:VEVENT

END:VCALENDAR
