BEGIN:VCALENDAR
VERSION:2.0
PRODID:-//ChamberMaster//Event Calendar 2.0//EN
METHOD:PUBLISH
X-PUBLISHED-TTL:P3D
REFRESH-INTERVAL:P3D
CALSCALE:GREGORIAN
BEGIN:VEVENT
DTSTART:20120223T230000Z
DTEND:20120224T010000Z
X-MICROSOFT-CDO-ALLDAYEVENT:FALSE
SUMMARY:2012 Business After Hours\, February - GFS Marketplace
DESCRIPTION:February Business After Hours hosted by:\n\nGFS Marketplace\n\n \n\n\nBusiness After Hours are a great way to network and meet area business owners and company representatives. Remember that networking is not only a resource to gain customers and generate leads\, but also a chance to find new vendors\, share new ideas\, or find new ways to offer benefits to your employees. \n\n \n\nEvent Registration posted online*. \n\nCheck out who is attending this event. *Registrations are posted from the Chamber office and NOT automatic. \n\n \n\nName (Company):\n\nLaura Cormany - Batteries Plus\n\nHarriet Basiorka - Batteries Plus\n\nBenjamin Hedge - Batteries Plus\n\nMaggie Nessium - Faller Insurance Agency\n\nTony Toy - Niles Baseball League\n\nMichelle Janowski - Niles Baseball Legaue\n\nBill Griffis - Wells Fargo Advisors\, Wealth Management\n\nRobert Koch - Amway Independent Business Owners\n\nAl Katz - Independent Sales Associate\, Pre-Paid Legal\n\nIrma Katz - Independent Sales Associate\, Pre-Paid Legal\n\nScott Tucker - InSphere Insurance Solutions\n\nChuck Hartogh - C&M Auto Service\, Inc.\n\nDusan Varga - Pink ZebraLion Marketing\, Inc.\n\nJohn Koelig - Koelig & Associates\n\nhenry Funkenbusch - Stitch Mine Custom Embroidery\n\nPam DiFiglio - Patch.com\n\nKris Hansen - The Bethany Terrace\n\nDiane Coverstone - Wings Resale\n\nJohn Senska - John Senska & Sons\, Inc.\n\nTina Senska - John Senska & Sons\, Inc.\n\nBill Griffis - Wells Fargo Advisers\, Wealth Brokerage Services\n\nJohn J. Lee - Principal Financial Group\n\nJohn Jekot - Optimist Club of Niles\n\nDean Strzelecki - Niles Police Department\n\nJoe Walsh - Access Benefit Solutions\n\nIwona Filipiak - Koelig & Strey Real Living\n\nNick Katsoolias - Forest Financial Group Wealth Management\n\nJoanne Cwynar - Ambassador\n\nJeff Day - Tribune Products\n\nRandy Greco - CHoLAB\, Inc.\n\nRichard Sassan - Actserv\, P.C. Certified Public Accountants\n\nAl Katz - Independent Sales Associate\, Pre-Paid Legal\n\nIrma Katz - Independent Sales Associate\, Pre-Paid Legal\n\nJignesh Patel - Baja Fresh Mexican Grill\n\nJeff Day - Tribune Products\n\nCandance Meilinger - Tribune Products\n\nMarimel Lim - Citibank\n\nSteve Ludwinski - Edward Jones\n\nNick Katsoolias - Forest Financial Group Wealth Management\n\nMonika Kalicki - Golf Mill Shopping Center\n\nRick Greenspan - Inventive Display Group\, LLC\n\nJim Capparelli - Journal & Topics Newspapers\n\nJacob Ehrensaft - Law Office of\n\nDennis Vaccaro - RV Enterprises\, Ltd.\n\nJenna Gales - Pioneer Press\n\nMike Reid - The Bugle Newspapers\n\nChristine Dzierzak - Dent-Sure Dental
X-ALT-DESC;FMTTYPE=text/html:<div>&nbsp\;</div>\n\n<div>\n<div align="center"><span style="font-family: verdana\;"><span style="font-size: large\;"><strong><span style="color: black\; font-style: normal\;"><em>February&nbsp\;Business After Hours hosted by:</em></span></strong></span></span></div>\n\n<div align="center"><span style="color: rgb(0\, 128\, 0)\;"><span style="font-family: verdana\;"><span style="font-size: 20px\;"><span style="font-style: normal\;"><strong>GFS Marketplace</strong></span></span></span></span><br />\n&nbsp\;</div>\n</div>\n\n<div><span style="font-family: verdana\;"><span style="color: black\; font-size: 10pt\; font-style: normal\;">Business After Hours are a great way to network and meet area business owners and company representatives. Remember that networking is not only a resource to gain customers and generate leads\, but also a chance to find new vendors\, share new ideas\, or find new ways to offer benefits to your employees. </span></span></div>\n\n<div><span style="font-family: verdana\;"><font size="2">&nbsp\;</font></span></div>\n\n<div><span style="font-family: verdana\;"><span style="color: black\; font-size: 10pt\; font-style: normal\;"><strong><font color="#000080">Event Registration posted online*.</font></strong>&nbsp\;</span></span></div>\n\n<div><span style="font-family: verdana\;"><span style="color: black\; font-size: 10pt\; font-style: normal\;">Check out&nbsp\;who is attending this event. <em>*Registrations are posted from the Chamber office and NOT automatic.</em></span><span style="color: black\; font-size: 10pt\; font-style: normal\;">&nbsp\;</span></span></div>\n\n<div><span style="font-family: verdana\;"><font size="2">&nbsp\;</font></span></div>\n\n<div><span style="font-family: verdana\;"><span style="color: black\; font-size: 10pt\; font-style: normal\;"><u><strong>Name&nbsp\;(Company):</strong></u></span></span><br />\n<span style="color: black\; font-size: 10pt\; font-style: normal\;">Laura Cormany - Batteries Plus<br />\nHarriet Basiorka - Batteries&nbsp\;Plus<br />\nBenjamin Hedge - Batteries Plus<br />\nMaggie Nessium - Faller Insurance Agency<br />\nTony&nbsp\;Toy - Niles Baseball League<br />\nMichelle Janowski - Niles Baseball Legaue<br />\nBill Griffis - Wells Fargo Advisors\, Wealth Management<br />\nRobert Koch - Amway Independent Business Owners<br />\nAl Katz -&nbsp\;Independent Sales Associate\, Pre-Paid Legal<br />\n<font color="#000000" size="2">Irma Katz - Independent Sales Associate\, Pre-Paid Legal</font><br />\nScott Tucker - InSphere Insurance Solutions<br />\nChuck Hartogh - C&amp\;M Auto Service\, Inc.<br />\nDusan Varga - Pink ZebraLion Marketing\, Inc.<br />\nJohn Koelig - Koelig &amp\; Associates<br />\nhenry Funkenbusch - Stitch Mine Custom Embroidery<br />\nPam DiFiglio -&nbsp\;Patch.com<br />\nKris Hansen - The Bethany Terrace<br />\nDiane Coverstone - Wings Resale<br />\nJohn Senska - John Senska &amp\; Sons\,&nbsp\;Inc.<br />\nTina Senska - John Senska &amp\; Sons\, Inc.<br />\nBill Griffis - Wells Fargo Advisers\, Wealth Brokerage Services<br />\nJohn J. Lee - Principal Financial Group<br />\nJohn Jekot - Optimist Club of Niles<br />\nDean Strzelecki - Niles Police Department<br />\nJoe Walsh - Access Benefit Solutions<br />\nIwona Filipiak - Koelig &amp\; Strey Real Living<br />\nNick Katsoolias - Forest Financial Group Wealth Management<br />\nJoanne Cwynar - Ambassador<br />\nJeff Day - Tribune Products<br />\nRandy Greco - CHoLAB\, Inc.<br />\nRichard Sassan - Actserv\, P.C. Certified Public Accountants<br />\nAl Katz - Independent Sales Associate\, Pre-Paid Legal<br />\nIrma Katz - <font color="#000000" size="2">Independent Sales Associate\, Pre-Paid Legal</font><br />\nJignesh Patel - Baja Fresh Mexican Grill<br />\nJeff Day - Tribune Products<br />\nCandance Meilinger&nbsp\;- Tribune Products<br />\nMarimel Lim - Citibank<br />\nSteve Ludwinski - Edward Jones<br />\nNick Katsoolias - Forest Financial Group Wealth Management<br />\nMonika Kalicki - Golf Mill Shopping Center<br />\nRick Greenspan - Inventive Display Group\, LLC</span><br />\nJim Capparelli - Journal &amp\; Topics Newspapers<br />\nJacob Ehrensaft - Law Office of<br />\nDennis Vaccaro - RV Enterprises\, Ltd.<br />\nJenna Gales -&nbsp\;Pioneer Press<br />\nMike Reid - The Bugle Newspapers<br />\nChristine Dzierzak - Dent-Sure Dental<br />\n<br />\n<br />\n<br />\n&nbsp\;</div>\n
LOCATION:GFS Marketplace 50 Golf Mill Center Niles\, IL 60714
UID:e.151.720
SEQUENCE:3
DTSTAMP:20260419T223135Z
URL:https://business.nileschamber.com/events/details/2012-business-after-hours-february-gfs-marketplace-02-23-2012-720
END:VEVENT

END:VCALENDAR
