BEGIN:VCALENDAR
VERSION:2.0
PRODID:-//ChamberMaster//Event Calendar 2.0//EN
METHOD:PUBLISH
X-PUBLISHED-TTL:P3D
REFRESH-INTERVAL:P3D
CALSCALE:GREGORIAN
BEGIN:VEVENT
DTSTART:20120424T220000Z
DTEND:20120425T000000Z
X-MICROSOFT-CDO-ALLDAYEVENT:FALSE
SUMMARY:2012 Business After Hours\, April - BMO Harris
DESCRIPTION:April Business After Hours hosted by:\n\nBMO Harris Bank\n\n \n\n\nBusiness After Hours are a great way to network and meet area business owners and company representatives. Remember that networking is not only a resource to gain customers and generate leads\, but also a chance to find new vendors\, share new ideas\, or find new ways to offer benefits to your employees. \n\n \n\nEvent Registration posted online*. \n\nCheck out who is attending this event. *Registrations are posted from the Chamber office and NOT automatic. \n\n \n\nName (Company):\n\nSteve Ludwinski - Edward Jones\n\nDavid Cormany - Batteries Plus\n\nBenjamin Hedge - Batteries Plus\n\nMaria - Parkway Bank & Trust\n\nDr. Bruce Hertz - Aikens-Hertz Medical Center\n\nJohn Koelig - Koelig & Associates\n\nIwona Filipiak - Koenig & Strey Real Living\n\nKathy Canny - Skokie Symphony Orchestra\n\nJack Stanich - TV Facts\n\nJoseph Robinson - U.S. Cellular\n\nKornelia Hiero - U.S. Cellular\n\nRoberta Koch - Amway Independent Owner\n\nGregory Bedell - Knabe\, Kroning & Mainzer\n\nJeff Kovit - Jeff Kovit Video Production \n\nIwona Filipiak - Koenig & Strey Real Living\n\nRachael LeMieux - Star Nissan\n\nAl Katz - Pre-Paid Legal\n\nIrma Katz - Pre-Paid Legal\n\nJim Capparelli - Journal & Topics Newspaper\n\nDennis Vaccarro - RV Enterprises\, Ltd.\n\nPattie Spiegelman - C&M Auto Service\, Inc.\n\nBill Griffis - Wells Fargo Advisor\n\nKyle Brown - Edward Jones
X-ALT-DESC;FMTTYPE=text/html:<div>&nbsp\;</div>\n\n<div>\n<div align="center"><span style="font-family: verdana\;"><span style="font-size: large\;"><strong><span style="color: black\; font-style: normal\;"><em>April&nbsp\;Business After Hours hosted by:</em></span></strong></span></span></div>\n\n<div align="center"><span style="color: rgb(0\, 128\, 0)\;"><span style="font-family: verdana\;"><span style="font-size: 20px\;"><span style="font-style: normal\;"><strong>BMO Harris Bank</strong></span></span></span></span><br />\n&nbsp\;</div>\n</div>\n\n<div><span style="font-family: verdana\;"><span style="color: black\; font-size: 10pt\; font-style: normal\;">Business After Hours are a great way to network and meet area business owners and company representatives. Remember that networking is not only a resource to gain customers and generate leads\, but also a chance to find new vendors\, share new ideas\, or find new ways to offer benefits to your employees. </span></span></div>\n\n<div><span style="font-family: verdana\;"><font size="2">&nbsp\;</font></span></div>\n\n<div><span style="font-family: verdana\;"><span style="color: black\; font-size: 10pt\; font-style: normal\;"><strong><font color="#000080">Event Registration posted online*.</font></strong>&nbsp\;</span></span></div>\n\n<div><span style="font-family: verdana\;"><span style="color: black\; font-size: 10pt\; font-style: normal\;">Check out&nbsp\;who is attending this event. <em>*Registrations are posted from the Chamber office and NOT automatic.</em></span><span style="color: black\; font-size: 10pt\; font-style: normal\;">&nbsp\;</span></span></div>\n\n<div><span style="font-family: verdana\;"><font size="2">&nbsp\;</font></span></div>\n\n<div><span style="font-family: verdana\;"><span style="color: black\; font-size: 10pt\; font-style: normal\;"><u><strong>Name&nbsp\;(Company):</strong></u><br />\nSteve Ludwinski&nbsp\;- Edward&nbsp\;Jones<br />\nDavid Cormany - Batteries Plus<br />\nBenjamin&nbsp\;Hedge - Batteries Plus<br />\nMaria&nbsp\;- Parkway Bank &amp\; Trust<br />\nDr.&nbsp\;Bruce Hertz -&nbsp\;Aikens-Hertz Medical&nbsp\;Center<br />\nJohn Koelig -&nbsp\;Koelig &amp\; Associates<br />\nIwona Filipiak&nbsp\;-&nbsp\;Koenig &amp\; Strey Real Living<br />\nKathy Canny -&nbsp\;Skokie Symphony Orchestra<br />\nJack&nbsp\;Stanich - TV Facts<br />\nJoseph Robinson -&nbsp\;U.S. Cellular<br />\nKornelia Hiero - U.S. Cellular<br />\nRoberta&nbsp\;Koch - Amway Independent Owner</span></span></div>\n\n<div><span style="font-size: 12px\;"><span style="font-family: verdana\;"><span style="color: black\; font-style: normal\;">Gregory&nbsp\;Bedell - Knabe\, Kroning &amp\; Mainzer</span><br />\nJeff Kovit - Jeff Kovit Video Production&nbsp\;</span></span><br />\nIwona Filipiak&nbsp\;- Koenig &amp\; Strey&nbsp\;Real Living<br />\nRachael&nbsp\;LeMieux&nbsp\;- Star Nissan<br />\nAl Katz - Pre-Paid Legal<br />\nIrma Katz - Pre-Paid Legal<br />\nJim Capparelli - Journal &amp\;&nbsp\;Topics Newspaper<br />\nDennis Vaccarro&nbsp\;- RV Enterprises\, Ltd.<br />\nPattie Spiegelman - C&amp\;M Auto Service\, Inc.<br />\nBill&nbsp\;Griffis&nbsp\;- Wells Fargo Advisor<br />\nKyle Brown&nbsp\;- Edward Jones<br />\n&nbsp\;</div>\n
LOCATION:BMO Harris Bank 7077 Dempster Street Niles\, IL 60714
UID:e.151.776
SEQUENCE:3
DTSTAMP:20260419T184945Z
URL:https://business.nileschamber.com/events/details/2012-business-after-hours-april-bmo-harris-04-24-2012-776
END:VEVENT

END:VCALENDAR
