BEGIN:VCALENDAR
VERSION:2.0
PRODID:-//ChamberMaster//Event Calendar 2.0//EN
METHOD:PUBLISH
X-PUBLISHED-TTL:P3D
REFRESH-INTERVAL:P3D
CALSCALE:GREGORIAN
BEGIN:VEVENT
DTSTART:20120717T160000Z
DTEND:20120718T020000Z
X-MICROSOFT-CDO-ALLDAYEVENT:FALSE
SUMMARY:2012 Annual Golf Outing & Dinner Fundraiser
DESCRIPTION:Join Niles Chamber of Commerce members and guests for our Annual Golf Outing. This event is the Chamber's largest fund-raiser and "fun"-raiser. Meet new contacts and greet old friends while enjoying a day of golf\, games and give-aways.  Bring your colleagues and clients as a foursome\, or take your employees as a show of gratitude for their hard work.  Many people golf as a single or double so we would be happy to pair people up. If you are not a golfer\, join us for cocktails\, dinner and raffle prizes.\n\n \n\nTuesday\, July 17\n\nChevy Chase Country Club\n\n1000 N. Milwaukee Avenue\,  Wheeling\, IL 60090\n\n\n\n11:00 a.m.   Check-In & Lunch\n\n12:00 Noon  Shotgun Start*\n\n5:00 p.m      Cocktail Hour - Open Bar\n\n6:30 p.m.     Dinner & Raffle\n\n* Play format this year will be a scramble.\n\n \n\n To download Registration Form Click Here\n\n\n To download Sponsorship Form Click Here\n\n\n \n\nGolf Packages $150\n\nIncludes: Lunch\, TWO Complimentary Beverage Tickets\, \n\nGolf Cart\, Goodie Bag\, Locker Room Service\, Cocktail Hour & Dinner\n\n \n\nRaffle Ticket $50\n\nThis is our famous Reverse Draw Raffle\, \n\ntake the chance at winning $5\,000\, plus other great prizes.
X-ALT-DESC;FMTTYPE=text/html:<div><span style="font-family: verdana\;"><font size="2">Join Niles Chamber of Commerce members and guests for our Annual Golf Outing. This event is the Chamber&rsquo\;s largest fund-raiser and &quot\;fun&quot\;-raiser. Meet new contacts and greet old friends while enjoying a day of golf\, games and give-aways.&nbsp\; Bring your colleagues and clients&nbsp\;as a foursome\, or take your employees as a show of gratitude for their hard work.&nbsp\; Many people golf as a single or double so we would be happy to pair people up. If you are not a golfer\, join us for cocktails\, dinner and raffle prizes.</font></span></div>\n\n<div><span style="font-family: verdana\;"><font size="2">&nbsp\;</font></span></div>\n\n<div align="center"><span style="font-family: verdana\;"><span style="font-size: x-large\;"><font color="#333399"><strong>Tuesday\, July 17</strong></font></span></span></div>\n\n<div align="center"><span style="font-family: verdana\;"><span style="color: rgb(0\, 102\, 0)\;"><strong><span style="font-size: medium\;">Chevy&nbsp\;Chase&nbsp\;Country Club</span></strong></span></span></div>\n\n<div align="center"><span style="font-family: verdana\;"><span style="color: rgb(0\, 102\, 0)\;"><strong><span style="font-size: medium\;">1000 N.&nbsp\;Milwaukee Avenue\,&nbsp\; Wheeling\, IL&nbsp\;60090</span></strong></span></span></div>\n\n<div align="left"><br />\n<span style="font-family: verdana\;"><font size="2">11:00 a.m.&nbsp\;&nbsp\; Check-In &amp\; Lunch</font></span></div>\n\n<div align="left"><span style="font-family: verdana\;"><font size="2">12:00 Noon&nbsp\; Shotgun Start*</font></span></div>\n\n<div align="left"><span style="font-family: verdana\;"><font size="2">5:00&nbsp\;p.m&nbsp\;&nbsp\;&nbsp\;&nbsp\;&nbsp\; Cocktail Hour - Open Bar</font></span></div>\n\n<div align="left"><span style="font-family: verdana\;"><font size="2">6:30 p.m.&nbsp\;&nbsp\;&nbsp\;&nbsp\; Dinner &amp\; Raffle</font></span></div>\n\n<div><span style="font-family: verdana\;"><font size="2"><font size="1">* Play format this year will be a scramble.</font></font></span></div>\n\n<div><span style="font-family: verdana\;">&nbsp\;</span></div>\n\n<div><span style="font-family: verdana\;"><em><strong><span style="font-size: small\;">&nbsp\;To download Registration Form</span> </strong></em><a href="http://cloud.chambermaster.com/userfiles/UserFiles/chambers/151/File/GolfRegistrationForm12.pdf"><span style="color: rgb(0\, 0\, 255)\;"><em><u><strong>Click Here</strong></u></em></span></a></span></div>\n\n<div>\n<div><span style="font-family: verdana\;"><em><strong><span style="font-size: small\;">&nbsp\;To download Sponsorship&nbsp\;Form </span></strong></em><span style="font-size: small\;"><a href="http://cloud.chambermaster.com/userfiles/UserFiles/chambers/151/File/GolfSponsorForm2012.pdf"><em><strong>Click Here</strong></em></a></span></span></div>\n</div>\n\n<div><span style="font-family: verdana\;">&nbsp\;</span></div>\n\n<div><span style="font-family: verdana\;"><strong><font color="#333399" size="2">Golf Packages $150</font></strong></span></div>\n\n<div><span style="font-family: verdana\;"><font size="2">Includes: Lunch\, TWO Complimentary Beverage Tickets\, </font></span></div>\n\n<div><span style="font-family: verdana\;"><font size="2">Golf Cart\, Goodie Bag\, Locker Room Service\, </font><font size="2">Cocktail Hour &amp\; Dinner</font></span></div>\n\n<div><span style="font-family: verdana\;">&nbsp\;</span></div>\n\n<div><span style="font-family: verdana\;"><strong><font color="#333399" size="2">Raffle Ticket $50</font></strong></span></div>\n\n<div><span style="font-family: verdana\;"><font size="2">This is our famous Reverse Draw Raffle\, </font></span></div>\n\n<div><span style="font-family: verdana\;"><font size="2">take the chance at winning $5\,000\, plus other great prizes.</font></span></div>\n
LOCATION:Chevy Chase Country Club 1000 N. Milwaukee Avenue Wheeling\, IL 60090
UID:e.151.791
SEQUENCE:3
DTSTAMP:20260419T161136Z
URL:https://business.nileschamber.com/events/details/2012-annual-golf-outing-dinner-fundraiser-07-17-2012-791
END:VEVENT

END:VCALENDAR
