BEGIN:VCALENDAR
VERSION:2.0
PRODID:-//ChamberMaster//Event Calendar 2.0//EN
METHOD:PUBLISH
X-PUBLISHED-TTL:P3D
REFRESH-INTERVAL:P3D
CALSCALE:GREGORIAN
BEGIN:VEVENT
DTSTART;VALUE=DATE:20120704
DTEND;VALUE=DATE:20120705
TRANSP:TRANSPARENT
X-MICROSOFT-CDO-ALLDAYEVENT:TRUE
SUMMARY:2012 4th of July Parade
DESCRIPTION:Independence Day Parade
X-ALT-DESC;FMTTYPE=text/html:Independence Day&nbsp\;Parade
LOCATION:Leaves Notre Dame College Prep at 9:00 a.m. going South on Ozark\, East on Maine\, South on Harlem\, West on Monroe to Grennan Heights Park District.
UID:e.151.1195
SEQUENCE:3
DTSTAMP:20260419T143526Z
URL:https://business.nileschamber.com/events/details/2012-4th-of-july-parade-07-04-2012-1195
END:VEVENT

END:VCALENDAR
