BEGIN:VCALENDAR
VERSION:2.0
PRODID:-//ChamberMaster//Event Calendar 2.0//EN
METHOD:PUBLISH
X-PUBLISHED-TTL:P3D
REFRESH-INTERVAL:P3D
CALSCALE:GREGORIAN
BEGIN:VEVENT
DTSTART:20111004T133000Z
DTEND:20111004T150000Z
X-MICROSOFT-CDO-ALLDAYEVENT:FALSE
SUMMARY:2011 Social Media Marketing Made Simple Seminar
DESCRIPTION:Social Media Marketing Made Simple\n\nPresented by Steve Robinson\, Constant Contact\n\n\n\nThis is not Twitter\, Facebook\, LinkedIn 101\, but instead a program about how to use them to benefit your business and build relationships.  This session will cover strategies and best practices to get the most out of your social media for your business\, including time management and measuring the return of your activities.\n\n\n\nNiles and Des Plaines Chamber Members are invited to learn what social media marketing really is\, how to incorporate it into your business life without losing productivity\, and explore how other businesses are using these low-cost tools to gain visibility\, develop relationships\, and drive dales and response.\n\n\n\nRegister Directly to the Des Plaines Public Library: Click Here
X-ALT-DESC;FMTTYPE=text/html:<font face="Tahoma"><font size="3"><span style="font-size: 16px\;"><strong>Social Media Marketing&nbsp\;Made Simple</strong><br />\n<span style="font-family: tahoma\;"><strong>Presented by Steve Robinson\, Constant Contact</strong></span></span><br />\n<br />\n<span style="font-size: 11px\;"><span style="font-family: verdana\;">This is not Twitter\, Facebook\, LinkedIn 101\, but instead a program about how to use them to benefit your business and build relationships.&nbsp\; This session will cover strategies and best practices to get the most out of your social media for your business\,&nbsp\;including time management and measuring the return of your activities.<br />\n<br />\nNiles and Des Plaines Chamber Members are invited to learn what social media marketing really is\, how to incorporate it into your business life without losing productivity\, and explore how other businesses are using these low-cost tools to gain visibility\, develop relationships\, and drive dales and response.</span></span></font></font><br />\n<br />\n<span style="font-size: 14px\;"><span style="font-family: verdana\;">Register Directly to the Des Plaines Public Library: <a href="http://calendar.dppl.org/evanced/lib/eventsignup.asp?ID=13181&amp\;rts=&amp\;disptype=&amp\;ret=eventcalendar.asp&amp\;pointer=&amp\;returnToSearch=&amp\;SignupType=&amp\;num=0&amp\;ad=&amp\;dt=mo&amp\;mo=10/1/2011&amp\;df=calendar&amp\;EventType=ALL&amp\;Lib=&amp\;AgeGroup=ALL&amp\;LangType=0&amp\;WindowMode=&amp\;noheader=&amp\;lad=&amp\;pub=1&amp\;nopub=&amp\;page=&amp\;pgdisp="><u><em><strong>Click Here</strong></em></u></a></span></span>
LOCATION:Des Plaines Public Library 1501 Ellinwood\, Des Plaines
UID:e.151.704
SEQUENCE:3
DTSTAMP:20260420T052831Z
URL:https://business.nileschamber.com/events/details/2011-social-media-marketing-made-simple-seminar-10-04-2011-704
END:VEVENT

END:VCALENDAR
