BEGIN:VCALENDAR
VERSION:2.0
PRODID:-//ChamberMaster//Event Calendar 2.0//EN
METHOD:PUBLISH
X-PUBLISHED-TTL:P3D
REFRESH-INTERVAL:P3D
CALSCALE:GREGORIAN
BEGIN:VEVENT
DTSTART:20110524T120000Z
DTEND:20110524T143000Z
X-MICROSOFT-CDO-ALLDAYEVENT:FALSE
SUMMARY:2011 Sam's Club Multi Chamber Networking Event
DESCRIPTION:National Small Business Multi Chamber Networking Event\n\n@ Sam's Club\n\n \n\nOn behalf of the Des Plaines Sam's Club\, the Des Plaines\, Rosemont\, Mount Prospect\, Rolling Meadows and Niles Chambers of Commerce are cordially invited to a Roundtable Networking event on Tuesday\, May 24 from 7:00 a.m. to 9:30 a.m. This is a free event for all Chamber members and Sam's Club Business members. Success stories will be shared from local business owners with talking points on how networking relationships can be relevant to grow your business.\n\n \n\nBreakfast will be served at 7:00 a.m.
X-ALT-DESC;FMTTYPE=text/html:<div><strong><span style="font-size: large\;"><span style="font-family: Verdana\;">National Small Business Multi Chamber Networking Event<br />\n@ Sam&#39\;s Club</span></span></strong></div>\n\n<div><span style="font-family: Verdana\;">&nbsp\;</span></div>\n\n<div><span style="font-size: x-small\;"><span style="font-family: Verdana\;"><span style="font-size: 12px\;">On behalf of the Des Plaines Sam&rsquo\;s Club\,&nbsp\;the Des Plaines\, Rosemont\, Mount Prospect\, Rolling Meadows and Niles Chambers of Commerce</span></span></span><span style="font-family: Verdana\;"> are cordially invited to a Roundtable Networking event on Tuesday\, May 24 from 7:00 a.m. to 9:30 a.m. This is a free event for all Chamber members and Sam&rsquo\;s Club Business members. Success stories will be shared from local business owners with talking points on how networking relationships can be relevant to grow your business.</span></div>\n\n<div><span style="font-family: Verdana\;">&nbsp\;</span></div>\n\n<div><span style="font-family: Verdana\;">Breakfast will be served at 7:00 a.m.</span></div>\n
LOCATION:Sam's Club 101 W. Oakton Street Des Plaines\, IL 60018
UID:e.151.675
SEQUENCE:3
DTSTAMP:20260420T125407Z
URL:https://business.nileschamber.com/events/details/2011-sam-s-club-multi-chamber-networking-event-05-24-2011-675
END:VEVENT

END:VCALENDAR
