BEGIN:VCALENDAR
VERSION:2.0
PRODID:-//ChamberMaster//Event Calendar 2.0//EN
METHOD:PUBLISH
X-PUBLISHED-TTL:P3D
REFRESH-INTERVAL:P3D
CALSCALE:GREGORIAN
BEGIN:VEVENT
DTSTART:20110120T010000Z
DTEND:20110120T023000Z
X-MICROSOFT-CDO-ALLDAYEVENT:FALSE
SUMMARY:2011 Preparing Your Family for College
DESCRIPTION:Preparing Your Family for College\n\nJoin us at a college planning seminar to understand your options in funding your child's college education. It is never to early (or too late!) to start planning.  Parents of children of all ages are welcome to attend.
X-ALT-DESC;FMTTYPE=text/html:<p style="text-align: center\;"><span style="font-family: verdana\;"><span style="color: rgb(0\, 128\, 0)\;"><strong><span style="font-size: 16px\;">Preparing Your Family for College</span></strong></span><br />\n<span style="font-size: 12px\;">Join us at a college planning seminar to understand your options in funding your child&#39\;s college education. It is never to early (or too late!) to start planning.&nbsp\; Parents of children of all ages are welcome to attend.</span></span></p>\n
LOCATION:Niles Public Library 6960 W. Oakton Street Niles\, IL 60714 Additional Parking is available across the street at Culver School
UID:e.151.636
SEQUENCE:3
DTSTAMP:20260420T191810Z
URL:https://business.nileschamber.com/events/details/2011-preparing-your-family-for-college-01-19-2011-636
END:VEVENT

END:VCALENDAR
