BEGIN:VCALENDAR
VERSION:2.0
PRODID:-//ChamberMaster//Event Calendar 2.0//EN
METHOD:PUBLISH
X-PUBLISHED-TTL:P3D
REFRESH-INTERVAL:P3D
CALSCALE:GREGORIAN
BEGIN:VEVENT
DTSTART:20110203T233000Z
DTEND:20110204T033000Z
X-MICROSOFT-CDO-ALLDAYEVENT:FALSE
SUMMARY:2011 NorthShore Young Professionals Pre-Super Bowl Party
DESCRIPTION:North Shore Young Professionals Pre-Super Bowl Party
X-ALT-DESC;FMTTYPE=text/html:North Shore Young Professionals Pre-Super Bowl Party
LOCATION:Airoom 6825 N. Lincoln Avenue Lincolnwood
UID:e.151.641
SEQUENCE:3
DTSTAMP:20260420T175035Z
URL:https://business.nileschamber.com/events/details/2011-northshore-young-professionals-pre-super-bowl-party-02-03-2011-641
END:VEVENT

END:VCALENDAR
