BEGIN:VCALENDAR
VERSION:2.0
PRODID:-//ChamberMaster//Event Calendar 2.0//EN
METHOD:PUBLISH
X-PUBLISHED-TTL:P3D
REFRESH-INTERVAL:P3D
CALSCALE:GREGORIAN
BEGIN:VEVENT
DTSTART:20110816T133000Z
DTEND:20110816T143000Z
X-MICROSOFT-CDO-ALLDAYEVENT:FALSE
SUMMARY:2011 Next Step Orientation Breakfast\, August
DESCRIPTION:Next Step Orientation Breakfast\n\n\nIn its continuing efforts to add value to membership\, the Niles Chamber and the Membership TEAM are hosting a Next Step Orientation Breakfast.  New members can take the "next step" in their Chamber membership by attending this informative orientation. Learn more about getting involved\, chamber resources to build your business\, and how to make networking opportunities most effective.\n\n \n\n\nRegister online or call Debbie Juris\, Membership Service Coordinator (847) 268-8180
X-ALT-DESC;FMTTYPE=text/html:<div><br />\n<span style="font-size: 18px\;"><font face="Verdana"><strong>Next Step Orientation Breakfast</strong></font></span></div>\n\n<div style="margin: 0in 0in 0pt\;">\n<div style="margin: 0in 0in 0pt\;"><font face="Verdana" size="2">In its continuing efforts to add value to membership\, the Niles Chamber and the Membership TEAM&nbsp\;are hosting a Next Step Orientation Breakfast.&nbsp\;</font> <font face="Verdana" size="2">New members can take the &quot\;next step&quot\; in their Chamber membership by attending this informative&nbsp\;orientation. Learn more about getting involved\, chamber resources to build your business\,&nbsp\;and how to make&nbsp\;networking opportunities&nbsp\;most effective.</font></div>\n\n<div style="margin: 0in 0in 0pt\;"><font face="Verdana" size="2">&nbsp\;</font></div>\n</div>\n\n<div style="margin: 0in 0in 0pt\;"><font face="Verdana" size="2">Register online or call Debbie Juris\,&nbsp\;Membership Service Coordinator (847) 268-8180</font></div>\n
LOCATION:Niles Chamber Conference Room 8060 W. Oakton\, Niles Inside the NorthSide Community Bank building
UID:e.151.690
SEQUENCE:3
DTSTAMP:20260420T072447Z
URL:https://business.nileschamber.com/events/details/2011-next-step-orientation-breakfast-august-08-16-2011-690
END:VEVENT

END:VCALENDAR
