BEGIN:VCALENDAR
VERSION:2.0
PRODID:-//ChamberMaster//Event Calendar 2.0//EN
METHOD:PUBLISH
X-PUBLISHED-TTL:P3D
REFRESH-INTERVAL:P3D
CALSCALE:GREGORIAN
BEGIN:VEVENT
DTSTART:20110922T123000Z
DTEND:20110922T143000Z
X-MICROSOFT-CDO-ALLDAYEVENT:FALSE
SUMMARY:2011 Multi-Chamber Mega Connect CANCELLED
DESCRIPTION:CANCELLED!\n\nTHIS EVENT HAS BEEN CANCELLED!\n\n\n\nMulti-Chamber Networking Breakfast\n\nWith the Buffalo Grove\, Chicago Area Gay & Lesbian\, DBR\, Des Plaines\, Evanston\, Glenview\, Glencoe\, Highland Park\, Lincolnwood\, Morton Grove\, Mount Prospect\, Niles\, Northbrook\, Park Ridge\, Skokie\, Wilmette & Winnetka-Northfield Chambers of Commerce\n\n \n\nThursday\, September 22\n\n7:30 a.m. - 9:30 a.m.\n\n \n\nRSVP & Payment Due by 5:00 p.m.\, Thursday\, September 15\n\nMember Pre-Registration Fee: $25\n\n($35 after 5:00 p.m.\, September 15)\n\nNon-Member Fee: $35\n\nWalk-ins strongly discouraged and may not be accommodated!\n\n \n\nClick Here to Download Registration Form\n\n \n\nNEW THIS TIME:\n\nJill Kirshenbaum of Sandler Training presents\n\nnetworkingworks!\n\nBuilding Relationships and Building Business\n\nLearn effective networking to increase your performance and help you maximize sustainable revenue and profits!\n\n\n\n    Members looking for a productive networking experience will enjoy the structured format of this program\, which gives each participant an opportunity to speak to a receptive audience about his/her company's products and services. \n\n \n\nPlease note that table assignments will begin promptly at 7:45 a.m. If you are not there by 7:45 a.m.\, your space will be given away to another participant and you will need to check-in at the "Late Registration Table".  Please arrive on time to get the most out of your networking experience!
X-ALT-DESC;FMTTYPE=text/html:<div align="center"><span style="font-size: 22px\;"><span style="font-family: verdana\;"><strong><span style="color: rgb(255\, 0\, 0)\;">CANCELLED!</span></strong></span></span><br />\n<span style="font-family: verdana\;"><span style="font-size: 14px\;"><strong><span style="font-size: 16px\;"><span style="color: rgb(255\, 0\, 0)\;">THIS EVENT HAS BEEN CANCELLED!</span></span><br />\n<br />\nMulti-Chamber Networking&nbsp\;Breakfast</strong></span></span></div>\n\n<div align="center" style="margin: 0in 0in 0pt\;"><span style="font-family: verdana\;"><span style="font-size: 12px\;"><em>With the Buffalo Grove\, Chicago Area Gay &amp\;&nbsp\;Lesbian\, DBR\, Des Plaines\, Evanston\, Glenview\, Glencoe\, Highland Park\, Lincolnwood\, Morton Grove\, Mount Prospect\, Niles\, Northbrook\, Park Ridge\,&nbsp\;Skokie\, Wilmette &amp\; Winnetka-Northfield </em><em>Chambers of Commerce</em></span></span></div>\n\n<div align="center" style="margin: 0in 0in 0pt\;"><span style="font-family: verdana\;">&nbsp\;</span></div>\n\n<div align="center" style="margin: 0in 0in 0pt\;"><span style="font-family: verdana\;"><span style="font-size: 14px\;"><span style="color: black\;"><strong>Thursday\, September 22<br />\n7:30 a.m. - 9:30 a.m.</strong></span></span></span></div>\n\n<div align="center" style="margin: 0in 0in 0pt\;">&nbsp\;</div>\n\n<div align="center" style="margin: 0in 0in 0pt\;"><span style="font-family: verdana\;"><span style="font-size: 12px\;"><span style="color: black\;">RSVP &amp\; Payment Due by 5:00 p.m.\, Thursday\, September 15</span><br />\n<span style="color: black\;">Member Pre-Registration Fee: $25</span></span></span></div>\n\n<div align="center" style="margin: 0in 0in 0pt\;"><span style="font-family: verdana\;"><span style="font-size: 12px\;"><span style="color: black\;">($35 after 5:00 p.m.\, September 15)</span></span></span></div>\n\n<div align="center" style="margin: 0in 0in 0pt\;"><span style="font-family: verdana\;"><span style="font-size: 12px\;"><span style="color: black\;">Non-Member Fee: $35</span></span></span></div>\n\n<div align="center" style="margin: 0in 0in 0pt\;"><span style="font-family: verdana\;"><span style="font-size: 12px\;"><u><em><span style="color: black\;"><strong>Walk-ins strongly </strong></span></em></u><em><span style="color: black\;"><u><strong>discouraged and may not be accommodated!</strong></u></span></em></span></span></div>\n\n<div align="center" style="margin: 0in 0in 0pt\;">&nbsp\;</div>\n\n<div align="center" style="margin: 0in 0in 0pt\;"><span style="font-family: verdana\;"><span style="color: rgb(0\, 0\, 255)\;"><em><a href="http://cloud.chambermaster.com/userfiles/UserFiles/chambers/151/File/September2011Connect.pdf" target="_blank">Click Here to Download Registration&nbsp\;Form</a></em></span></span><br />\n&nbsp\;</div>\n\n<div style="margin: 0in 0in 0pt\; text-align: center\;"><span style="font-family: verdana\;"><span style="font-size: 12px\;"><strong>NEW THIS TIME:</strong><br />\nJill Kirshenbaum of Sandler Training presents<br />\n<em>networkingworks!<br />\nBuilding Relationships and Building Business</em><br />\nLearn effective networking to increase your performance and help you maximize sustainable revenue and profits!</span></span></div>\n\n<div align="left" style="margin: 0in 0in 0pt\;"><br />\n<span style="font-family: verdana\;"><span style="font-size: 12px\;">&nbsp\;&nbsp\;&nbsp\;&nbsp\;Members looking for a productive networking experience will enjoy the structured format of this program\, which gives each participant an opportunity to speak to a receptive audience about his/her company&rsquo\;s products and services.&nbsp\;</span></span></div>\n\n<p align="left" style="margin: 0in 0in 0pt\;">&nbsp\;</p>\n\n<p align="left" style="margin: 0in 0in 0pt\; text-indent: 0.5in\;"><span style="font-family: verdana\;"><span style="font-size: 12px\;">Please note that table assignments will begin <u>promptly at 7:45 a.m</u>.&nbsp\;If you are not there by 7:45 a.m.\, your space will be given away to another participant and you will need to check-in at the &quot\;Late Registration Table&quot\;.&nbsp\;&nbsp\;<u>Please</u> arrive on time to get the most out of your networking experience!</span></span></p>\n
LOCATION:Holiday Inn North Shore Skokie Banquet & Conference Center 5300 Touhy Avenue Skokie
UID:e.151.703
SEQUENCE:3
DTSTAMP:20260420T055523Z
URL:https://business.nileschamber.com/events/details/2011-multi-chamber-mega-connect-cancelled-09-22-2011-703
END:VEVENT

END:VCALENDAR
