BEGIN:VCALENDAR
VERSION:2.0
PRODID:-//ChamberMaster//Event Calendar 2.0//EN
METHOD:PUBLISH
X-PUBLISHED-TTL:P3D
REFRESH-INTERVAL:P3D
CALSCALE:GREGORIAN
BEGIN:VEVENT
DTSTART:20111018T200000Z
DTEND:20111018T230000Z
X-MICROSOFT-CDO-ALLDAYEVENT:FALSE
SUMMARY:2011 Multi-Chamber Business to Business Expo & Taste - Bristol Court
DESCRIPTION:Multi-Chamber\n\nBusiness-to-Business\n\nExpo & Taste\n\n \n\nPresented by:\n\nBuffalo Grove\, Des Plaines\, Mount Prospect\, Niles\, Park Ridge\, Skokie\, and Wheeling/Prospect Heights Chambers of Commerce\n\n\n\nLooking for ways to improve your bottom line? Need better marketing tools? How about vendors that can save you money? For these answers and more\, visit our Annual Business to Business Expo and Taste. Business owners\, managers\, employees and home-based businesses from the area are invited to attend at no charge\, with your business card the only requirement for entry.\n\n\n\nPlus enjoy samples from these great area restaurants/caterers/banquet halls:\n\n\n\n   Bristol Court/Legendary Catering\n\n   California Pizza Kitchen\n\n   Capannari Ice Cream\n\n   Cubby Bear North\n\n   GFS Marketplace\n\n   Lynfred Winery\n\n   Maggiano's\n\n   and More!\n\n \n\nTuesday\, October 18\n\n3:00 p.m. - 6:00 p.m.\n\nBristol Court Banquets\,\n\n828 E. Rand Road\, Mount Prospect\n\nFree Admission and Free Parking
X-ALT-DESC;FMTTYPE=text/html:<div>\n<div style="margin: 0in 0in 0pt\;">\n<div style="margin: 0in 0in 0pt\; text-align: center\;"><span style="font-family: verdana\;"><span style="font-size: medium\;"><span style="font-size: large\;">&nbsp\;<strong>Multi-Chamber<br />\nBusiness-to-Business</strong></span></span></span></div>\n\n<div style="margin: 0in 0in 0pt\; text-align: center\;"><span style="font-family: verdana\;"><span style="font-size: medium\;"><span style="font-size: x-large\;"><strong>Expo &amp\;&nbsp\;Taste</strong></span></span></span></div>\n\n<div style="margin: 0in 0in 0pt\; text-align: center\;"><span style="font-family: verdana\;"><span style="font-size: medium\;"><span style="font-size: small\;">&nbsp\;</span></span></span></div>\n\n<div style="margin: 0in 0in 0pt\;"><span style="font-size: 11px\;"><span style="font-family: verdana\;">Presented by:</span></span></div>\n\n<p><span style="font-size: 11px\;"><span style="font-family: verdana\;">Buffalo Grove\, Des Plaines\, Mount Prospect\, Niles\, Park Ridge\, Skokie\, and Wheeling/Prospect Heights Chambers of Commerce<br />\n<br />\nLooking for ways to improve your bottom line? Need better marketing tools? How about vendors that can save you money? For these answers and more\, visit our Annual Business to Business Expo and Taste. Business owners\, managers\, employees and home-based businesses from the area are invited to attend at no charge\, with your business card the only requirement for entry.<br />\n<br />\n<strong>Plus enjoy samples from these great area restaurants/caterers/banquet halls:</strong></span></span><br />\n<br />\n&nbsp\;&nbsp\;&nbsp\;<span style="font-size: 11px\;"><span style="font-family: verdana\;">Bristol Court/Legendary Catering</span></span><br />\n&nbsp\;&nbsp\; <span style="font-size: 11px\;"><span style="font-family: verdana\;">California Pizza Kitchen</span></span><br />\n&nbsp\;&nbsp\; <span style="font-size: 11px\;"><span style="font-family: verdana\;">Capannari Ice Cream</span></span><br />\n&nbsp\;&nbsp\; <span style="font-size: 11px\;"><span style="font-family: verdana\;">Cubby Bear North</span></span><br />\n&nbsp\;&nbsp\; <span style="font-size: 11px\;"><span style="font-family: verdana\;">GFS Marketplace</span></span><br />\n&nbsp\;&nbsp\; <span style="font-size: 11px\;"><span style="font-family: verdana\;">Lynfred Winery</span></span><br />\n&nbsp\;&nbsp\; <span style="font-size: 11px\;"><span style="font-family: verdana\;">Maggiano&#39\;s</span></span><br />\n&nbsp\;&nbsp\; <span style="font-size: 11px\;"><span style="font-family: verdana\;">and More!</span></span><br />\n&nbsp\;</p>\n\n<p><span style="font-size: 12px\;"><span style="font-family: verdana\;"><strong>Tuesday\, October 18<br />\n3:00 p.m. - 6:00 p.m.</strong></span></span></p>\n\n<div style="margin: 0in 0in 0pt\;"><span style="font-family: verdana\;"><span style="font-size: 11px\;">Bristol Court Banquets\,</span></span></div>\n\n<div style="margin: 0in 0in 0pt\;"><span style="font-family: verdana\;"><span style="font-size: 11px\;">828 E. Rand Road\, Mount Prospect</span></span></div>\n\n<div style="margin: 0in 0in 0pt\;"><span style="font-family: verdana\;"><span style="font-size: 11px\;">Free Admission and Free Parking</span></span><br />\n&nbsp\;</div>\n</div>\n</div>\n
LOCATION:Bristol Court Banquets 828 Rand Road Mt. Prospect\, IL 60056
UID:e.151.709
SEQUENCE:3
DTSTAMP:20260420T041658Z
URL:https://business.nileschamber.com/events/details/2011-multi-chamber-business-to-business-expo-taste-bristol-court-10-18-2011-709
END:VEVENT

END:VCALENDAR
