BEGIN:VCALENDAR
VERSION:2.0
PRODID:-//ChamberMaster//Event Calendar 2.0//EN
METHOD:PUBLISH
X-PUBLISHED-TTL:P3D
REFRESH-INTERVAL:P3D
CALSCALE:GREGORIAN
BEGIN:VEVENT
DTSTART:20110223T143000Z
DTEND:20110223T153000Z
X-MICROSOFT-CDO-ALLDAYEVENT:FALSE
SUMMARY:2011 Free Energy Efficiency Program Workshop\, February 23\, Village of Niles
DESCRIPTION:Wasting Money?\n\n\n\nYou're invited to learn how\n\nNiles businesses can get\n\nFREE Energy Efficiency Assistance!\n\n\n\nBusiness Only Event\n\nWednesday\, February 23\n\n8:30 a.m. - 9:30 a.m.\n\n\n\nWith federal funding\, the non-profit Delta Institute is\n\noffering the following to eligible businesses in Cook County:\n\n\n	FREE energy audit with analysis\n	FREE implementation assistance\n	FREE assistance obtaining government and utility incentives\n	Retro-commissioning grant opportunities\n	Direst-installation services\n	Access to energy efficiency financing\n\n\n\n\nNiles Human Services Building\n\n999 Civic Center Drive\n\nNiles\, IL 60714
X-ALT-DESC;FMTTYPE=text/html:<p style="text-align: center\;"><span style="font-family: verdana\;"><span style="color: rgb(0\, 128\, 0)\;"><strong><span style="font-size: 28px\;">Wasting Money?</span></strong></span><br />\n<br />\n<span style="font-size: 14px\;"><span style="color: rgb(0\, 0\, 205)\;"><strong><span style="font-size: 20px\;">You&#39\;re invited to learn how<br />\nNiles businesses can get<br />\nFREE Energy Efficiency Assistance!</span></strong></span><br />\n<br />\nBusiness Only Event<br />\nWednesday\, February 23<br />\n8:30 a.m. - 9:30 a.m.<br />\n<br />\nWith federal funding\, the non-profit Delta Institute is<br />\noffering the following to eligible businesses in Cook County:</span></span></p>\n\n<ul>\n	<li style="text-align: center\;"><span style="font-size: 14px\;"><span style="font-family: verdana\;">FREE energy audit with analysis</span></span></li>\n	<li style="text-align: center\;"><span style="font-size: 14px\;"><span style="font-family: verdana\;">FREE implementation assistance</span></span></li>\n	<li style="text-align: center\;"><span style="font-size: 14px\;"><span style="font-family: verdana\;">FREE assistance obtaining government and utility incentives</span></span></li>\n	<li style="text-align: center\;"><span style="font-size: 14px\;"><span style="font-family: verdana\;">Retro-commissioning grant opportunities</span></span></li>\n	<li style="text-align: center\;"><span style="font-size: 14px\;"><span style="font-family: verdana\;">Direst-installation services</span></span></li>\n	<li style="text-align: center\;"><span style="font-size: 14px\;"><span style="font-family: verdana\;">Access to energy efficiency financing</span></span></li>\n</ul>\n\n<p style="text-align: center\;"><br />\n<span style="font-family: verdana\;"><span style="font-size: 14px\;">Niles Human Services Building<br />\n999 Civic Center Drive<br />\nNiles\, IL 60714</span></span></p>\n
LOCATION:Niles Human Services Building 999 Civic Center Drive Niles\, IL 60714
UID:e.151.665
SEQUENCE:3
DTSTAMP:20260420T175112Z
URL:https://business.nileschamber.com/events/details/2011-free-energy-efficiency-program-workshop-february-23-village-of-niles-02-23-2011-665
END:VEVENT

END:VCALENDAR
