BEGIN:VCALENDAR
VERSION:2.0
PRODID:-//ChamberMaster//Event Calendar 2.0//EN
METHOD:PUBLISH
X-PUBLISHED-TTL:P3D
REFRESH-INTERVAL:P3D
CALSCALE:GREGORIAN
BEGIN:VEVENT
DTSTART:20110627T203000Z
DTEND:20110627T213000Z
X-MICROSOFT-CDO-ALLDAYEVENT:FALSE
SUMMARY:2011 Fall Festival Committee Meeting
DESCRIPTION:Fall Festival Committee Meeting
X-ALT-DESC;FMTTYPE=text/html:Fall Festival Committee Meeting
LOCATION:Niles Chamber of Commerce Conference Room
UID:e.151.687
SEQUENCE:3
DTSTAMP:20260420T103203Z
URL:https://business.nileschamber.com/events/details/2011-fall-festival-committee-meeting-06-27-2011-687
END:VEVENT

END:VCALENDAR
