BEGIN:VCALENDAR
VERSION:2.0
PRODID:-//ChamberMaster//Event Calendar 2.0//EN
METHOD:PUBLISH
X-PUBLISHED-TTL:P3D
REFRESH-INTERVAL:P3D
CALSCALE:GREGORIAN
BEGIN:VEVENT
DTSTART:20110823T220000Z
DTEND:20110824T020000Z
X-MICROSOFT-CDO-ALLDAYEVENT:FALSE
SUMMARY:2011 Chicago Sky Women's Basketball
DESCRIPTION:Chicago Sky Multi-Chamber Networking Event\n\n\n\nJoin the Chicago Sky for world class basketball and family fun as they take on the Atlanta Dream. Come meet business leaders and professionals from the Chicago-land area in a pre-game networking event at the Allstate Arena.\n\n\n\nParticipating Chambers of Commerce:\n\nArlington Heights\, Des Plaines\, Elk Grove Village\, Greater O'Hare Association\, Highland\, Itasca\, McCormick\, Niles and Rosemont\n\n\n\nFor Event Invitation: Click Here
X-ALT-DESC;FMTTYPE=text/html:<p style="text-align: center\;"><span style="font-size: 12px\;"><span style="font-family: verdana\;"><span style="font-size: 16px\;"><strong>Chicago Sky Multi-Chamber Networking Event</strong></span><br />\n<br />\nJoin the Chicago Sky for world class basketball and family fun as they take on the Atlanta Dream. Come meet business leaders and professionals from the Chicago-land area in a pre-game networking event at the Allstate Arena.<br />\n<br />\n<strong>Participating Chambers of Commerce:</strong><br />\nArlington Heights\, Des Plaines\, Elk Grove Village\, Greater O&#39\;Hare Association\, Highland\, Itasca\, McCormick\, Niles and Rosemont<br />\n<br />\nFor Event Invitation: <strong><u><em><a href="http://cloud.chambermaster.com/userfiles/UserFiles/chambers/151/File/MultiChamberNetworking_Chambe.pdf">Click Here</a></em></u></strong></span></span></p>\n
LOCATION:Allstate Arena 6920 Mannheim Road\, Rosemont
UID:e.151.691
SEQUENCE:3
DTSTAMP:20260420T074443Z
URL:https://business.nileschamber.com/events/details/2011-chicago-sky-women-s-basketball-08-23-2011-691
END:VEVENT

END:VCALENDAR
