BEGIN:VCALENDAR
VERSION:2.0
PRODID:-//ChamberMaster//Event Calendar 2.0//EN
METHOD:PUBLISH
X-PUBLISHED-TTL:P3D
REFRESH-INTERVAL:P3D
CALSCALE:GREGORIAN
BEGIN:VEVENT
DTSTART:20110609T170000Z
DTEND:20110609T180000Z
X-MICROSOFT-CDO-ALLDAYEVENT:FALSE
SUMMARY:2011 Business Summit & Lunch\, June 9\, Niles Family Fitness Center
DESCRIPTION:Business Summit\n\n  \n\nJoin other business professionals for our NEWEST program. This one hour luncheon will give you the opportunity to meet with area business owners and company representatives to learn about ways to partner\, exchange leads and generate referrals.\n\n \n\nThis Month: Learn How the Niles Chamber's New Website Will Benefit Your Business. We have just launched our new website\, with great resources for businesses and consumers. Each member is listed in our Business Directory. Find out how to update your information and learn how to take full advantage of this benefit.
X-ALT-DESC;FMTTYPE=text/html:<div style="text-align: center\;">&nbsp\;</div>\n\n<div style="text-align: center\;"><span style="color: rgb(51\, 51\, 153)\;"><span style="font-size: xx-large\;"><span style="font-family: verdana\;"><strong>Business Summit</strong></span></span></span></div>\n\n<div style="text-align: center\;"><span _fck_bookmark="1" style="display: none\;">&nbsp\;</span><span _fck_bookmark="1" id="cke_bm_110S" style="display: none\;">&nbsp\;</span></div>\n\n<div style="text-align: center\;"><span style="color: rgb(0\, 0\, 205)\;"><span style="font-size: 12px\;"><span style="font-family: verdana\;">Join other business professionals for our NEWEST program. This one hour luncheon will give you the opportunity to meet with area business owners and company representatives to learn about ways to partner\, exchange leads and generate referrals.</span></span></span></div>\n\n<div style="text-align: center\;"><span style="color: rgb(0\, 0\, 205)\;"><span style="font-size: 12px\;"><span style="font-family: verdana\;">&nbsp\;<br />\nThis Month: Learn How the Niles Chamber&#39\;s New Website Will Benefit Your Business. We have just launched our new website\, with great resources for businesses and consumers. Each member is listed in our Business Directory. Find out how to update your information and learn how to take full advantage of this benefit.</span></span></span><span style="font-size: 12px\;"><span style="font-family: verdana\;"><span _fck_bookmark="1" id="cke_bm_110E" style="display: none\;">&nbsp\;</span><span _fck_bookmark="1" style="display: none\;">&nbsp\;</span></span></span></div>\n\n<div style="text-align: center\;">\n<div style="text-align: left\;">\n<p class="MsoNormal">&nbsp\;</p>\n\n<p class="MsoNormal">&nbsp\;</p>\n</div>\n</div>\n
LOCATION:Niles Family Fitness Center 987 Civic Center Drive\, Niles
UID:e.151.677
SEQUENCE:3
DTSTAMP:20260420T113937Z
URL:https://business.nileschamber.com/events/details/2011-business-summit-lunch-june-9-niles-family-fitness-center-06-09-2011-677
END:VEVENT

END:VCALENDAR
