BEGIN:VCALENDAR
VERSION:2.0
PRODID:-//ChamberMaster//Event Calendar 2.0//EN
METHOD:PUBLISH
X-PUBLISHED-TTL:P3D
REFRESH-INTERVAL:P3D
CALSCALE:GREGORIAN
BEGIN:VEVENT
DTSTART:20110804T170000Z
DTEND:20110804T180000Z
X-MICROSOFT-CDO-ALLDAYEVENT:FALSE
SUMMARY:2011 Business Summit & Lunch\, August 4\, Niles Public Library
DESCRIPTION:Business Summit\n\n  \n\nJoin other business professionals for our NEWEST program. This one hour luncheon will give you the opportunity to meet with area business owners and company representatives to learn about ways to partner\, exchange leads and generate referrals.\n\n\n\nThis Month:\n\nWills and Trusts for Businesses Owners\n\nAttorney Jacob K. Ehrensaft will be giving a presentation on wills and trusts for business owners.  Learn how effective planning and maintaining proper business formalities (such as corporate minutes\, assumed names\, and employment contracts) can be used to ensure a company functions efficiently if a business owner or employee becomes ill\, disabled or passes away. \n\n\n\nPoor planning and the failure to comply with business formalities are some of the largest concerns for businesses. The absence of a company owner or employee\, as well as improper business practices\, can cause a rift in management and subject owners to personal liability\, government fines\, and tax penalties.  Preparation for the future is essential to the success of any business\; it gives individuals\, families\, owners and employees the security they deserve.
X-ALT-DESC;FMTTYPE=text/html:<div style="text-align: center\;">&nbsp\;</div>\n\n<div style="text-align: center\;"><span style="color: rgb(51\, 51\, 153)\;"><span style="font-size: xx-large\;"><span style="font-family: verdana\;"><strong>Business Summit</strong></span></span></span></div>\n\n<div style="text-align: center\;"><span _fck_bookmark="1" style="display: none\;">&nbsp\;</span><span _fck_bookmark="1" id="cke_bm_110S" style="display: none\;">&nbsp\;</span></div>\n\n<div style="text-align: center\;"><span style="font-size: 12px\;"><span style="font-family: verdana\;">Join other business professionals for our NEWEST program. This one hour luncheon will give you the opportunity to meet with area business owners and company representatives to learn about ways to partner\, exchange leads and generate referrals.</span></span></div>\n\n<div style="text-align: center\;"><br />\n<span style="font-family: verdana\;"><span style="font-size: 12px\;"><strong>This Month:<br />\nWills and Trusts for Businesses Owners</strong></span><br />\nAttorney Jacob K. Ehrensaft will be giving a presentation on wills and trusts for business owners.&nbsp\; Learn how effective planning and maintaining proper business formalities (such as corporate minutes\, assumed names\, and employment contracts) can be used to ensure a company functions efficiently if a business owner or employee becomes ill\, disabled or passes away.&nbsp\;<br />\n<br />\nPoor planning and the failure to comply with business formalities are some of the largest concerns for businesses. The absence of a company owner or employee\, as well as improper business practices\, can cause a rift in management and subject owners to personal liability\, government fines\, and tax penalties.&nbsp\; Preparation for the future is essential to the success of any business\; it gives individuals\, families\, owners and employees the security they deserve.</span><br />\n<br />\n<span style="font-size: 12px\;"><span style="font-family: verdana\;"><span _fck_bookmark="1" id="cke_bm_110E" style="display: none\;">&nbsp\;</span><span _fck_bookmark="1" style="display: none\;">&nbsp\;</span></span></span></div>\n\n<div style="text-align: center\;">\n<div style="text-align: left\;">\n<p class="MsoNormal">&nbsp\;</p>\n</div>\n</div>\n
LOCATION:Niles Public Library 6960 W. Oakton Street\, Niles Please park in the Fifth Third Bank parking lot across the street.
UID:e.151.689
SEQUENCE:3
DTSTAMP:20260420T074402Z
URL:https://business.nileschamber.com/events/details/2011-business-summit-lunch-august-4-niles-public-library-08-04-2011-689
END:VEVENT

END:VCALENDAR
