BEGIN:VCALENDAR
VERSION:2.0
PRODID:-//ChamberMaster//Event Calendar 2.0//EN
METHOD:PUBLISH
X-PUBLISHED-TTL:P3D
REFRESH-INTERVAL:P3D
CALSCALE:GREGORIAN
BEGIN:VEVENT
DTSTART:20110915T220000Z
DTEND:20110916T000000Z
X-MICROSOFT-CDO-ALLDAYEVENT:FALSE
SUMMARY:2011 Business After Hours\, September - C&M Auto
DESCRIPTION:September Business After Hours hosted by:\n\nC&M Auto Service\, Inc.\n\n \n\nBusiness After Hours are a great way to network and meet area business owners and company representatives. Remember that networking is not only a resource to gain customers and generate leads\, but also a chance to find new vendors\, share new ideas\, or find new ways to offer benefits to your employees. \n\n \n\n\nEvent Registration posted online*. \n\nCheck out who is attending the event. Any Chamber member that registers will be listed below. *Registrations are posted from the Chamber office and NOT automatic. \n \n\nName (Company):\n\nAmer Kasso - Niles Express Copy\n\nDick Barton - Barton Marketing Group\n\nMargaret Maiser - Marge & Associates\n\nMonika Kalicki - Golf Mill Shopping Center\n\nBruce Glickson - GFS Marketplace\n\nSue Wilsey - Niles Public Library\n\nBill Griffis - Edward Jones\n\nScott Schoeller - Contour Landscaping\, Inc.\n\nEd Reier - Contour Landscaping\, Inc.\n\nJoe Walsh - Access Benefit Solutions\n\nJeffrey Butler - Kessler\, Orlean\, Silver & Company\, P.C.\n\nBarb Kruser - Niles Public Library\n\nDusan Varga - Chicago SEO Small Business Marketing Consultant\n\nCraig Butler - GFS Marketplace\n\nJerry Neiberg - Illinois\n\nDr. Bruce Hertz - Aikens-Hertz Medical Center\n\nChristine Dzierzak - Dent-Sure Dental Services\n\nJoanne Cwynar - Ambassador\n\nNick Katsoolias - Forest Financial Group Wealth Management\n\nJohnJohn
X-ALT-DESC;FMTTYPE=text/html:<div>&nbsp\;</div>\n\n<div align="center"><span style="font-size: large\;"><strong><span style="color: black\; font-style: normal\;"><font face="Verdana"><em>September&nbsp\;Business After Hours hosted by:</em></font></span></strong></span></div>\n\n<div align="center"><span style="font-family: verdana\;"><span style="font-size: x-large\;"><span style="color: black\; font-style: normal\;"><font color="#ff0000"><strong>C&amp\;M Auto Service\, Inc.</strong></font></span></span></span></div>\n\n<div>&nbsp\;</div>\n\n<div><span style="color: black\; font-size: 10pt\; font-style: normal\;"><font face="Verdana">Business After Hours are a great way to network and meet area business owners and company representatives. Remember that networking is not only a resource to gain customers and generate leads\, but also a chance to find new vendors\, share new ideas\, or find new ways to offer benefits to your employees. </font></span></div>\n\n<div><font face="Verdana" size="2">&nbsp\;</font></div>\n\n<div>\n<div><span style="color: black\; font-size: 10pt\; font-style: normal\;"><font face="Verdana"><strong><font color="#000080"><span style="color: black\; font-size: 10pt\; font-style: normal\;"><font face="Verdana"><strong><font color="#000080">Event Registration posted online*.</font></strong>&nbsp\;</font></span></font></strong></font></span></div>\n\n<div><span style="color: black\; font-size: 10pt\; font-style: normal\;"><font face="Verdana"><strong><font color="#000080"><span style="font-family: verdana\;"><span style="font-size: small\;"><span style="color: black\; font-style: normal\;">Check out&nbsp\;who is attending the event. Any Chamber member that registers will be listed below. <em>*Registrations are posted from the Chamber office and NOT automatic.</em>&nbsp\;</span></span></span></font></strong></font></span></div>\n<font face="Verdana" size="2">&nbsp\;</font></div>\n\n<div><span style="color: black\; font-size: 10pt\; font-style: normal\;"><u><strong><font face="Verdana">Name&nbsp\;(Company):</font></strong></u><br />\n<font face="Verdana">Amer Kasso - Niles Express Copy<br />\nDick Barton - Barton Marketing Group<br />\nMargaret Maiser - Marge &amp\; Associates<br />\nMonika Kalicki - Golf Mill Shopping Center<br />\nBruce Glickson - GFS Marketplace<br />\nSue Wilsey - Niles Public Library<br />\nBill Griffis - Edward Jones<br />\nScott Schoeller - Contour Landscaping\, Inc.<br />\nEd Reier - Contour Landscaping\, Inc.<br />\nJoe Walsh - Access Benefit Solutions<br />\nJeffrey Butler - Kessler\, Orlean\, Silver &amp\; Company\, P.C.<br />\nBarb Kruser - Niles Public Library<br />\nDusan Varga - <font color="#000000" face="Verdana" size="2">Chicago SEO Small Business Marketing Consultant</font><br />\nCraig Butler - GFS Marketplace<br />\nJerry Neiberg - Illinois<br />\nDr. Bruce Hertz - Aikens-Hertz Medical Center<br />\nChristine Dzierzak - Dent-Sure Dental Services<br />\nJoanne Cwynar - Ambassador<br />\nNick Katsoolias - Forest Financial Group Wealth Management</font><br />\n<font face="Verdana"><font color="#000000" face="Verdana" size="2"><span _fck_bookmark="1" style="display: none\;">JohnJohn&nbsp\;</span></font></font></span></div>\n
LOCATION:C&M Auto Service\, Inc. 835 Milwaukee Avenue Glenview\, 60025
UID:e.151.705
SEQUENCE:3
DTSTAMP:20260420T055224Z
URL:https://business.nileschamber.com/events/details/2011-business-after-hours-september-c-m-auto-09-15-2011-705
END:VEVENT

END:VCALENDAR
