BEGIN:VCALENDAR
VERSION:2.0
PRODID:-//ChamberMaster//Event Calendar 2.0//EN
METHOD:PUBLISH
X-PUBLISHED-TTL:P3D
REFRESH-INTERVAL:P3D
CALSCALE:GREGORIAN
BEGIN:VEVENT
DTSTART:20111013T220000Z
DTEND:20111014T000000Z
X-MICROSOFT-CDO-ALLDAYEVENT:FALSE
SUMMARY:2011 Business After Hours\, October - Notre Dame
DESCRIPTION:October Business After Hours hosted by:\n\nNotre Dame College Prep\n\n \n\n\nBusiness After Hours are a great way to network and meet area business owners and company representatives. Remember that networking is not only a resource to gain customers and generate leads\, but also a chance to find new vendors\, share new ideas\, or find new ways to offer benefits to your employees. \n\n \n\nEvent Registration posted online*. \n\nCheck out who is attending this event. *Registrations are posted from the Chamber office and NOT automatic. \n\n \n\nName (Company):\n\nMonika Kalicki - Golf Mill Shopping Center\n\nRoberta Koch - Amway Independent Business Owner\n\nMargaret Masier - Marge & Associates\, LLC\n\nJim Capparelli - Journal & Topics Newspaper\n\nDusan Varga - Pink ZebraLion Marketing\, Inc.\n\nHenry Funkenbuser - Stitch Mine Custom Embroidery\n\nDennis Vaccaro - RV Enterprises\, Ltd.\n\nJerry Neiberg - Illinois Mutual Life Insurance Co.\n\nJacob Ehrensaft - Attorney\n\nLisa Cisneros - Patch.Com\n\nSandi Abel - First Financial Credit Union\n\nJohn Senska - John Senska & Sons\, Inc.\n\nTina Senska - John Senska & Sons\, Inc.\n\nJoanne Cwynar - Ambassador\n\nJoe Penze - Niles Police Department\n\nRich Block - Creative Promotional Products\n\nJohn Jekot - Optimist Club of Niles\n\nBarb Kruser - Niles Public Library\n\nJudy Lewis - Resurrection Nursing & Rehabilitation\n\nDale Ashcraft - Lin-Mar Motors\, Inc.\n\nRon Lundin - Lin-Mar Motors\, Inc.\n\nNorbert Johnson - Johnson Real Estate\n\nKrystyna Koda - Ridgewood Gardens\, Inc.\n\nGeorge Lowe - Sparkfactor\n\nRita Lewandowski - Attorney\n\nFrank DiMaria - Chef\n\nJerry Hutter - The Bugle Newspaper\n\nDerek Jankowski - ABC Commercial\, Inc.\n\nChristine Dzierzak - Dent-Sure Dental Services\n\nAndy Omeraqic - Harris Bank\n\nBill Terpinas - Lavell Law\, Ltd.\n\nJoanne Haeberlin - Usborne Books and More\n\nLeyla Basaria - Cinnabon\n\nSue Wilsey - Niles Public Library\n\nPattie Spiegelman - C&M Auto Service\, Inc.\n\nBret Fahnstrom - Golf Maine Park District\n\nDon Smith - Ptasinski & Smith\, P.C.\n\nNorbert Johnson - Johnson Real Estate\n\nPam Defiglio - Patch.Com\n\nRon Lundin - Lin-Mar Motors\, Inc.\n\nFaythe Bernheim - Osco\n\nDr. Bruce Hertz - Aikens-Hertz Medical Center\n\nLouella Preston\, Trustee - Village of Niles\n\nJohn Preston - Lions Club of Niles
X-ALT-DESC;FMTTYPE=text/html:<div>&nbsp\;</div>\n\n<div>\n<div align="center"><span style="font-family: verdana\;"><span style="font-size: large\;"><strong><span style="color: black\; font-style: normal\;"><em>October Business After Hours hosted by:</em></span></strong></span></span></div>\n\n<div align="center"><span style="color: rgb(0\, 128\, 0)\;"><span style="font-family: verdana\;"><span style="font-size: 20px\;"><span style="font-style: normal\;"><strong>Notre Dame College Prep</strong></span></span><br />\n&nbsp\;</span></span></div>\n</div>\n\n<div><span style="font-family: verdana\;"><span style="color: black\; font-size: 10pt\; font-style: normal\;">Business After Hours are a great way to network and meet area business owners and company representatives. Remember that networking is not only a resource to gain customers and generate leads\, but also a chance to find new vendors\, share new ideas\, or find new ways to offer benefits to your employees. </span></span></div>\n\n<div><span style="font-family: verdana\;"><font size="2">&nbsp\;</font></span></div>\n\n<div><span style="font-family: verdana\;"><span style="color: black\; font-size: 10pt\; font-style: normal\;"><strong><font color="#000080">Event Registration posted online*.</font></strong>&nbsp\;</span></span></div>\n\n<div><span style="font-family: verdana\;"><span style="color: black\; font-size: 10pt\; font-style: normal\;">Check out&nbsp\;who is attending this event. <em>*Registrations are posted from the Chamber office and NOT automatic.</em></span><span style="color: black\; font-size: 10pt\; font-style: normal\;">&nbsp\;</span></span></div>\n\n<div><span style="font-family: verdana\;"><font size="2">&nbsp\;</font></span></div>\n\n<div><span style="font-family: verdana\;"><span style="color: black\; font-size: 10pt\; font-style: normal\;"><u><strong>Name&nbsp\;(Company):</strong></u><br />\nMonika Kalicki - Golf Mill Shopping Center<br />\nRoberta Koch - Amway Independent Business Owner<br />\nMargaret Masier - Marge &amp\; Associates\, LLC<br />\nJim Capparelli - Journal&nbsp\;&amp\; Topics Newspaper<br />\nDusan Varga - Pink ZebraLion Marketing\, Inc.<br />\nHenry Funkenbuser - Stitch Mine Custom Embroidery<br />\nDennis Vaccaro - RV Enterprises\, Ltd.<br />\nJerry Neiberg - Illinois Mutual Life Insurance Co.<br />\nJacob Ehrensaft - Attorney<br />\nLisa Cisneros - Patch.Com<br />\nSandi Abel - First Financial Credit Union<br />\nJohn Senska - John Senska &amp\; Sons\, Inc.<br />\n<font color="#000000" face="Verdana" size="2">Tina Senska - John Senska &amp\; Sons\, Inc.<br />\nJoanne Cwynar - Ambassador<br />\nJoe Penze - Niles Police Department<br />\nRich Block - Creative Promotional Products<br />\nJohn Jekot - Optimist Club of Niles<br />\nBarb Kruser - Niles Public Library<br />\nJudy Lewis - Resurrection Nursing &amp\; Rehabilitation<br />\nDale Ashcraft - Lin-Mar Motors\, Inc.<br />\nRon Lundin - Lin-Mar Motors\, Inc.<br />\nNorbert Johnson - Johnson Real Estate<br />\nKrystyna Koda - Ridgewood Gardens\, Inc.<br />\nGeorge Lowe - Sparkfactor<br />\nRita Lewandowski - Attorney<br />\nFrank DiMaria - Chef<br />\nJerry Hutter - The Bugle Newspaper<br />\nDerek Jankowski - ABC Commercial\,&nbsp\;Inc.<br />\nChristine Dzierzak - Dent-Sure Dental Services<br />\nAndy Omeraqic&nbsp\;- Harris Bank<br />\nBill Terpinas - Lavell Law\, Ltd.<br />\nJoanne Haeberlin - Usborne Books and More<br />\nLeyla Basaria - Cinnabon<br />\nSue Wilsey - Niles Public Library<br />\nPattie Spiegelman - C&amp\;M Auto Service\,&nbsp\;Inc.<br />\nBret Fahnstrom - Golf Maine Park District<br />\nDon Smith - Ptasinski &amp\; Smith\, P.C.<br />\nNorbert Johnson - Johnson Real Estate<br />\nPam Defiglio - Patch.Com<br />\nRon&nbsp\;Lundin - Lin-Mar Motors\, Inc.<br />\nFaythe Bernheim - Osco<br />\nDr. Bruce Hertz - Aikens-Hertz Medical Center<br />\nLouella Preston\, Trustee - Village of Niles<br />\nJohn Preston - Lions Club of Niles</font></span></span><br />\n<br />\n&nbsp\;</div>\n
LOCATION:Notre Dame College Prep 7655 W. Dempster Street Niles\, IL 60714
UID:e.151.707
SEQUENCE:3
DTSTAMP:20260420T042107Z
URL:https://business.nileschamber.com/events/details/2011-business-after-hours-october-notre-dame-10-13-2011-707
END:VEVENT

END:VCALENDAR
