BEGIN:VCALENDAR
VERSION:2.0
PRODID:-//ChamberMaster//Event Calendar 2.0//EN
METHOD:PUBLISH
X-PUBLISHED-TTL:P3D
REFRESH-INTERVAL:P3D
CALSCALE:GREGORIAN
BEGIN:VEVENT
DTSTART:20111110T230000Z
DTEND:20111111T010000Z
X-MICROSOFT-CDO-ALLDAYEVENT:FALSE
SUMMARY:2011 Business After Hours\, November - Creative Promotional
DESCRIPTION:November Business After Hours hosted by:\n\nCreative Promotional Products\n\n \n\n\nBusiness After Hours are a great way to network and meet area business owners and company representatives. Remember that networking is not only a resource to gain customers and generate leads\, but also a chance to find new vendors\, share new ideas\, or find new ways to offer benefits to your employees. \n\n \n\nEvent Registration posted online*. \n\nCheck out who is attending this event. *Registrations are posted from the Chamber office and NOT automatic. \n\n \n\nName (Company):\n\nBill Griffis - Edward Jones\n\nJacob Ehrensaft - Attorney\n\nBarb Kruser - Niles Public Library\n\nJessica Sharp - Stalwart Systems\, LLC\n\nGene Jurczak - Stalwart Systems\, LLC\n\nIris Alicea - UVA Spa & Wine Boutique\n\nTracia Garcia - UVA Spa & Wine Boutique\n\n Darcy Van Zijl - UVA Spa & Wine Boutique\n\nSteven Bonica - Romanian-American Network\, Inc.\n\nTina Senska - John Senska & Sons\, Inc.\n\nJohn Senska - John Senska & Sons\, Inc.\n\nDennis Vaccaro - RV Enterprises\, Ltd.\n\nRich Mangold - RCM Home Inspections \n\nLisa Cisneros - Patch.com\n\nDusan Varga - Pink ZebraLion Marketing\, Inc.\n\nMichael Molitor - Allstate Insurance\n\nJeff Butler - Kessler\, Orlean\, Silver & Company\, P.C.\n\nSherwin Weisman - North Suburban Hearing Service\n\nMaggie Nessim - Faller Insurance Agency\n\nRoberta Koch - Amway Independent Business Owner\n\nLisa Borchers - Advocate Medical Group Immediate Care & Occupational Health Center\n\nJoe Walsh - Access Benefit Solutions\n\nAl Katz - Independent Sales Associate\, Pre-Paid Legal\n\nRainer Krautwald - Paul Davis Emergency Services of Niles\n\nJames Melnychuk - Rave Review Catering\n\nPattie Spiegelman - C&M Auto Service\, Inc.\n\nChuck Hartogh - C&M Auto Service\, Inc.\n\nPam DeFiglio - Patch.com\n\nRich Block - Creative Promotional Products
X-ALT-DESC;FMTTYPE=text/html:<div>&nbsp\;</div>\n\n<div>\n<div align="center"><span style="font-family: verdana\;"><span style="font-size: large\;"><strong><span style="color: black\; font-style: normal\;"><em>November Business After Hours hosted by:</em></span></strong></span></span></div>\n\n<div align="center"><span style="color: rgb(0\, 128\, 0)\;"><span style="font-family: verdana\;"><span style="font-size: 20px\;"><span style="font-style: normal\;"><strong>Creative Promotional Products</strong></span></span></span></span><br />\n&nbsp\;</div>\n</div>\n\n<div><span style="font-family: verdana\;"><span style="color: black\; font-size: 10pt\; font-style: normal\;">Business After Hours are a great way to network and meet area business owners and company representatives. Remember that networking is not only a resource to gain customers and generate leads\, but also a chance to find new vendors\, share new ideas\, or find new ways to offer benefits to your employees. </span></span></div>\n\n<div><span style="font-family: verdana\;"><font size="2">&nbsp\;</font></span></div>\n\n<div><span style="font-family: verdana\;"><span style="color: black\; font-size: 10pt\; font-style: normal\;"><strong><font color="#000080">Event Registration posted online*.</font></strong>&nbsp\;</span></span></div>\n\n<div><span style="font-family: verdana\;"><span style="color: black\; font-size: 10pt\; font-style: normal\;">Check out&nbsp\;who is attending this event. <em>*Registrations are posted from the Chamber office and NOT automatic.</em></span><span style="color: black\; font-size: 10pt\; font-style: normal\;">&nbsp\;</span></span></div>\n\n<div><span style="font-family: verdana\;"><font size="2">&nbsp\;</font></span></div>\n\n<div><span style="font-family: verdana\;"><span style="color: black\; font-size: 10pt\; font-style: normal\;"><u><strong>Name&nbsp\;(Company):</strong></u><br />\nBill Griffis - Edward Jones<br />\nJacob Ehrensaft -&nbsp\;Attorney<br />\nBarb Kruser -&nbsp\;Niles Public Library<br />\nJessica Sharp - Stalwart Systems\, LLC<br />\nGene Jurczak - Stalwart Systems\, LLC<br />\nIris Alicea - UVA Spa &amp\; Wine Boutique<br />\nTracia Garcia - <font color="#000000" face="Verdana" size="2">UVA Spa &amp\; Wine Boutique</font><br />\n<span _fck_bookmark="1" style="display: none\;">&nbsp\;</span><font color="#000000" face="Verdana" size="2">Darcy Van Zijl - UVA Spa &amp\; Wine Boutique<br />\nSteven Bonica - Romanian-American Network\, Inc.<br />\nTina Senska - John Senska &amp\; Sons\, Inc.<br />\nJohn Senska - John Senska &amp\; Sons\, Inc.<br />\nDennis Vaccaro&nbsp\;- RV Enterprises\, Ltd.<br />\nRich Mangold - RCM Home Inspections&nbsp\;<br />\nLisa Cisneros - Patch.com<br />\nDusan Varga - Pink ZebraLion Marketing\, Inc.<br />\nMichael Molitor - Allstate Insurance<br />\nJeff Butler - Kessler\, Orlean\, Silver &amp\; Company\, P.C.<br />\nSherwin Weisman - <font color="#000000" face="Verdana" size="2">North Suburban Hearing Service</font><br />\nMaggie Nessim - Faller Insurance Agency<br />\nRoberta Koch - <font color="#000000" face="Verdana" size="2">Amway Independent Business Owner</font><br />\nLisa Borchers - <font color="#000000" face="Verdana" size="2">Advocate Medical Group Immediate Care &amp\; Occupational Health Center<br />\nJoe Walsh - Access Benefit Solutions<br />\nAl Katz - <font color="#000000" face="Verdana" size="2">Independent Sales Associate\, Pre-Paid Legal<br />\nRainer Krautwald&nbsp\;- Paul Davis Emergency Services of Niles<br />\nJames Melnychuk - Rave Review Catering<br />\nPattie Spiegelman - C&amp\;M Auto Service\, Inc.<br />\nChuck Hartogh - C&amp\;M Auto Service\, Inc.<br />\nPam DeFiglio - Patch.com<br />\nRich Block - Creative Promotional Products</font></font></font></span></span></div>\n
LOCATION:Creative Promotional Products 7300 N. Monticello Skokie\, IL 60076
UID:e.151.711
SEQUENCE:3
DTSTAMP:20260420T021439Z
URL:https://business.nileschamber.com/events/details/2011-business-after-hours-november-creative-promotional-11-10-2011-711
END:VEVENT

END:VCALENDAR
