BEGIN:VCALENDAR
VERSION:2.0
PRODID:-//ChamberMaster//Event Calendar 2.0//EN
METHOD:PUBLISH
X-PUBLISHED-TTL:P3D
REFRESH-INTERVAL:P3D
CALSCALE:GREGORIAN
BEGIN:VEVENT
DTSTART:20110331T220000Z
DTEND:20110401T000000Z
X-MICROSOFT-CDO-ALLDAYEVENT:FALSE
SUMMARY:2011 Business After Hours\, March - Koenig & Strey
DESCRIPTION:Join the\n\nNiles Chamber of Commerce and the\n\nPolish American Chamber of Commerce\n\nat our March Business After Hours\n\nhosted by:\n\nKoenig & Strey Real Living\n\n \n\nBusiness After Hours are a great way to network and meet area business owners and company representatives. Remember that networking is not only a resource to gain customers and generate leads\, but also a chance to find new vendors\, share new ideas\, or find new ways to offer benefits to your employees. \n\n \n\nEvent Registration posted online*. \n\nCheck out who is attending this event. *Registrations are posted from the Chamber office and NOT automatic. \n\n \n\nName (Company):\n\nRoberta Koch - Amway Independent Business Owners\n\nBarb Kruser - Niles Public Library\n\nTom Gregory - FirstMerit Bank\n\nWinston Dacuycuy - FirstMerit Bank\n\nDennis Vaccaro - RV Enterprises\, Ltd.\n\nJacob Ehrensaft - Attorney\n\nMichael Turner - Senior Helpers of Niles - Lincolnwood\n\nAl Katz - Independent Sales Associate\, Pre-Paid Legal\n\nPaul Marineseu - Arsenal S.C. Academy\n\nChris Baciu - Arsenal S.C. Academy\n\nJoseph Durante - CU America Financial Services\n\nRobert Radkowski - Harris Bank\n\nJeff Butler - Kessler\, Orlean\, Silver & Company\, P.C.\n\nJohn Koelig - Koelig & Associates\n\nKrystyna Koda - Ridgewood Gardens Inc.\n\nKris Hansen - The Bethany Terrace\n\nJack Stachnik - TV Facts\n\nMelinda Kubak - All About Living\, Inc.\n\nTom Heskin - Brilliant Electric Heating & Cooling\, Inc.\n\nRichard Block - Creative Promotional Products\n\nBrad Schwartz - First Data\n\nMargaret Masier - Marge & Associates\, LLC\n\nAmer Kasso - Niles Express Copy\n\nMary Jane Keller - Move Me The Move Manager\n\nDale Ashcraft - Lin-Mar Motors\, Inc.\n\nRon Lundin - Lin-Mar Motors\, Inc.\n\nVince Scaletta - Aflac\n\nDr. Bruce Hertz - Aikens-Hertz Medical Center\n\nThomas Jankowski - Perfection Inspection of Real Estate\, Inc.\n\nPaul Hunsicker - Hunsicker Electric\n\nToni Mengarelli - Holiday Inn NorthShore\n\nSandi Bond - Holiday Inn NorthShore\n\nJohn Preston - Niles Lions Club\n\nLouella Preston - Village of Niles Trustee\n\nDavid Levine - Illinois Nut & Candy\n\nMichael Molitor - Allstate Insurance\n\nSue Wilsey - Niles Public Library\n\nJoanne Cwynar - Ambassador\n\nFaith Bernheim - Jewel Osco\n\nJoe Hendrick - American Legion Morton Grove Post 134
X-ALT-DESC;FMTTYPE=text/html:<div>&nbsp\;</div>\n\n<div align="center"><br />\n<span style="font-size: large\;"><strong><span style="color: black\; font-style: normal\;"><font face="Verdana"><em>Join the<br />\nNiles Chamber of Commerce and the<br />\nPolish American Chamber of Commerce<br />\nat our March&nbsp\;Business After Hours<br />\nhosted by:</em></font></span></strong></span></div>\n\n<div align="center"><span style="font-size: x-large\;"><span style="color: black\; font-style: normal\;"><font color="#ff0000" face="Verdana"><strong>Koenig&nbsp\;&amp\; Strey Real Living</strong></font></span></span></div>\n\n<div>&nbsp\;</div>\n\n<div><span style="color: black\; font-size: 10pt\; font-style: normal\;"><font face="Verdana">Business After Hours are a great way to network and meet area business owners and company representatives. Remember that networking is not only a resource to gain customers and generate leads\, but also a chance to find new vendors\, share new ideas\, or find new ways to offer benefits to your employees. </font></span></div>\n\n<div><font face="Verdana" size="2">&nbsp\;</font></div>\n\n<div><span style="color: black\; font-size: 10pt\; font-style: normal\;"><font face="Verdana"><strong><font color="#000080">Event Registration posted online*.</font></strong>&nbsp\;</font></span></div>\n\n<div><font face="Verdana"><span style="color: black\; font-size: 10pt\; font-style: normal\;">Check out&nbsp\;who is attending this event. <em>*Registrations are posted from the Chamber office and NOT automatic.</em></span><span style="color: black\; font-size: 10pt\; font-style: normal\;">&nbsp\;</span></font></div>\n\n<div><font face="Verdana" size="2">&nbsp\;</font></div>\n\n<div><span style="color: black\; font-size: 10pt\; font-style: normal\;"><u><strong><font face="Verdana">Name&nbsp\;(Company):</font></strong></u><br />\n<font face="Verdana">Roberta Koch - Amway Independent Business Owners<br />\nBarb Kruser - Niles Public Library<br />\nTom Gregory - FirstMerit Bank<br />\nWinston Dacuycuy - FirstMerit Bank<br />\nDennis Vaccaro - RV Enterprises\, Ltd.<br />\nJacob Ehrensaft - Attorney<br />\nMichael Turner - Senior Helpers of Niles - Lincolnwood<br />\nAl Katz - Independent Sales Associate\, Pre-Paid Legal<br />\nPaul Marineseu -&nbsp\;Arsenal S.C. Academy<br />\nChris Baciu - Arsenal S.C. Academy<br />\nJoseph Durante - CU America Financial Services<br />\nRobert Radkowski - Harris Bank<br />\nJeff Butler - Kessler\, Orlean\, Silver&nbsp\;&amp\; Company\, P.C.<br />\nJohn Koelig - Koelig &amp\; Associates<br />\nKrystyna Koda - Ridgewood Gardens Inc.</font></span><br />\n<font color="#000000" face="Verdana" size="2">Kris Hansen - The Bethany Terrace<br />\nJack Stachnik - TV Facts<br />\nMelinda Kubak - All About Living\,&nbsp\;Inc.<br />\nTom Heskin - Brilliant Electric Heating &amp\; Cooling\, Inc.<br />\nRichard Block - Creative Promotional Products<br />\nBrad Schwartz - First Data<br />\nMargaret Masier - Marge &amp\; Associates\, LLC<br />\nAmer Kasso - Niles Express Copy<br />\nMary Jane Keller - Move Me The Move Manager<br />\nDale Ashcraft - Lin-Mar Motors\,&nbsp\;Inc.<br />\nRon Lundin - Lin-Mar Motors\, Inc.<br />\nVince Scaletta&nbsp\;- Aflac<br />\nDr. Bruce Hertz - Aikens-Hertz Medical Center<br />\nThomas Jankowski - Perfection Inspection of Real Estate\, Inc.<br />\nPaul Hunsicker - Hunsicker Electric<br />\nToni Mengarelli - Holiday Inn NorthShore<br />\nSandi Bond - Holiday Inn NorthShore<br />\nJohn Preston - Niles Lions Club<br />\nLouella Preston - Village of Niles&nbsp\;Trustee<br />\nDavid Levine - Illinois Nut &amp\; Candy<br />\nMichael Molitor - Allstate Insurance<br />\nSue Wilsey - Niles Public Library<br />\nJoanne Cwynar - Ambassador<br />\nFaith Bernheim - Jewel Osco<br />\nJoe Hendrick - American Legion Morton Grove Post 134</font><br />\n<br />\n<br />\n<br />\n<br />\n<br />\n<br />\n<br />\n&nbsp\;</div>\n
LOCATION:Koenig & Strey Real Living 5364 W. Devon Avenue Chicago (Edgebrook)\, IL 60646 Use parking lot at corner of Devon and Central. Meter and Street Parking available.
UID:e.151.649
SEQUENCE:3
DTSTAMP:20260420T160347Z
URL:https://business.nileschamber.com/events/details/2011-business-after-hours-march-koenig-strey-03-31-2011-649
END:VEVENT

END:VCALENDAR
