BEGIN:VCALENDAR
VERSION:2.0
PRODID:-//ChamberMaster//Event Calendar 2.0//EN
METHOD:PUBLISH
X-PUBLISHED-TTL:P3D
REFRESH-INTERVAL:P3D
CALSCALE:GREGORIAN
BEGIN:VEVENT
DTSTART:20110614T220000Z
DTEND:20110615T000000Z
X-MICROSOFT-CDO-ALLDAYEVENT:FALSE
SUMMARY:2011 Business After Hours\, June - Barnaby's
DESCRIPTION:June Business After Hours hosted by:\n\nBarnaby's Family Inn\n\n \n\n\nBusiness After Hours are a great way to network and meet area business owners and company representatives. Remember that networking is not only a resource to gain customers and generate leads\, but also a chance to find new vendors\, share new ideas\, or find new ways to offer benefits to your employees. \n\n \n\nEvent Registration posted online*. \n\nCheck out who is attending this event. *Registrations are posted from the Chamber office and NOT automatic. \n\n \n\nName (Company):\n\nBarb Kruser - Niles Public Library\n\nDr. Bruce Hertz - Akien-Hertz Family Medical Center\n\nTom Heskin - Brilliant Electric Heating & Cooling\, Inc.\n\nSkip Lawson - Notre Dame College Prep\n\nSharon Angelini - Notre Dame College Prep\n\nJim Churak - Notre Dame College Prep\n\nDenise McCreery - Village of Niles\n\nJohn Koelig - Koelig & Associates\n\nDuscan Varga - Chicago SEO Small Business Marketing Consultant\n\nMaggie Nessim - Faller Insurance Agency\n\nNick Katsoolias - Forest Financial Group Wealth Management \n\nDale Ashcraft - Lin-Mar Motors\, Inc.\n\nRon Lundin - Lin-Mar Motors\, Inc.\n\nAl Katz - Independent Sales Associate\, Pre-Paid Legal\n\nMary Lee Quaid - Lee Acpuncture & Healing\, Inc.\n\nAlexander Barton - Barton & Barton\, Ltd.\n\nLiz Brach - Barton & Barton\, Ltd. \n\nMargaret Maiser - Marge & Associates\, LLC\n\nBill Griffis - Edward Jones\n\nRobert Koch - Amway Independent Business Owner\n\nDr. Pam Low - Professional Eye Care Center\n\nLinda Mathis - Niles Family Fitness Center\n\nLarry Chambers - Ditkowsky Law Office\n\nVince Scaletta - Aflac\n\nJoanne Cwynar - Ambassador\n\nBrucke Glickson - GFS Marketplace\n\nJacob Ehrensaft - Attorney\n\nRich Block - Creative Promotional Products\n\nBret Fahnstrom - Golf Maine Park District\n\nJeff Butler - Kessler\, Orlean\, Silver & Company\n\nRandy Greco - CHoLab\, Inc.\n\nMichael Turner - Senior Helpers of Niles-Lincolnwood\n\nLiz Brach - Barton & Barton\, Ltd.\n\nRanier Krautwald - Paul Davis Emergency Services of Niles\n\nMark Wilde - Paul Davis Emergency Services of Niles\n\nIrv Loundy - Devon Bank\n\nRich Mangold - RCM Home Inspections\, LLC
X-ALT-DESC;FMTTYPE=text/html:<div>&nbsp\;</div>\n\n<div>\n<div align="center"><span style="font-size: large\;"><strong><span style="color: black\; font-style: normal\;"><font face="Verdana"><em>June Business After Hours hosted by:</em></font></span></strong></span></div>\n\n<div align="center"><span style="font-size: 20px\;"><span style="font-family: verdana\;"><span style="color: black\; font-style: normal\;"><font color="#ff0000"><strong>Barnaby&#39\;s Family Inn</strong></font></span></span></span><br />\n&nbsp\;</div>\n</div>\n\n<div><span style="color: black\; font-size: 10pt\; font-style: normal\;"><font face="Verdana">Business After Hours are a great way to network and meet area business owners and company representatives. Remember that networking is not only a resource to gain customers and generate leads\, but also a chance to find new vendors\, share new ideas\, or find new ways to offer benefits to your employees. </font></span></div>\n\n<div><font face="Verdana" size="2">&nbsp\;</font></div>\n\n<div><span style="color: black\; font-size: 10pt\; font-style: normal\;"><font face="Verdana"><strong><font color="#000080">Event Registration posted online*.</font></strong>&nbsp\;</font></span></div>\n\n<div><font face="Verdana"><span style="color: black\; font-size: 10pt\; font-style: normal\;">Check out&nbsp\;who is attending this event. <em>*Registrations are posted from the Chamber office and NOT automatic.</em></span><span style="color: black\; font-size: 10pt\; font-style: normal\;">&nbsp\;</span></font></div>\n\n<div><font face="Verdana" size="2">&nbsp\;</font></div>\n\n<div><span style="color: black\; font-size: 10pt\; font-style: normal\;"><u><strong><font face="Verdana">Name&nbsp\;(Company):</font></strong></u><br />\n<font face="Verdana">Barb Kruser - Niles Public Library<br />\nDr. Bruce Hertz -&nbsp\;Akien-Hertz Family Medical Center<br />\nTom Heskin - Brilliant Electric Heating &amp\; Cooling\, Inc.<br />\nSkip Lawson - Notre Dame College Prep<br />\nSharon Angelini - Notre Dame College Prep<br />\nJim Churak - Notre Dame College Prep<br />\nDenise McCreery - Village of Niles<br />\nJohn Koelig -&nbsp\;Koelig &amp\; Associates<br />\nDuscan Varga - Chicago SEO Small Business Marketing Consultant<br />\nMaggie Nessim - Faller Insurance Agency<br />\nNick Katsoolias - Forest Financial Group Wealth Management&nbsp\;<br />\nDale Ashcraft - Lin-Mar Motors\, Inc.<br />\nRon Lundin - Lin-Mar Motors\, Inc.<br />\nAl Katz&nbsp\;- Independent Sales Associate\,&nbsp\;Pre-Paid Legal<br />\nMary Lee Quaid - Lee Acpuncture &amp\; Healing\, Inc.<br />\nAlexander Barton - Barton &amp\; Barton\, Ltd.<br />\nLiz Brach - Barton &amp\; Barton\, Ltd.&nbsp\;<br />\nMargaret Maiser - Marge &amp\; Associates\, LLC<br />\nBill Griffis - Edward Jones<br />\nRobert Koch - Amway Independent Business Owner<br />\nDr. Pam Low - Professional Eye Care Center<br />\nLinda Mathis - Niles Family Fitness Center<br />\nLarry Chambers -&nbsp\;Ditkowsky Law Office<br />\nVince Scaletta - Aflac<br />\nJoanne Cwynar - Ambassador<br />\nBrucke Glickson - GFS Marketplace<br />\nJacob Ehrensaft - Attorney<br />\nRich Block - Creative Promotional Products<br />\nBret Fahnstrom - Golf Maine Park District<br />\nJeff Butler - Kessler\, Orlean\, Silver &amp\; Company<br />\nRandy Greco - CHoLab\, Inc.</font></span><br />\nMichael Turner - Senior Helpers&nbsp\;of Niles-Lincolnwood<br />\nLiz Brach - Barton &amp\; Barton\, Ltd.<br />\nRanier Krautwald - Paul Davis Emergency Services of Niles<br />\nMark Wilde - Paul Davis Emergency Services of Niles<br />\nIrv Loundy - Devon Bank<br />\nRich Mangold - RCM Home Inspections\, LLC<br />\n<br />\n&nbsp\;</div>\n
LOCATION:Barnaby's Family Inn 7950 N. Caldwell Avenue Niles\, IL 60714
UID:e.151.681
SEQUENCE:3
DTSTAMP:20260420T131447Z
URL:https://business.nileschamber.com/events/details/2011-business-after-hours-june-barnaby-s-06-14-2011-681
END:VEVENT

END:VCALENDAR
