BEGIN:VCALENDAR
VERSION:2.0
PRODID:-//ChamberMaster//Event Calendar 2.0//EN
METHOD:PUBLISH
X-PUBLISHED-TTL:P3D
REFRESH-INTERVAL:P3D
CALSCALE:GREGORIAN
BEGIN:VEVENT
DTSTART:20110120T230000Z
DTEND:20110121T010000Z
X-MICROSOFT-CDO-ALLDAYEVENT:FALSE
SUMMARY:2011 Business After Hours\, January - FirstMerit Bank
DESCRIPTION:January Business After Hours hosted by:\n\nFirstMerit Bank\n\n \n\nBusiness After Hours are a great way to network and meet area business owners and company representatives. Remember that networking is not only a resource to gain customers and generate leads\, but also a chance to find new vendors\, share new ideas\, or find new ways to offer benefits to your employees. \n\n \n\n\nEvent Registration posted online*. \n\nCheck out who is attending the event. Any Chamber member that registers will be listed below. *Registrations are posted from the Chamber office and NOT automatic. \n \n\nName (Company):\n\nHugh Mathis - Resurrection Medical Center\n\nBill Griffis - Edward Jones\n\nDavid Kurtz- Holiday Inn NorthShore\n\nJeff Butler - Kessler\, Orlean\, Silver & Company\n\nDennis Vaccaro - RV Enterprises\, Ltd.\n\nJoyce White - AthletiCo Physical and Occupational Therapy \n\nMichael Turner - Senior Helpers of Niles - Lincolnwood\n\nSandi Abel - First Financial Credit Union \n\nPretty Sheth - MB Financial Bank\n\nVince Scaletta - Aflac\n\nMary Jane Keller - Move Me the Move Managers\n\nRoberta Koch - Amway Independent Business Owner\n\nAna Vinikov - Global Health Clinic\n\nJohn Koelig - Koelig & Associates\n\nPattie Spiegelman - C&M Auto Service Inc. \n\nChuck Hartogh - C&M Auto Service Inc.\n\nRich Block - Creative Promotional Products\n\nGeorge Lowe - Sparkfactor \n\nJoe Walsh - Access Benefit Solutions\n\nDr. Bruce Hertz - Aikens-Hertz Family Medical Center\n\nAl Katz - Independent Sales Associate\, Pre-Paid Legal\n\nBob Wessell - Journal & Topics Newspapers\n\nJim Capparelli - Journal & Topics Newspapers\n\nErica Juris - Juris Remodeling\n\nMichael Juris - Juris Remodeling\n\nBarb Kruser - Niles Public Library\n\nWinston Dacuycuy - FirstMerit Bank\n\nSharmilla Bulsara - FirstMerit Bank\n\nAline Najarro - FirstMerit Bank\n\nMary Lou Ramano - FirstMerit Bank\n\nBret Fahnstrom - Golf Maine Park District\n\nTony Peterson - Physicians Immediate Care\n\nPaul Hunsicker - Hunsicker Electrical Services\n\nSara Hunsicker - JCare Home Medical Supplies\, Inc.\n\nBrad Schwartz - First Data\n\nAmer Kasso - Niles Express Copy\n\nMargaret Maiser - Marge & Associates\, LLC\n\nMichael Looby - Diversified Graphics\n\nJoanne Cwynar - Ambassador\n\nDavid Levine - Illinois Nut & Candy\n\nZach Dicken - Chicago Fire Soccer Club\n\nDean Strzelecki - Niles PoliceDepartment\n\nNick Katsoolias - Forest Financial Group Wealth Management\n\nDr. Jesus Renee Davidas - Seniors Choice Healthcare Inc.
X-ALT-DESC;FMTTYPE=text/html:<div>&nbsp\;</div>\n\n<div align="center"><span style="font-family: verdana\;"><span style="font-size: large\;"><strong><span style="color: black\; font-style: normal\;"><em>January&nbsp\;Business After Hours hosted by:</em></span></strong></span></span></div>\n\n<div align="center"><span style="font-family: verdana\;"><span style="font-size: x-large\;"><span style="color: black\; font-style: normal\;"><font color="#ff0000"><strong>FirstMerit Bank</strong></font></span></span><br />\n&nbsp\;</span></div>\n\n<div><span style="font-family: verdana\;"><span style="color: black\; font-size: 10pt\; font-style: normal\;">Business After Hours are a great way to network and meet area business owners and company representatives. Remember that networking is not only a resource to gain customers and generate leads\, but also a chance to find new vendors\, share new ideas\, or find new ways to offer benefits to your employees. </span></span></div>\n\n<div><span style="font-family: verdana\;"><font size="2">&nbsp\;</font></span></div>\n\n<div>\n<div><span style="font-family: verdana\;"><span style="color: black\; font-size: 10pt\; font-style: normal\;"><strong><font color="#000080"><span style="color: black\; font-size: 10pt\; font-style: normal\;"><strong><font color="#000080">Event Registration posted online*.</font></strong>&nbsp\;</span></font></strong></span></span></div>\n\n<div><span style="font-family: verdana\;"><span style="color: black\; font-size: 10pt\; font-style: normal\;"><strong><font color="#000080"><span style="font-size: small\;"><span style="color: black\; font-style: normal\;">Check out&nbsp\;who is attending the event. Any Chamber member that registers will be listed below. <em>*Registrations are posted from the Chamber office and NOT automatic.</em>&nbsp\;</span></span></font></strong></span></span></div>\n<span style="font-family: verdana\;"><font size="2">&nbsp\;</font></span></div>\n\n<div><span style="font-family: verdana\;"><span style="color: black\; font-size: 10pt\; font-style: normal\;"><u><strong>Name&nbsp\;(Company):</strong></u><br />\nHugh Mathis - Resurrection Medical Center<br />\nBill Griffis - Edward Jones<br />\nDavid Kurtz- Holiday Inn NorthShore<br />\nJeff Butler - Kessler\, Orlean\, Silver &amp\; Company<br />\nDennis Vaccaro - RV Enterprises\, Ltd.<br />\nJoyce White - AthletiCo Physical and Occupational Therapy&nbsp\;<br />\nMichael Turner - Senior Helpers of Niles - Lincolnwood<br />\nSandi Abel&nbsp\;- First Financial Credit Union&nbsp\;<br />\nPretty Sheth - MB Financial&nbsp\;Bank<br />\nVince Scaletta - Aflac<br />\nMary Jane Keller - Move Me the Move Managers<br />\nRoberta Koch - <font color="#000000" face="Verdana" size="2">Amway Independent Business Owner<br />\nAna&nbsp\;Vinikov - Global Health Clinic<br />\nJohn Koelig - Koelig &amp\; Associates<br />\nPattie Spiegelman - C&amp\;M Auto Service Inc.</font>&nbsp\;<br />\n<font color="#000000" face="Verdana" size="2">Chuck Hartogh - C&amp\;M Auto Service Inc.<br />\nRich Block - <font color="#000000" face="Verdana" size="2">Creative Promotional Products</font><br />\nGeorge Lowe -&nbsp\;Sparkfactor&nbsp\;<br />\nJoe Walsh - Access Benefit Solutions<br />\nDr. Bruce Hertz - Aikens-Hertz Family Medical Center<br />\nAl Katz - Independent Sales Associate\, Pre-Paid Legal<br />\nBob Wessell - Journal &amp\; Topics Newspapers<br />\nJim Capparelli - Journal &amp\; Topics Newspapers<br />\nErica Juris - Juris Remodeling<br />\nMichael Juris - Juris Remodeling<br />\nBarb Kruser - Niles Public Library<br />\nWinston Dacuycuy - FirstMerit Bank<br />\nSharmilla Bulsara - <font color="#000000" face="Verdana" size="2">FirstMerit Bank</font><br />\nAline Najarro - <font color="#000000" face="Verdana" size="2">FirstMerit Bank</font><br />\nMary Lou Ramano - <font color="#000000" face="Verdana" size="2">FirstMerit Bank<br />\nBret Fahnstrom - Golf Maine Park District<br />\nTony Peterson - Physicians Immediate Care<br />\nPaul Hunsicker - Hunsicker Electrical Services<br />\nSara Hunsicker - JCare&nbsp\;Home Medical Supplies\, Inc.<br />\nBrad Schwartz - First Data<br />\nAmer Kasso - Niles Express Copy<br />\nMargaret Maiser -&nbsp\;Marge &amp\; Associates\, LLC<br />\nMichael Looby -&nbsp\;Diversified Graphics<br />\nJoanne Cwynar - Ambassador<br />\nDavid Levine - Illinois Nut&nbsp\;&amp\; Candy<br />\nZach Dicken - Chicago Fire Soccer Club<br />\nDean Strzelecki - Niles PoliceDepartment<br />\nNick Katsoolias - Forest Financial Group Wealth Management<br />\nDr. Jesus Renee Davidas - Seniors Choice Healthcare Inc.</font></font></span></span></div>\n
LOCATION:FirstMerit Bank 8720 W Dempster Niles
UID:e.151.218
SEQUENCE:3
DTSTAMP:20260420T195344Z
URL:https://business.nileschamber.com/events/details/2011-business-after-hours-january-firstmerit-bank-01-20-2011-218
END:VEVENT

END:VCALENDAR
