BEGIN:VCALENDAR
VERSION:2.0
PRODID:-//ChamberMaster//Event Calendar 2.0//EN
METHOD:PUBLISH
X-PUBLISHED-TTL:P3D
REFRESH-INTERVAL:P3D
CALSCALE:GREGORIAN
BEGIN:VEVENT
DTSTART:20110217T230000Z
DTEND:20110218T010000Z
X-MICROSOFT-CDO-ALLDAYEVENT:FALSE
SUMMARY:2011 Business After Hours\, February - Terrace Gardens
DESCRIPTION:February Multi-Chamber\n\nBusiness After Hours hosted by:\n\nTerrace Gardens Assisted Living\n\n \n\nBusiness After Hours are a great way to network and meet area business owners and company representatives. Remember that networking is not only a resource to gain customers and generate leads\, but also a chance to find new vendors\, share new ideas\, or find new ways to offer benefits to your employees. \n\n \n\n\nEvent Registration posted online*. \n\nCheck out who is attending the event. Any Chamber member that registers will be listed below. *Registrations are posted from the Chamber office and NOT automatic. \n \n\nName (Company):\n\nAl Katz -Independent Sales Associate\, Pre-Paid Legal \n\nTom Gregory - FirstMerit Bank\n\nWinston Dacuycuy - FirstMerit Bank\n\nPeter Burgraf - FirstMerit Bank\n\nDusan Varga - Chicago SEO Small Business Marketing Consultant\n\nMelinda Kubak - All About Living\, Inc.\n\nMargaret Maiser - Marge & Associates\, LLC\n\nAllison Pawlicki - Advocate Family Law\n\nAmer Kasso - Niles Express Copy\n\nMichael Turner - Senior Helpers of Niles-Lincolnwood\n\nJohn Koelig - Koelig & Associates\n\nTony Peterson - Immediate Physicians Care\n\nBarb Kruser - Niles Public Library\n\nBret Fahnstrom - Golf Maine Park District\n\nRich Block - Creative Promotional Products\n\nEd Reier - Contour Landscaping\, Inc.\n\nJoe Hedrick - American Legion Morton Grove Post 134 \n\nDick Barton - Barton & Barton\, Ltd.\n\nRegina Verdico - Golf Mill Shopping Center\n\nAngelika Jurczyk - Golf Mill Shopping Center\n\nBrad Schwartz - First Data\n\nChuck Hartogh - C&M Auto Service\, Inc.\n\nPattie Spiegelman - C&M Auto Service\, Inc.\n\nSandi Abel - First Financial Credit Union\n\nVicky Katsakos - First American Bank\n\nJacob Ehrensaft - Attorney\n\nMichael Molitor - Allstate Insurance\n\nJoe Walsh - Access Benefit Solutions\n\nJoanne Cwynar - Ambassador\n\nMichael Looby - Diversified Graphics\n\nGrace Wisowaty - Stitch Mine Embroidery\n\nTom Heskin - Brilliant Electric Heating & Cooling\, Inc.\n\n\n\n\n\nJohnJohn RichRc
X-ALT-DESC;FMTTYPE=text/html:<div>&nbsp\;</div>\n\n<div align="center"><span style="font-size: large\;"><strong><span style="color: black\; font-style: normal\;"><font face="Verdana"><em>February Multi-Chamber<br />\nBusiness After Hours hosted by:</em></font></span></strong></span></div>\n\n<div align="center"><span style="font-family: verdana\;"><span style="color: rgb(178\, 34\, 34)\;"><span style="font-size: 20px\;"><strong><span style="font-style: normal\;">Terrace</span> Gardens Assisted Living</strong></span></span></span><br />\n&nbsp\;</div>\n\n<div><span style="color: black\; font-size: 10pt\; font-style: normal\;"><font face="Verdana">Business After Hours are a great way to network and meet area business owners and company representatives. Remember that networking is not only a resource to gain customers and generate leads\, but also a chance to find new vendors\, share new ideas\, or find new ways to offer benefits to your employees. </font></span></div>\n\n<div><font face="Verdana" size="2">&nbsp\;</font></div>\n\n<div>\n<div><span style="color: black\; font-size: 10pt\; font-style: normal\;"><font face="Verdana"><strong><font color="#000080"><span style="color: black\; font-size: 10pt\; font-style: normal\;"><font face="Verdana"><strong><font color="#000080">Event Registration posted online*.</font></strong>&nbsp\;</font></span></font></strong></font></span></div>\n\n<div><span style="color: black\; font-size: 10pt\; font-style: normal\;"><font face="Verdana"><strong><font color="#000080"><span style="font-family: verdana\;"><span style="font-size: small\;"><span style="color: black\; font-style: normal\;">Check out&nbsp\;who is attending the event. Any Chamber member that registers will be listed below. <em>*Registrations are posted from the Chamber office and NOT automatic.</em>&nbsp\;</span></span></span></font></strong></font></span></div>\n<font face="Verdana" size="2">&nbsp\;</font></div>\n\n<div><span style="color: black\; font-size: 10pt\; font-style: normal\;"><strong><u><font face="Verdana">Name&nbsp\;(Company):</font></u></strong><br />\n<font face="Verdana">Al Katz -<font color="#000000" face="Verdana" size="2">Independent Sales Associate\, Pre-Paid Legal</font>&nbsp\;<br />\n<font face="Tahoma" size="2">Tom Gregory -&nbsp\;FirstMerit Bank<br />\nWinston Dacuycuy -&nbsp\;FirstMerit Bank<br />\nPeter Burgraf -&nbsp\;FirstMerit Bank<br />\nDusan Varga -&nbsp\;Chicago SEO Small Business Marketing Consultant<br />\nMelinda Kubak -&nbsp\;All About Living\, Inc.<br />\nMargaret Maiser -&nbsp\;Marge &amp\; Associates\, LLC<br />\nAllison Pawlicki -&nbsp\;Advocate Family Law<br />\nAmer Kasso -&nbsp\;Niles Express Copy<br />\nMichael Turner -&nbsp\;Senior Helpers of Niles-Lincolnwood<br />\nJohn Koelig -&nbsp\;Koelig &amp\; Associates<br />\nTony Peterson -&nbsp\;Immediate Physicians Care<br />\nBarb Kruser - Niles Public Library<br />\nBret Fahnstrom -&nbsp\;Golf Maine Park District<br />\nRich Block - Creative Promotional Products<br />\nEd Reier - Contour Landscaping\, Inc.<br />\nJoe Hedrick - American Legion Morton Grove Post 134&nbsp\;<br />\nDick Barton - Barton &amp\; Barton\, Ltd.<br />\nRegina Verdico - Golf Mill Shopping Center<br />\nAngelika Jurczyk - Golf Mill Shopping Center<br />\nBrad Schwartz - First Data<br />\nChuck Hartogh - C&amp\;M Auto Service\, Inc.<br />\nPattie Spiegelman - C&amp\;M Auto Service\, Inc.<br />\nSandi Abel - First Financial Credit Union<br />\nVicky Katsakos - First American Bank<br />\nJacob Ehrensaft - Attorney<br />\nMichael Molitor - Allstate Insurance<br />\nJoe Walsh -&nbsp\;Access Benefit Solutions<br />\nJoanne Cwynar -&nbsp\;Ambassador<br />\nMichael Looby - Diversified Graphics<br />\nGrace Wisowaty - Stitch Mine Embroidery<br />\nTom Heskin - Brilliant Electric Heating &amp\; Cooling\, Inc.</font></font><br />\n<br />\n<br />\n<font face="Verdana"><font color="#000000" face="Verdana" size="2"><span _fck_bookmark="1" style="display: none\;">JohnJohn&nbsp\;RichRc</span></font></font></span></div>\n
LOCATION:Terrace Gardens Assisted Living 8415 Waukegan Road Morton Grove\, IL 60053
UID:e.151.609
SEQUENCE:3
DTSTAMP:20260420T164301Z
URL:https://business.nileschamber.com/events/details/2011-business-after-hours-february-terrace-gardens-02-17-2011-609
END:VEVENT

END:VCALENDAR
