BEGIN:VCALENDAR
VERSION:2.0
PRODID:-//ChamberMaster//Event Calendar 2.0//EN
METHOD:PUBLISH
X-PUBLISHED-TTL:P3D
REFRESH-INTERVAL:P3D
CALSCALE:GREGORIAN
BEGIN:VEVENT
DTSTART:20110825T220000Z
DTEND:20110826T000000Z
X-MICROSOFT-CDO-ALLDAYEVENT:FALSE
SUMMARY:2011 Business After Hours\, August - Ridgewood Gardens
DESCRIPTION:August Business After Hours hosted by:\n\nRidgewood Gardens\n\n \n\n\nBusiness After Hours are a great way to network and meet area business owners and company representatives. Remember that networking is not only a resource to gain customers and generate leads\, but also a chance to find new vendors\, share new ideas\, or find new ways to offer benefits to your employees. \n\n \n\nEvent Registration posted online*. \n\nCheck out who is attending this event. *Registrations are posted from the Chamber office and NOT automatic. \n\n \n\nName (Company):\n\nJohn Koelig - Koelig & Associates\n\nVince Scaletta - Aflac\n\nMichael Connole - Comcast Business Services\n\nJacob Ehrensaft - Law Offices of Jacob Ehrensaft\n\nDennis Vaccro - RV Enterprises\, Ltd.\n\nDick Barton - Barton Marketing Group\n\nKris Hansen - The Bethany Terrace\n\nSue Wilsey - Niles Public Library\n\nBarb Kruser - Niles Public Library\n\nMaggie Nessim - Faller Insurance Agency\n\nMargaret Maiser - Marge & Associates\, LLC\n\nMonika Kalicki - Golf Mill Shopping Center\n\nMike Williams - Golf Mill Shopping Center\n\nRobin Scaletta - Italian Gardens Landscaping\n\nCiro Scaletta - Italian Gardens Landscaping\n\nGeorge Lowe - Sparkfactor\n\nBob Raminiak - Raminiak\, Piper & Company\n\nSteven Bonica - Romanian-American Netwoking\, Inc.\n\nDr. Bruce Hertz - Aikens-Hertz Medical Center\n\nAlbert Riehle - Amerimac\n\nPatrick McDonnell - Amerimac\n\nTony Toy - Niles Baseball League\n\nCarrie Emerson - St. Matthew Center for Health\n\nJeffrey Butler - Kessler\, Orlean\, Silver & Company\, PC\n\nBill Griffis - Edward Jones\n\nSandi Abel - First Financial Credit Union
X-ALT-DESC;FMTTYPE=text/html:<div>&nbsp\;</div>\n\n<div>\n<div align="center"><span style="font-family: verdana\;"><span style="font-size: large\;"><strong><span style="color: black\; font-style: normal\;"><em>August Business After Hours hosted by:</em></span></strong></span></span></div>\n\n<div align="center"><span style="font-family: verdana\;"><span style="font-size: 20px\;"><span style="color: black\; font-style: normal\;"><font color="#ff0000"><strong>Ridgewood Gardens</strong></font></span></span><br />\n&nbsp\;</span></div>\n</div>\n\n<div><span style="font-family: verdana\;"><span style="color: black\; font-size: 10pt\; font-style: normal\;">Business After Hours are a great way to network and meet area business owners and company representatives. Remember that networking is not only a resource to gain customers and generate leads\, but also a chance to find new vendors\, share new ideas\, or find new ways to offer benefits to your employees. </span></span></div>\n\n<div><span style="font-family: verdana\;"><font size="2">&nbsp\;</font></span></div>\n\n<div><span style="font-family: verdana\;"><span style="color: black\; font-size: 10pt\; font-style: normal\;"><strong><font color="#000080">Event Registration posted online*.</font></strong>&nbsp\;</span></span></div>\n\n<div><span style="font-family: verdana\;"><span style="color: black\; font-size: 10pt\; font-style: normal\;">Check out&nbsp\;who is attending this event. <em>*Registrations are posted from the Chamber office and NOT automatic.</em></span><span style="color: black\; font-size: 10pt\; font-style: normal\;">&nbsp\;</span></span></div>\n\n<div><span style="font-family: verdana\;"><font size="2">&nbsp\;</font></span></div>\n\n<div><span style="font-family: verdana\;"><span style="color: black\; font-size: 10pt\; font-style: normal\;"><u><strong>Name&nbsp\;(Company):</strong></u><br />\nJohn Koelig - Koelig &amp\;&nbsp\;Associates<br />\nVince Scaletta - Aflac<br />\nMichael Connole - Comcast Business Services<br />\nJacob Ehrensaft - Law Offices of Jacob Ehrensaft<br />\nDennis Vaccro - RV Enterprises\, Ltd.<br />\nDick Barton - Barton&nbsp\;Marketing Group<br />\nKris Hansen - The Bethany Terrace<br />\nSue Wilsey - Niles Public Library<br />\nBarb Kruser - Niles Public Library<br />\nMaggie Nessim - Faller Insurance Agency<br />\nMargaret Maiser - Marge &amp\;&nbsp\;Associates\, LLC<br />\nMonika Kalicki - Golf Mill Shopping Center<br />\nMike Williams - Golf Mill Shopping Center<br />\nRobin Scaletta - Italian Gardens Landscaping<br />\nCiro Scaletta - Italian Gardens Landscaping<br />\nGeorge Lowe - Sparkfactor<br />\nBob Raminiak - Raminiak\,&nbsp\;Piper &amp\; Company<br />\nSteven Bonica - Romanian-American Netwoking\, Inc.<br />\nDr. Bruce&nbsp\;Hertz - Aikens-Hertz Medical Center<br />\nAlbert Riehle - Amerimac<br />\nPatrick McDonnell - Amerimac<br />\nTony Toy - Niles Baseball League<br />\nCarrie Emerson - St. Matthew Center for Health<br />\nJeffrey Butler - Kessler\,&nbsp\;Orlean\, Silver &amp\; Company\, PC<br />\nBill Griffis - Edward Jones<br />\nSandi Abel - First Financial Credit Union</span></span><br />\n&nbsp\;</div>\n
LOCATION:Ridgewood Gardens 6569 N. Milwaukee Avenue Niles\, IL 60714 Parking available at Walewski Momunments across the street and residential parking along Albion.
UID:e.151.692
SEQUENCE:3
DTSTAMP:20260420T084153Z
URL:https://business.nileschamber.com/events/details/2011-business-after-hours-august-ridgewood-gardens-08-25-2011-692
END:VEVENT

END:VCALENDAR
