BEGIN:VCALENDAR
VERSION:2.0
PRODID:-//ChamberMaster//Event Calendar 2.0//EN
METHOD:PUBLISH
X-PUBLISHED-TTL:P3D
REFRESH-INTERVAL:P3D
CALSCALE:GREGORIAN
BEGIN:VEVENT
DTSTART:20110419T220000Z
DTEND:20110420T000000Z
X-MICROSOFT-CDO-ALLDAYEVENT:FALSE
SUMMARY:2011 Business After Hours\, April - Athletico
DESCRIPTION:April Business After Hours hosted by:\n\nAthletiCo Physical and\n\nOccupational Therapy\n\n \n\n\nBusiness After Hours are a great way to network and meet area business owners and company representatives. Remember that networking is not only a resource to gain customers and generate leads\, but also a chance to find new vendors\, share new ideas\, or find new ways to offer benefits to your employees. \n\n \n\nEvent Registration posted online*. \n\nCheck out who is attending this event. *Registrations are posted from the Chamber office and NOT automatic. \n\n \n\nName (Company):\n\nDean Strzelecki - Niles Police Department\n\nBarb Kruser - Niles Public Library\n\nJim Caparrelli - Journal Newspapers\n\nCarol Goodman - Perfection Countertops & Custom Closets\n\nBill Griffis - Edward Jones\n\nMary Jane Keller - Move Me Move Manager\n\nJohn Koelig - Koelig & Associates\n\nBill Conlanes - XSport Fitness\n\nZori Miranda - XSport Fitness\n\nRita Lewandowski - Attorney\n\nJacob Ehrensaft - Attorney\n\nVince Scaletta - Aflac\n\nSheila Ryan - Express Employment Professionals\n\nDennis Vaccaro - RV Enterprises\, Ltd.\n\nJoe Walsh - Access Benefit Solutions\n\nAllison Pawlicki - Advocate Family Law\n\nAl Katz - Independent Sales Associate\, Pre-Paid Legal\n\nMichael Molitor - Allstate Insurance\n\nJoseph Hedrick - Hedrick - American Legion Morton Grove Post 134\n\nRoberta Koch - Amway Independent Business Owner\n\nPattie Spiegelman - C&M Auto Service Inc.\n\nJoanne Cwynar - Ambassador\n\nBret Fahstrom - Golf Maine Park District\n\nJeffrey Butler - Kessler\, Orlean\, Silver & Company\, P.C.\n\nMargaret Masier - Marge & Associates\, LLC\n\nBeata Mikita-Glenn - PNC Bank\n\nAnna Nawara - PNC Bank\n\nKrystyna Koda - Ridgewood Gardens\, Inc.\n\nMichael Turner - Senior Helpers of Niles - Lincolnwood\n\nJacob Ehrensaft - Attorney\n\nDr. Jesus REne Dadivas - Senior Choice Healthcare\, Inc.\n\nJack Stachnik - TV Facts\n\nFaythe Bernheim - Jewel/Osco\n\nNorbert Johnson - Johnson Real Estate\n\nJoe Penze - Niles Police Department\n\nChris Zalinski - Chris' Landscape Inc.\n\nAl Yabi - ASAYA Solutions\, Inc.\n\nMarimel Lim - Citibank\n\nCarl Maniscalco - Niles Family Fitness Center\n\nGary Glenn - Stitch Mine Custom Embroidery\n\nDavid Baker - Stitch Mine Custom Embroidery\n\nNick Katsoolias - Forest Financial Group Wealth Management
X-ALT-DESC;FMTTYPE=text/html:<div>&nbsp\;</div>\n\n<div>\n<div align="center"><span style="font-size: large\;"><strong><span style="color: black\; font-style: normal\;"><font face="Verdana"><em>April Business After Hours hosted by:</em></font></span></strong></span></div>\n\n<div align="center"><span style="font-size: 20px\;"><span style="font-family: verdana\;"><span style="color: black\; font-style: normal\;"><font color="#ff0000"><strong>AthletiCo Physical and<br />\nOccupational Therapy</strong></font></span></span></span><br />\n&nbsp\;</div>\n</div>\n\n<div><span style="color: black\; font-size: 10pt\; font-style: normal\;"><font face="Verdana">Business After Hours are a great way to network and meet area business owners and company representatives. Remember that networking is not only a resource to gain customers and generate leads\, but also a chance to find new vendors\, share new ideas\, or find new ways to offer benefits to your employees. </font></span></div>\n\n<div><font face="Verdana" size="2">&nbsp\;</font></div>\n\n<div><span style="color: black\; font-size: 10pt\; font-style: normal\;"><font face="Verdana"><strong><font color="#000080">Event Registration posted online*.</font></strong>&nbsp\;</font></span></div>\n\n<div><font face="Verdana"><span style="color: black\; font-size: 10pt\; font-style: normal\;">Check out&nbsp\;who is attending this event. <em>*Registrations are posted from the Chamber office and NOT automatic.</em></span><span style="color: black\; font-size: 10pt\; font-style: normal\;">&nbsp\;</span></font></div>\n\n<div><font face="Verdana" size="2">&nbsp\;</font></div>\n\n<div><span style="color: black\; font-size: 10pt\; font-style: normal\;"><u><strong><font face="Verdana">Name&nbsp\;(Company):</font></strong></u><br />\n<font face="Verdana">Dean Strzelecki - Niles Police Department<br />\nBarb Kruser - Niles Public Library<br />\nJim Caparrelli - Journal Newspapers<br />\nCarol Goodman - Perfection Countertops &amp\; Custom Closets<br />\nBill Griffis - Edward Jones<br />\nMary Jane Keller - Move Me Move Manager<br />\nJohn Koelig - Koelig &amp\; Associates<br />\nBill Conlanes - XSport Fitness<br />\nZori Miranda - XSport Fitness<br />\nRita Lewandowski - Attorney<br />\nJacob Ehrensaft - Attorney<br />\nVince Scaletta - Aflac<br />\nSheila Ryan - Express Employment Professionals<br />\nDennis Vaccaro - RV Enterprises\, Ltd.<br />\nJoe Walsh - Access Benefit Solutions<br />\nAllison Pawlicki - Advocate Family Law<br />\nAl Katz - Independent Sales Associate\, Pre-Paid Legal<br />\nMichael Molitor - Allstate Insurance<br />\nJoseph Hedrick - Hedrick - American Legion Morton Grove Post 134<br />\nRoberta Koch - Amway Independent Business Owner<br />\nPattie Spiegelman - C&amp\;M Auto Service Inc.<br />\nJoanne Cwynar -&nbsp\;Ambassador<br />\nBret Fahstrom - Golf Maine Park District<br />\nJeffrey Butler - Kessler\, Orlean\, Silver &amp\; Company\, P.C.<br />\nMargaret Masier - Marge &amp\; Associates\, LLC<br />\nBeata Mikita-Glenn - PNC Bank<br />\nAnna Nawara - PNC Bank<br />\nKrystyna Koda - Ridgewood Gardens\, Inc.<br />\nMichael Turner - Senior Helpers of Niles - Lincolnwood<br />\nJacob Ehrensaft - Attorney<br />\nDr. Jesus REne Dadivas - Senior Choice Healthcare\, Inc.<br />\nJack Stachnik - TV Facts<br />\nFaythe Bernheim - Jewel/Osco<br />\nNorbert Johnson - Johnson Real Estate<br />\nJoe Penze - Niles Police Department<br />\nChris Zalinski - Chris&#39\; Landscape Inc.<br />\nAl Yabi - ASAYA Solutions\, Inc.<br />\nMarimel Lim - Citibank<br />\nCarl Maniscalco - Niles Family Fitness Center<br />\nGary Glenn - Stitch Mine Custom Embroidery<br />\nDavid Baker - Stitch Mine Custom Embroidery<br />\nNick Katsoolias - Forest Financial Group Wealth Management</font></span><br />\n<br />\n<br />\n&nbsp\;</div>\n
LOCATION:AthletiCo Physical and Occupational Therapy 6000 W. Touhy Avenue Chicago\, IL 60646
UID:e.151.666
SEQUENCE:3
DTSTAMP:20260420T160143Z
URL:https://business.nileschamber.com/events/details/2011-business-after-hours-april-athletico-04-19-2011-666
END:VEVENT

END:VCALENDAR
