BEGIN:VCALENDAR
VERSION:2.0
PRODID:-//ChamberMaster//Event Calendar 2.0//EN
METHOD:PUBLISH
X-PUBLISHED-TTL:P3D
REFRESH-INTERVAL:P3D
CALSCALE:GREGORIAN
BEGIN:VEVENT
DTSTART:20111020T123000Z
DTEND:20111020T140000Z
X-MICROSOFT-CDO-ALLDAYEVENT:FALSE
SUMMARY:2011 Breakfast Club Networking Event
DESCRIPTION:Get More Customers and Improve Your Bottom Line\n\n\n\nFran Tarkenton invites you to join the\n\nBreakfast Club Networking Event with\n\nSpecial guest Jay Abraham\n\n\n\nJay is the founder and CEO of Abraham Group\, Inc. in Los Angeles\, California. For over three decades\, he has been solving problems and significantly increasing the bottom lines of over 10\,000 clients in more than 400 industries worldwide.\n\n\n\nOne of Jay's most succesful strategies is to take marketing methods from a wide variety of industries and rework them for new businesses.\n\n\n\nAt the Breakfast Club Networking Event you'll be able to: \n\n\n	Expose your business to other local businsses \n	Acquire new prospects and clients\n\n\nThis is a marketing opportunity\, so bring coupons\, business cards\, promotional materials and share with the group.\n\n\n\nBreakfast Sponsored by:\n\nLavelle Law\,LLC\n\n\n\nOrganized by the:\n\nNetConnect Networking Group\n\nNiles Chamber of Commerce\n\nMorton Grove Chamber of Commerce
X-ALT-DESC;FMTTYPE=text/html:<p><span style="font-family: verdana\;"><span style="font-size: 16px\;"><strong>Get More Customers and Improve Your Bottom Line</strong></span><br />\n<br />\n<em><span style="font-size: 16px\;">Fran Tarkenton invites you to join the<br />\nBreakfast Club Networking Event with<br />\nSpecial guest Jay Abraham</span></em><br />\n<br />\nJay is the founder and CEO of Abraham Group\, Inc. in Los Angeles\, California. For over three decades\, he has been solving problems and significantly increasing the bottom lines of over 10\,000 clients in more than 400 industries worldwide.<br />\n<br />\nOne of Jay&#39\;s most succesful strategies is to take marketing methods from a wide variety of industries and rework them for new businesses.<br />\n<br />\nAt the Breakfast Club Networking Event you&#39\;ll be able to: </span></p>\n\n<ul>\n	<li><span style="font-family: verdana\;">Expose your business to other local businsses </span></li>\n	<li><span style="font-family: verdana\;">Acquire new prospects and clients</span></li>\n</ul>\n\n<p><span style="font-family: verdana\;">This is a marketing opportunity\, so bring coupons\, business cards\, promotional materials and share with the group.</span><br />\n<br />\n<span style="font-family: verdana\;"><strong>Breakfast Sponsored by</strong>:<br />\nLavelle Law\,LLC<br />\n<br />\n<strong>Organized by the:</strong><br />\nNetConnect Networking Group<br />\nNiles Chamber of Commerce<br />\nMorton Grove Chamber of Commerce</span><br />\n&nbsp\;</p>\n
LOCATION:Harris Bank 7077 W. Dempster Street (Dempster and Shermer) Niles\, IL 60714 (847) 967-8000
UID:e.151.710
SEQUENCE:3
DTSTAMP:20260420T040211Z
URL:https://business.nileschamber.com/events/details/2011-breakfast-club-networking-event-10-20-2011-710
END:VEVENT

END:VCALENDAR
